BEGIN:VCALENDAR
VERSION:2.0
PRODID:-//ГБУЗ ЯО &quot;Медицинский информационно-аналитический центр&quot; - ECPv6.15.17.1//NONSGML v1.0//EN
CALSCALE:GREGORIAN
METHOD:PUBLISH
X-ORIGINAL-URL:https://miac.zdrav76.ru
X-WR-CALDESC:Мероприятия для ГБУЗ ЯО &quot;Медицинский информационно-аналитический центр&quot;
REFRESH-INTERVAL;VALUE=DURATION:PT1H
X-Robots-Tag:noindex
X-PUBLISHED-TTL:PT1H
BEGIN:VTIMEZONE
TZID:Europe/Moscow
BEGIN:STANDARD
TZOFFSETFROM:+0300
TZOFFSETTO:+0300
TZNAME:MSK
DTSTART:20250101T000000
END:STANDARD
END:VTIMEZONE
BEGIN:VEVENT
DTSTART;TZID=Europe/Moscow:20260407T090000
DTEND;TZID=Europe/Moscow:20260407T093000
DTSTAMP:20260421T113049
CREATED:20260402T103559Z
LAST-MODIFIED:20260402T103559Z
UID:37860-1775552400-1775554200@miac.zdrav76.ru
SUMMARY:Сдача дежурств за предыдущий день в стационаре
DESCRIPTION:
URL:https://miac.zdrav76.ru/event/%d0%a1%d0%b4%d0%b0%d1%87%d0%b0-%d0%b4%d0%b5%d0%b6%d1%83%d1%80%d1%81%d1%82%d0%b2-%d0%b7%d0%b0-%d0%bf%d1%80%d0%b5%d0%b4%d1%8b%d0%b4%d1%83%d1%89%d0%b8%d0%b9-%d0%b4%d0%b5%d0%bd%d1%8c-%d0%b2-%d1%81-413/
END:VEVENT
BEGIN:VEVENT
DTSTART;TZID=Europe/Moscow:20260407T110000
DTEND;TZID=Europe/Moscow:20260407T120000
DTSTAMP:20260421T113049
CREATED:20260406T060946Z
LAST-MODIFIED:20260406T060946Z
UID:37878-1775559600-1775563200@miac.zdrav76.ru
SUMMARY:Реорганизация скорой медицинской помощи
DESCRIPTION:
URL:https://miac.zdrav76.ru/event/%d0%a0%d0%b5%d0%be%d1%80%d0%b3%d0%b0%d0%bd%d0%b8%d0%b7%d0%b0%d1%86%d0%b8%d1%8f-%d1%81%d0%ba%d0%be%d1%80%d0%be%d0%b9-%d0%bc%d0%b5%d0%b4%d0%b8%d1%86%d0%b8%d0%bd%d1%81%d0%ba%d0%be%d0%b9-%d0%bf%d0%be/
END:VEVENT
BEGIN:VEVENT
DTSTART;TZID=Europe/Moscow:20260407T150000
DTEND;TZID=Europe/Moscow:20260407T163000
DTSTAMP:20260421T113049
CREATED:20260402T103747Z
LAST-MODIFIED:20260402T103747Z
UID:37868-1775574000-1775579400@miac.zdrav76.ru
SUMMARY:1С. Текущие проекты
DESCRIPTION:
URL:https://miac.zdrav76.ru/event/1%d0%a1-%d0%a2%d0%b5%d0%ba%d1%83%d1%89%d0%b8%d0%b5-%d0%bf%d1%80%d0%be%d0%b5%d0%ba%d1%82%d1%8b-61/
END:VEVENT
END:VCALENDAR