BEGIN:VCALENDAR
VERSION:2.0
PRODID:-//ГБУЗ ЯО &quot;Медицинский информационно-аналитический центр&quot; - ECPv6.15.17.1//NONSGML v1.0//EN
CALSCALE:GREGORIAN
METHOD:PUBLISH
X-ORIGINAL-URL:https://miac.zdrav76.ru
X-WR-CALDESC:Мероприятия для ГБУЗ ЯО &quot;Медицинский информационно-аналитический центр&quot;
REFRESH-INTERVAL;VALUE=DURATION:PT1H
X-Robots-Tag:noindex
X-PUBLISHED-TTL:PT1H
BEGIN:VTIMEZONE
TZID:Europe/Moscow
BEGIN:STANDARD
TZOFFSETFROM:+0300
TZOFFSETTO:+0300
TZNAME:MSK
DTSTART:20250101T000000
END:STANDARD
END:VTIMEZONE
BEGIN:VEVENT
DTSTART;TZID=Europe/Moscow:20260310T090000
DTEND;TZID=Europe/Moscow:20260310T093000
DTSTAMP:20260421T180217
CREATED:20260305T114341Z
LAST-MODIFIED:20260305T114341Z
UID:37723-1773133200-1773135000@miac.zdrav76.ru
SUMMARY:Сдача дежурств за предыдущий день в стационаре
DESCRIPTION:
URL:https://miac.zdrav76.ru/event/%d0%a1%d0%b4%d0%b0%d1%87%d0%b0-%d0%b4%d0%b5%d0%b6%d1%83%d1%80%d1%81%d1%82%d0%b2-%d0%b7%d0%b0-%d0%bf%d1%80%d0%b5%d0%b4%d1%8b%d0%b4%d1%83%d1%89%d0%b8%d0%b9-%d0%b4%d0%b5%d0%bd%d1%8c-%d0%b2-%d1%81-394/
END:VEVENT
BEGIN:VEVENT
DTSTART;TZID=Europe/Moscow:20260310T120000
DTEND;TZID=Europe/Moscow:20260310T133000
DTSTAMP:20260421T180217
CREATED:20260306T100053Z
LAST-MODIFIED:20260306T100053Z
UID:37741-1773144000-1773149400@miac.zdrav76.ru
SUMMARY:Текущие вопросы
DESCRIPTION:
URL:https://miac.zdrav76.ru/event/%d0%a2%d0%b5%d0%ba%d1%83%d1%89%d0%b8%d0%b5-%d0%b2%d0%be%d0%bf%d1%80%d0%be%d1%81%d1%8b-2/
END:VEVENT
BEGIN:VEVENT
DTSTART;TZID=Europe/Moscow:20260310T150000
DTEND;TZID=Europe/Moscow:20260310T163000
DTSTAMP:20260421T180217
CREATED:20260305T114540Z
LAST-MODIFIED:20260305T114540Z
UID:37729-1773154800-1773160200@miac.zdrav76.ru
SUMMARY:1С. Текущие проекты
DESCRIPTION:
URL:https://miac.zdrav76.ru/event/1%d0%a1-%d0%a2%d0%b5%d0%ba%d1%83%d1%89%d0%b8%d0%b5-%d0%bf%d1%80%d0%be%d0%b5%d0%ba%d1%82%d1%8b-57/
END:VEVENT
END:VCALENDAR