BEGIN:VCALENDAR
VERSION:2.0
PRODID:-//ГБУЗ ЯО &quot;Медицинский информационно-аналитический центр&quot; - ECPv6.15.17.1//NONSGML v1.0//EN
CALSCALE:GREGORIAN
METHOD:PUBLISH
X-ORIGINAL-URL:https://miac.zdrav76.ru
X-WR-CALDESC:Мероприятия для ГБУЗ ЯО &quot;Медицинский информационно-аналитический центр&quot;
REFRESH-INTERVAL;VALUE=DURATION:PT1H
X-Robots-Tag:noindex
X-PUBLISHED-TTL:PT1H
BEGIN:VTIMEZONE
TZID:Europe/Moscow
BEGIN:STANDARD
TZOFFSETFROM:+0300
TZOFFSETTO:+0300
TZNAME:MSK
DTSTART:20250101T000000
END:STANDARD
END:VTIMEZONE
BEGIN:VEVENT
DTSTART;TZID=Europe/Moscow:20260306T090000
DTEND;TZID=Europe/Moscow:20260306T093000
DTSTAMP:20260421T191234
CREATED:20260227T060032Z
LAST-MODIFIED:20260227T060032Z
UID:37696-1772787600-1772789400@miac.zdrav76.ru
SUMMARY:Сдача дежурств за предыдущий день в стационаре
DESCRIPTION:
URL:https://miac.zdrav76.ru/event/%d0%a1%d0%b4%d0%b0%d1%87%d0%b0-%d0%b4%d0%b5%d0%b6%d1%83%d1%80%d1%81%d1%82%d0%b2-%d0%b7%d0%b0-%d0%bf%d1%80%d0%b5%d0%b4%d1%8b%d0%b4%d1%83%d1%89%d0%b8%d0%b9-%d0%b4%d0%b5%d0%bd%d1%8c-%d0%b2-%d1%81-392/
END:VEVENT
BEGIN:VEVENT
DTSTART;TZID=Europe/Moscow:20260306T090000
DTEND;TZID=Europe/Moscow:20260306T103000
DTSTAMP:20260421T191234
CREATED:20260305T105030Z
LAST-MODIFIED:20260305T105030Z
UID:37719-1772787600-1772793000@miac.zdrav76.ru
SUMMARY:Блокирующие факторы исполнения ГК
DESCRIPTION:
URL:https://miac.zdrav76.ru/event/%d0%91%d0%bb%d0%be%d0%ba%d0%b8%d1%80%d1%83%d1%8e%d1%89%d0%b8%d0%b5-%d1%84%d0%b0%d0%ba%d1%82%d0%be%d1%80%d1%8b-%d0%b8%d1%81%d0%bf%d0%be%d0%bb%d0%bd%d0%b5%d0%bd%d0%b8%d1%8f-%d0%93%d0%9a/
END:VEVENT
BEGIN:VEVENT
DTSTART;TZID=Europe/Moscow:20260306T103000
DTEND;TZID=Europe/Moscow:20260306T113000
DTSTAMP:20260421T191234
CREATED:20260306T074534Z
LAST-MODIFIED:20260306T074534Z
UID:37739-1772793000-1772796600@miac.zdrav76.ru
SUMMARY:МЗ ЯО- МинЭко
DESCRIPTION:
URL:https://miac.zdrav76.ru/event/%d0%9c%d0%97-%d0%af%d0%9e-%d0%9c%d0%b8%d0%bd%d0%ad%d0%ba%d0%be/
END:VEVENT
BEGIN:VEVENT
DTSTART;TZID=Europe/Moscow:20260306T113000
DTEND;TZID=Europe/Moscow:20260306T123000
DTSTAMP:20260421T191234
CREATED:20260227T060503Z
LAST-MODIFIED:20260227T060503Z
UID:37712-1772796600-1772800200@miac.zdrav76.ru
SUMMARY:1С. Техническая поддержка
DESCRIPTION:
URL:https://miac.zdrav76.ru/event/1%d0%a1-%d0%a2%d0%b5%d1%85%d0%bd%d0%b8%d1%87%d0%b5%d1%81%d0%ba%d0%b0%d1%8f-%d0%bf%d0%be%d0%b4%d0%b4%d0%b5%d1%80%d0%b6%d0%ba%d0%b0-24/
END:VEVENT
BEGIN:VEVENT
DTSTART;TZID=Europe/Moscow:20260306T140000
DTEND;TZID=Europe/Moscow:20260306T153000
DTSTAMP:20260421T191234
CREATED:20260227T060309Z
LAST-MODIFIED:20260227T060309Z
UID:37706-1772805600-1772811000@miac.zdrav76.ru
SUMMARY:1С. Показ функционала
DESCRIPTION:
URL:https://miac.zdrav76.ru/event/1%d0%a1-%d0%9f%d0%be%d0%ba%d0%b0%d0%b7-%d1%84%d1%83%d0%bd%d0%ba%d1%86%d0%b8%d0%be%d0%bd%d0%b0%d0%bb%d0%b0-57/
END:VEVENT
END:VCALENDAR