BEGIN:VCALENDAR
VERSION:2.0
PRODID:-//ГБУЗ ЯО &quot;Медицинский информационно-аналитический центр&quot; - ECPv6.15.17.1//NONSGML v1.0//EN
CALSCALE:GREGORIAN
METHOD:PUBLISH
X-WR-CALNAME:ГБУЗ ЯО &quot;Медицинский информационно-аналитический центр&quot;
X-ORIGINAL-URL:https://miac.zdrav76.ru
X-WR-CALDESC:Мероприятия для ГБУЗ ЯО &quot;Медицинский информационно-аналитический центр&quot;
REFRESH-INTERVAL;VALUE=DURATION:PT1H
X-Robots-Tag:noindex
X-PUBLISHED-TTL:PT1H
BEGIN:VTIMEZONE
TZID:Europe/Moscow
BEGIN:STANDARD
TZOFFSETFROM:+0300
TZOFFSETTO:+0300
TZNAME:MSK
DTSTART:20250101T000000
END:STANDARD
END:VTIMEZONE
BEGIN:VEVENT
DTSTART;TZID=Europe/Moscow:20260227T090000
DTEND;TZID=Europe/Moscow:20260227T093000
DTSTAMP:20260421T191217
CREATED:20260219T054307Z
LAST-MODIFIED:20260219T054345Z
UID:37638-1772182800-1772184600@miac.zdrav76.ru
SUMMARY:Сдача дежурств за предыдущий день в стационаре
DESCRIPTION:
URL:https://miac.zdrav76.ru/event/%d0%a1%d0%b4%d0%b0%d1%87%d0%b0-%d0%b4%d0%b5%d0%b6%d1%83%d1%80%d1%81%d1%82%d0%b2-%d0%b7%d0%b0-%d0%bf%d1%80%d0%b5%d0%b4%d1%8b%d0%b4%d1%83%d1%89%d0%b8%d0%b9-%d0%b4%d0%b5%d0%bd%d1%8c-%d0%b2-%d1%81-387/
END:VEVENT
BEGIN:VEVENT
DTSTART;TZID=Europe/Moscow:20260227T113000
DTEND;TZID=Europe/Moscow:20260227T123000
DTSTAMP:20260421T191217
CREATED:20260219T055101Z
LAST-MODIFIED:20260219T055101Z
UID:37654-1772191800-1772195400@miac.zdrav76.ru
SUMMARY:1С. Техническая поддержка
DESCRIPTION:
URL:https://miac.zdrav76.ru/event/1%d0%a1-%d0%a2%d0%b5%d1%85%d0%bd%d0%b8%d1%87%d0%b5%d1%81%d0%ba%d0%b0%d1%8f-%d0%bf%d0%be%d0%b4%d0%b4%d0%b5%d1%80%d0%b6%d0%ba%d0%b0-23/
END:VEVENT
BEGIN:VEVENT
DTSTART;TZID=Europe/Moscow:20260227T130000
DTEND;TZID=Europe/Moscow:20260227T140000
DTSTAMP:20260421T191217
CREATED:20260227T085357Z
LAST-MODIFIED:20260227T085508Z
UID:37714-1772197200-1772200800@miac.zdrav76.ru
SUMMARY:Выполнение планов мессенджера МАКС
DESCRIPTION:
URL:https://miac.zdrav76.ru/event/%d0%92%d1%8b%d0%bf%d0%be%d0%bb%d0%bd%d0%b5%d0%bd%d0%b8%d0%b5-%d0%bf%d0%bb%d0%b0%d0%bd%d0%be%d0%b2-%d0%bc%d0%b5%d1%81%d1%81%d0%b5%d0%bd%d0%b4%d0%b6%d0%b5%d1%80%d0%b0-%d0%9c%d0%90%d0%9a%d0%a1/
END:VEVENT
BEGIN:VEVENT
DTSTART;TZID=Europe/Moscow:20260227T140000
DTEND;TZID=Europe/Moscow:20260227T150000
DTSTAMP:20260421T191217
CREATED:20260219T054733Z
LAST-MODIFIED:20260219T054733Z
UID:37648-1772200800-1772204400@miac.zdrav76.ru
SUMMARY:1С. Показ функционала
DESCRIPTION:
URL:https://miac.zdrav76.ru/event/1%d0%a1-%d0%9f%d0%be%d0%ba%d0%b0%d0%b7-%d1%84%d1%83%d0%bd%d0%ba%d1%86%d0%b8%d0%be%d0%bd%d0%b0%d0%bb%d0%b0-52/
END:VEVENT
BEGIN:VEVENT
DTSTART;TZID=Europe/Moscow:20260227T150000
DTEND;TZID=Europe/Moscow:20260227T163000
DTSTAMP:20260421T191217
CREATED:20260227T055630Z
LAST-MODIFIED:20260227T055630Z
UID:37686-1772204400-1772209800@miac.zdrav76.ru
SUMMARY:Совещание МЗ ЯО с ФГБУ "НМИЦ ПН им. В.П. Сербского" МЗ РФ
DESCRIPTION:
URL:https://miac.zdrav76.ru/event/%d0%a1%d0%be%d0%b2%d0%b5%d1%89%d0%b0%d0%bd%d0%b8%d0%b5-%d0%9c%d0%97-%d0%af%d0%9e-%d1%81-%d0%a4%d0%93%d0%91%d0%a3-%d0%9d%d0%9c%d0%98%d0%a6-%d0%9f%d0%9d-%d0%b8%d0%bc-%d0%92-%d0%9f-%d0%a1%d0%b5%d1%80/
END:VEVENT
END:VCALENDAR