BEGIN:VCALENDAR
VERSION:2.0
PRODID:-//ГБУЗ ЯО &quot;Медицинский информационно-аналитический центр&quot; - ECPv6.15.17.1//NONSGML v1.0//EN
CALSCALE:GREGORIAN
METHOD:PUBLISH
X-WR-CALNAME:ГБУЗ ЯО &quot;Медицинский информационно-аналитический центр&quot;
X-ORIGINAL-URL:https://miac.zdrav76.ru
X-WR-CALDESC:Мероприятия для ГБУЗ ЯО &quot;Медицинский информационно-аналитический центр&quot;
REFRESH-INTERVAL;VALUE=DURATION:PT1H
X-Robots-Tag:noindex
X-PUBLISHED-TTL:PT1H
BEGIN:VTIMEZONE
TZID:Europe/Moscow
BEGIN:STANDARD
TZOFFSETFROM:+0300
TZOFFSETTO:+0300
TZNAME:MSK
DTSTART:20250101T000000
END:STANDARD
END:VTIMEZONE
BEGIN:VEVENT
DTSTART;TZID=Europe/Moscow:20260217T081500
DTEND;TZID=Europe/Moscow:20260217T090000
DTSTAMP:20260421T153402
CREATED:20260210T100304Z
LAST-MODIFIED:20260210T100304Z
UID:37575-1771316100-1771318800@miac.zdrav76.ru
SUMMARY:Нарушения сна. Психологическая нагрузка у сотрудников службы СМП
DESCRIPTION:
URL:https://miac.zdrav76.ru/event/%d0%9d%d0%b0%d1%80%d1%83%d1%88%d0%b5%d0%bd%d0%b8%d1%8f-%d1%81%d0%bd%d0%b0-%d0%9f%d1%81%d0%b8%d1%85%d0%be%d0%bb%d0%be%d0%b3%d0%b8%d1%87%d0%b5%d1%81%d0%ba%d0%b0%d1%8f-%d0%bd%d0%b0%d0%b3%d1%80%d1%83/
END:VEVENT
BEGIN:VEVENT
DTSTART;TZID=Europe/Moscow:20260217T090000
DTEND;TZID=Europe/Moscow:20260217T093000
DTSTAMP:20260421T153402
CREATED:20260213T090715Z
LAST-MODIFIED:20260213T090715Z
UID:37586-1771318800-1771320600@miac.zdrav76.ru
SUMMARY:Сдача дежурств за предыдущий день в стационаре
DESCRIPTION:
URL:https://miac.zdrav76.ru/event/%d0%a1%d0%b4%d0%b0%d1%87%d0%b0-%d0%b4%d0%b5%d0%b6%d1%83%d1%80%d1%81%d1%82%d0%b2-%d0%b7%d0%b0-%d0%bf%d1%80%d0%b5%d0%b4%d1%8b%d0%b4%d1%83%d1%89%d0%b8%d0%b9-%d0%b4%d0%b5%d0%bd%d1%8c-%d0%b2-%d1%81-380/
END:VEVENT
BEGIN:VEVENT
DTSTART;TZID=Europe/Moscow:20260217T133000
DTEND;TZID=Europe/Moscow:20260217T150000
DTSTAMP:20260421T153402
CREATED:20260217T105132Z
LAST-MODIFIED:20260217T105132Z
UID:37624-1771335000-1771340400@miac.zdrav76.ru
SUMMARY:СВО
DESCRIPTION:
URL:https://miac.zdrav76.ru/event/%d0%a1%d0%92%d0%9e/
END:VEVENT
BEGIN:VEVENT
DTSTART;TZID=Europe/Moscow:20260217T150000
DTEND;TZID=Europe/Moscow:20260217T163000
DTSTAMP:20260421T153402
CREATED:20260213T091015Z
LAST-MODIFIED:20260213T091015Z
UID:37594-1771340400-1771345800@miac.zdrav76.ru
SUMMARY:1С. Текущие проекты
DESCRIPTION:
URL:https://miac.zdrav76.ru/event/1%d0%a1-%d0%a2%d0%b5%d0%ba%d1%83%d1%89%d0%b8%d0%b5-%d0%bf%d1%80%d0%be%d0%b5%d0%ba%d1%82%d1%8b-54/
END:VEVENT
END:VCALENDAR