BEGIN:VCALENDAR
VERSION:2.0
PRODID:-//ГБУЗ ЯО &quot;Медицинский информационно-аналитический центр&quot; - ECPv6.15.17.1//NONSGML v1.0//EN
CALSCALE:GREGORIAN
METHOD:PUBLISH
X-ORIGINAL-URL:https://miac.zdrav76.ru
X-WR-CALDESC:Мероприятия для ГБУЗ ЯО &quot;Медицинский информационно-аналитический центр&quot;
REFRESH-INTERVAL;VALUE=DURATION:PT1H
X-Robots-Tag:noindex
X-PUBLISHED-TTL:PT1H
BEGIN:VTIMEZONE
TZID:Europe/Moscow
BEGIN:STANDARD
TZOFFSETFROM:+0300
TZOFFSETTO:+0300
TZNAME:MSK
DTSTART:20250101T000000
END:STANDARD
END:VTIMEZONE
BEGIN:VEVENT
DTSTART;TZID=Europe/Moscow:20260202T090000
DTEND;TZID=Europe/Moscow:20260202T093000
DTSTAMP:20260421T141858
CREATED:20260129T070234Z
LAST-MODIFIED:20260129T070234Z
UID:37516-1770022800-1770024600@miac.zdrav76.ru
SUMMARY:Сдача дежурств за предыдущий день в стационаре
DESCRIPTION:
URL:https://miac.zdrav76.ru/event/%d0%a1%d0%b4%d0%b0%d1%87%d0%b0-%d0%b4%d0%b5%d0%b6%d1%83%d1%80%d1%81%d1%82%d0%b2-%d0%b7%d0%b0-%d0%bf%d1%80%d0%b5%d0%b4%d1%8b%d0%b4%d1%83%d1%89%d0%b8%d0%b9-%d0%b4%d0%b5%d0%bd%d1%8c-%d0%b2-%d1%81-369/
END:VEVENT
BEGIN:VEVENT
DTSTART;TZID=Europe/Moscow:20260202T103000
DTEND;TZID=Europe/Moscow:20260202T120000
DTSTAMP:20260421T141858
CREATED:20260202T053530Z
LAST-MODIFIED:20260202T053530Z
UID:37539-1770028200-1770033600@miac.zdrav76.ru
SUMMARY:Обмен 1СРИС(ЦАМИ). Работа референс-центра
DESCRIPTION:
URL:https://miac.zdrav76.ru/event/%d0%9e%d0%b1%d0%bc%d0%b5%d0%bd-1%d0%a1%d0%a0%d0%98%d0%a1%d0%a6%d0%90%d0%9c%d0%98-%d0%a0%d0%b0%d0%b1%d0%be%d1%82%d0%b0-%d1%80%d0%b5%d1%84%d0%b5%d1%80%d0%b5%d0%bd%d1%81-%d1%86%d0%b5%d0%bd%d1%82%d1%80/
END:VEVENT
BEGIN:VEVENT
DTSTART;TZID=Europe/Moscow:20260202T160000
DTEND;TZID=Europe/Moscow:20260202T170000
DTSTAMP:20260421T141858
CREATED:20260202T105239Z
LAST-MODIFIED:20260202T105239Z
UID:37541-1770048000-1770051600@miac.zdrav76.ru
SUMMARY:Организационные вопросы
DESCRIPTION:
URL:https://miac.zdrav76.ru/event/%d0%9e%d1%80%d0%b3%d0%b0%d0%bd%d0%b8%d0%b7%d0%b0%d1%86%d0%b8%d0%be%d0%bd%d0%bd%d1%8b%d0%b5-%d0%b2%d0%be%d0%bf%d1%80%d0%be%d1%81%d1%8b/
END:VEVENT
END:VCALENDAR