BEGIN:VCALENDAR
VERSION:2.0
PRODID:-//ГБУЗ ЯО &quot;Медицинский информационно-аналитический центр&quot; - ECPv6.15.17.1//NONSGML v1.0//EN
CALSCALE:GREGORIAN
METHOD:PUBLISH
X-WR-CALNAME:ГБУЗ ЯО &quot;Медицинский информационно-аналитический центр&quot;
X-ORIGINAL-URL:https://miac.zdrav76.ru
X-WR-CALDESC:Мероприятия для ГБУЗ ЯО &quot;Медицинский информационно-аналитический центр&quot;
REFRESH-INTERVAL;VALUE=DURATION:PT1H
X-Robots-Tag:noindex
X-PUBLISHED-TTL:PT1H
BEGIN:VTIMEZONE
TZID:Europe/Moscow
BEGIN:STANDARD
TZOFFSETFROM:+0300
TZOFFSETTO:+0300
TZNAME:MSK
DTSTART:20250101T000000
END:STANDARD
END:VTIMEZONE
BEGIN:VEVENT
DTSTART;TZID=Europe/Moscow:20260129T090000
DTEND;TZID=Europe/Moscow:20260129T093000
DTSTAMP:20260423T163746
CREATED:20260123T082157Z
LAST-MODIFIED:20260123T082157Z
UID:37489-1769677200-1769679000@miac.zdrav76.ru
SUMMARY:Сдача дежурств за предыдущий день в стационаре
DESCRIPTION:
URL:https://miac.zdrav76.ru/event/%d0%a1%d0%b4%d0%b0%d1%87%d0%b0-%d0%b4%d0%b5%d0%b6%d1%83%d1%80%d1%81%d1%82%d0%b2-%d0%b7%d0%b0-%d0%bf%d1%80%d0%b5%d0%b4%d1%8b%d0%b4%d1%83%d1%89%d0%b8%d0%b9-%d0%b4%d0%b5%d0%bd%d1%8c-%d0%b2-%d1%81-367/
END:VEVENT
BEGIN:VEVENT
DTSTART;TZID=Europe/Moscow:20260129T140000
DTEND;TZID=Europe/Moscow:20260129T160000
DTSTAMP:20260423T163746
CREATED:20260127T123606Z
LAST-MODIFIED:20260127T123606Z
UID:37505-1769695200-1769702400@miac.zdrav76.ru
SUMMARY:РС ЕГИСЗ ЯО. Реестры счетов
DESCRIPTION:
URL:https://miac.zdrav76.ru/event/%d0%a0%d0%a1-%d0%95%d0%93%d0%98%d0%a1%d0%97-%d0%af%d0%9e-%d0%a0%d0%b5%d0%b5%d1%81%d1%82%d1%80%d1%8b-%d1%81%d1%87%d0%b5%d1%82%d0%be%d0%b2-2/
END:VEVENT
BEGIN:VEVENT
DTSTART;TZID=Europe/Moscow:20260129T150000
DTEND;TZID=Europe/Moscow:20260129T160000
DTSTAMP:20260423T163746
CREATED:20260119T082347Z
LAST-MODIFIED:20260123T082005Z
UID:37471-1769698800-1769702400@miac.zdrav76.ru
SUMMARY:РТК. РИС/ЦАМИ\, СМП
DESCRIPTION:
URL:https://miac.zdrav76.ru/event/%d0%a0%d0%a2%d0%9a-%d0%a0%d0%98%d0%a1-%d0%a6%d0%90%d0%9c%d0%98-%d0%a1%d0%9c%d0%9f-71/
END:VEVENT
END:VCALENDAR