BEGIN:VCALENDAR
VERSION:2.0
PRODID:-//ГБУЗ ЯО &quot;Медицинский информационно-аналитический центр&quot; - ECPv6.15.17.1//NONSGML v1.0//EN
CALSCALE:GREGORIAN
METHOD:PUBLISH
X-ORIGINAL-URL:https://miac.zdrav76.ru
X-WR-CALDESC:Мероприятия для ГБУЗ ЯО &quot;Медицинский информационно-аналитический центр&quot;
REFRESH-INTERVAL;VALUE=DURATION:PT1H
X-Robots-Tag:noindex
X-PUBLISHED-TTL:PT1H
BEGIN:VTIMEZONE
TZID:Europe/Moscow
BEGIN:STANDARD
TZOFFSETFROM:+0300
TZOFFSETTO:+0300
TZNAME:MSK
DTSTART:20240101T000000
END:STANDARD
END:VTIMEZONE
BEGIN:VEVENT
DTSTART;TZID=Europe/Moscow:20250520T090000
DTEND;TZID=Europe/Moscow:20250520T093000
DTSTAMP:20260420T124813
CREATED:20250514T052013Z
LAST-MODIFIED:20250514T052013Z
UID:34587-1747731600-1747733400@miac.zdrav76.ru
SUMMARY:Сдача дежурств за предыдущий день в стационаре
DESCRIPTION:
URL:https://miac.zdrav76.ru/event/%d0%a1%d0%b4%d0%b0%d1%87%d0%b0-%d0%b4%d0%b5%d0%b6%d1%83%d1%80%d1%81%d1%82%d0%b2-%d0%b7%d0%b0-%d0%bf%d1%80%d0%b5%d0%b4%d1%8b%d0%b4%d1%83%d1%89%d0%b8%d0%b9-%d0%b4%d0%b5%d0%bd%d1%8c-%d0%b2-%d1%81-206/
END:VEVENT
BEGIN:VEVENT
DTSTART;TZID=Europe/Moscow:20250520T130000
DTEND;TZID=Europe/Moscow:20250520T143000
DTSTAMP:20260420T124813
CREATED:20250514T052655Z
LAST-MODIFIED:20250514T052655Z
UID:34605-1747746000-1747751400@miac.zdrav76.ru
SUMMARY:“Наставничество” с гл. внеш. специалистами МЗ ЯО
DESCRIPTION:
URL:https://miac.zdrav76.ru/event/%d0%9d%d0%b0%d1%81%d1%82%d0%b0%d0%b2%d0%bd%d0%b8%d1%87%d0%b5%d1%81%d1%82%d0%b2%d0%be-%d1%81-%d0%b3%d0%bb-%d0%b2%d0%bd%d0%b5%d1%88-%d1%81%d0%bf%d0%b5%d1%86%d0%b8%d0%b0%d0%bb%d0%b8-16/
END:VEVENT
BEGIN:VEVENT
DTSTART;TZID=Europe/Moscow:20250520T140000
DTEND;TZID=Europe/Moscow:20250520T153000
DTSTAMP:20260420T124813
CREATED:20250514T052440Z
LAST-MODIFIED:20250514T052440Z
UID:34597-1747749600-1747755000@miac.zdrav76.ru
SUMMARY:1С Поликлиника. Показ функционала
DESCRIPTION:
URL:https://miac.zdrav76.ru/event/1%d0%a1-%d0%9f%d0%be%d0%bb%d0%b8%d0%ba%d0%bb%d0%b8%d0%bd%d0%b8%d0%ba%d0%b0-%d0%9f%d0%be%d0%ba%d0%b0%d0%b7-%d1%84%d1%83%d0%bd%d0%ba%d1%86%d0%b8%d0%be%d0%bd%d0%b0%d0%bb%d0%b0-39/
END:VEVENT
BEGIN:VEVENT
DTSTART;TZID=Europe/Moscow:20250520T150000
DTEND;TZID=Europe/Moscow:20250520T163000
DTSTAMP:20260420T124813
CREATED:20250514T052739Z
LAST-MODIFIED:20250514T052739Z
UID:34607-1747753200-1747758600@miac.zdrav76.ru
SUMMARY:1С. Текущие проекты
DESCRIPTION:
URL:https://miac.zdrav76.ru/event/1%d0%a1-%d0%a2%d0%b5%d0%ba%d1%83%d1%89%d0%b8%d0%b5-%d0%bf%d1%80%d0%be%d0%b5%d0%ba%d1%82%d1%8b-21/
END:VEVENT
END:VCALENDAR