BEGIN:VCALENDAR
VERSION:2.0
PRODID:-//ГБУЗ ЯО &quot;Медицинский информационно-аналитический центр&quot; - ECPv6.15.17.1//NONSGML v1.0//EN
CALSCALE:GREGORIAN
METHOD:PUBLISH
X-ORIGINAL-URL:https://miac.zdrav76.ru
X-WR-CALDESC:Мероприятия для ГБУЗ ЯО &quot;Медицинский информационно-аналитический центр&quot;
REFRESH-INTERVAL;VALUE=DURATION:PT1H
X-Robots-Tag:noindex
X-PUBLISHED-TTL:PT1H
BEGIN:VTIMEZONE
TZID:Europe/Moscow
BEGIN:STANDARD
TZOFFSETFROM:+0300
TZOFFSETTO:+0300
TZNAME:MSK
DTSTART:20240101T000000
END:STANDARD
END:VTIMEZONE
BEGIN:VEVENT
DTSTART;TZID=Europe/Moscow:20250516T090000
DTEND;TZID=Europe/Moscow:20250516T093000
DTSTAMP:20260420T111956
CREATED:20250506T105814Z
LAST-MODIFIED:20250506T105814Z
UID:34438-1747386000-1747387800@miac.zdrav76.ru
SUMMARY:Сдача дежурств за предыдущий день в стационаре
DESCRIPTION:
URL:https://miac.zdrav76.ru/event/%d0%a1%d0%b4%d0%b0%d1%87%d0%b0-%d0%b4%d0%b5%d0%b6%d1%83%d1%80%d1%81%d1%82%d0%b2-%d0%b7%d0%b0-%d0%bf%d1%80%d0%b5%d0%b4%d1%8b%d0%b4%d1%83%d1%89%d0%b8%d0%b9-%d0%b4%d0%b5%d0%bd%d1%8c-%d0%b2-%d1%81-204/
END:VEVENT
BEGIN:VEVENT
DTSTART;TZID=Europe/Moscow:20250516T110000
DTEND;TZID=Europe/Moscow:20250516T120000
DTSTAMP:20260420T111956
CREATED:20250516T092105Z
LAST-MODIFIED:20250516T092105Z
UID:34699-1747393200-1747396800@miac.zdrav76.ru
SUMMARY:МЗ ЯО_МЦР ЯО
DESCRIPTION:
URL:https://miac.zdrav76.ru/event/%d0%9c%d0%97-%d0%af%d0%9e_%d0%9c%d0%a6%d0%a0-%d0%af%d0%9e-4/
END:VEVENT
BEGIN:VEVENT
DTSTART;TZID=Europe/Moscow:20250516T140000
DTEND;TZID=Europe/Moscow:20250516T153000
DTSTAMP:20260420T111956
CREATED:20250506T110419Z
LAST-MODIFIED:20250506T110419Z
UID:34448-1747404000-1747409400@miac.zdrav76.ru
SUMMARY:1С Поликлиника. Показ функционала
DESCRIPTION:
URL:https://miac.zdrav76.ru/event/1%d0%a1-%d0%9f%d0%be%d0%bb%d0%b8%d0%ba%d0%bb%d0%b8%d0%bd%d0%b8%d0%ba%d0%b0-%d0%9f%d0%be%d0%ba%d0%b0%d0%b7-%d1%84%d1%83%d0%bd%d0%ba%d1%86%d0%b8%d0%be%d0%bd%d0%b0%d0%bb%d0%b0-37/
END:VEVENT
END:VCALENDAR