BEGIN:VCALENDAR
VERSION:2.0
PRODID:-//ГБУЗ ЯО &quot;Медицинский информационно-аналитический центр&quot; - ECPv6.15.17.1//NONSGML v1.0//EN
CALSCALE:GREGORIAN
METHOD:PUBLISH
X-WR-CALNAME:ГБУЗ ЯО &quot;Медицинский информационно-аналитический центр&quot;
X-ORIGINAL-URL:https://miac.zdrav76.ru
X-WR-CALDESC:Мероприятия для ГБУЗ ЯО &quot;Медицинский информационно-аналитический центр&quot;
REFRESH-INTERVAL;VALUE=DURATION:PT1H
X-Robots-Tag:noindex
X-PUBLISHED-TTL:PT1H
BEGIN:VTIMEZONE
TZID:Europe/Moscow
BEGIN:STANDARD
TZOFFSETFROM:+0300
TZOFFSETTO:+0300
TZNAME:MSK
DTSTART:20240101T000000
END:STANDARD
END:VTIMEZONE
BEGIN:VEVENT
DTSTART;TZID=Europe/Moscow:20250425T090000
DTEND;TZID=Europe/Moscow:20250425T093000
DTSTAMP:20260420T124753
CREATED:20250416T131800Z
LAST-MODIFIED:20250416T131800Z
UID:33948-1745571600-1745573400@miac.zdrav76.ru
SUMMARY:Сдача дежурств за предыдущий день в стационаре
DESCRIPTION:
URL:https://miac.zdrav76.ru/event/%d0%a1%d0%b4%d0%b0%d1%87%d0%b0-%d0%b4%d0%b5%d0%b6%d1%83%d1%80%d1%81%d1%82%d0%b2-%d0%b7%d0%b0-%d0%bf%d1%80%d0%b5%d0%b4%d1%8b%d0%b4%d1%83%d1%89%d0%b8%d0%b9-%d0%b4%d0%b5%d0%bd%d1%8c-%d0%b2-%d1%81-193/
END:VEVENT
BEGIN:VEVENT
DTSTART;TZID=Europe/Moscow:20250425T100000
DTEND;TZID=Europe/Moscow:20250425T113000
DTSTAMP:20260420T124753
CREATED:20250424T133959Z
LAST-MODIFIED:20250424T133959Z
UID:34157-1745575200-1745580600@miac.zdrav76.ru
SUMMARY:Льготное зубопротезирование участников СВО
DESCRIPTION:
URL:https://miac.zdrav76.ru/event/%d0%9b%d1%8c%d0%b3%d0%be%d1%82%d0%bd%d0%be%d0%b5-%d0%b7%d1%83%d0%b1%d0%be%d0%bf%d1%80%d0%be%d1%82%d0%b5%d0%b7%d0%b8%d1%80%d0%be%d0%b2%d0%b0%d0%bd%d0%b8%d0%b5-%d1%83%d1%87%d0%b0%d1%81%d1%82%d0%bd%d0%b8/
END:VEVENT
BEGIN:VEVENT
DTSTART;TZID=Europe/Moscow:20250425T130000
DTEND;TZID=Europe/Moscow:20250425T143000
DTSTAMP:20260420T124753
CREATED:20250425T090155Z
LAST-MODIFIED:20250425T090155Z
UID:34177-1745586000-1745591400@miac.zdrav76.ru
SUMMARY:ЕГИСЗ
DESCRIPTION:
URL:https://miac.zdrav76.ru/event/%d0%95%d0%93%d0%98%d0%a1%d0%97/
END:VEVENT
BEGIN:VEVENT
DTSTART;TZID=Europe/Moscow:20250425T140000
DTEND;TZID=Europe/Moscow:20250425T160000
DTSTAMP:20260420T124753
CREATED:20250418T070536Z
LAST-MODIFIED:20250418T070536Z
UID:34037-1745589600-1745596800@miac.zdrav76.ru
SUMMARY:Успехи и возможности вакцинопрофилактики детей и взрослых
DESCRIPTION:
URL:https://miac.zdrav76.ru/event/%d0%a3%d1%81%d0%bf%d0%b5%d1%85%d0%b8-%d0%b8-%d0%b2%d0%be%d0%b7%d0%bc%d0%be%d0%b6%d0%bd%d0%be%d1%81%d1%82%d0%b8-%d0%b2%d0%b0%d0%ba%d1%86%d0%b8%d0%bd%d0%be%d0%bf%d1%80%d0%be%d1%84%d0%b8%d0%bb%d0%b0/
END:VEVENT
BEGIN:VEVENT
DTSTART;TZID=Europe/Moscow:20250425T140000
DTEND;TZID=Europe/Moscow:20250425T170000
DTSTAMP:20260420T124753
CREATED:20250416T132208Z
LAST-MODIFIED:20250416T132208Z
UID:33958-1745589600-1745600400@miac.zdrav76.ru
SUMMARY:1С Поликлиника. Показ функционала
DESCRIPTION:
URL:https://miac.zdrav76.ru/event/1%d0%a1-%d0%9f%d0%be%d0%bb%d0%b8%d0%ba%d0%bb%d0%b8%d0%bd%d0%b8%d0%ba%d0%b0-%d0%9f%d0%be%d0%ba%d0%b0%d0%b7-%d1%84%d1%83%d0%bd%d0%ba%d1%86%d0%b8%d0%be%d0%bd%d0%b0%d0%bb%d0%b0-29/
END:VEVENT
END:VCALENDAR