BEGIN:VCALENDAR
VERSION:2.0
PRODID:-//ГБУЗ ЯО &quot;Медицинский информационно-аналитический центр&quot; - ECPv6.15.17.1//NONSGML v1.0//EN
CALSCALE:GREGORIAN
METHOD:PUBLISH
X-ORIGINAL-URL:https://miac.zdrav76.ru
X-WR-CALDESC:Мероприятия для ГБУЗ ЯО &quot;Медицинский информационно-аналитический центр&quot;
REFRESH-INTERVAL;VALUE=DURATION:PT1H
X-Robots-Tag:noindex
X-PUBLISHED-TTL:PT1H
BEGIN:VTIMEZONE
TZID:Europe/Moscow
BEGIN:STANDARD
TZOFFSETFROM:+0300
TZOFFSETTO:+0300
TZNAME:MSK
DTSTART:20240101T000000
END:STANDARD
END:VTIMEZONE
BEGIN:VEVENT
DTSTART;TZID=Europe/Moscow:20250418T090000
DTEND;TZID=Europe/Moscow:20250418T093000
DTSTAMP:20260422T124730
CREATED:20250414T051720Z
LAST-MODIFIED:20250414T051720Z
UID:33839-1744966800-1744968600@miac.zdrav76.ru
SUMMARY:Сдача дежурств за предыдущий день в стационаре
DESCRIPTION:
URL:https://miac.zdrav76.ru/event/%d0%a1%d0%b4%d0%b0%d1%87%d0%b0-%d0%b4%d0%b5%d0%b6%d1%83%d1%80%d1%81%d1%82%d0%b2-%d0%b7%d0%b0-%d0%bf%d1%80%d0%b5%d0%b4%d1%8b%d0%b4%d1%83%d1%89%d0%b8%d0%b9-%d0%b4%d0%b5%d0%bd%d1%8c-%d0%b2-%d1%81-188/
END:VEVENT
BEGIN:VEVENT
DTSTART;TZID=Europe/Moscow:20250418T093000
DTEND;TZID=Europe/Moscow:20250418T110000
DTSTAMP:20260422T124730
CREATED:20250417T104533Z
LAST-MODIFIED:20250417T104533Z
UID:33993-1744968600-1744974000@miac.zdrav76.ru
SUMMARY:Централизация службы скорой медицинской помощи
DESCRIPTION:
URL:https://miac.zdrav76.ru/event/%d0%a6%d0%b5%d0%bd%d1%82%d1%80%d0%b0%d0%bb%d0%b8%d0%b7%d0%b0%d1%86%d0%b8%d1%8f-%d1%81%d0%bb%d1%83%d0%b6%d0%b1%d1%8b-%d1%81%d0%ba%d0%be%d1%80%d0%be%d0%b9-%d0%bc%d0%b5%d0%b4%d0%b8%d1%86%d0%b8%d0%bd/
END:VEVENT
BEGIN:VEVENT
DTSTART;TZID=Europe/Moscow:20250418T100000
DTEND;TZID=Europe/Moscow:20250418T113000
DTSTAMP:20260422T124730
CREATED:20250417T110600Z
LAST-MODIFIED:20250417T110600Z
UID:33999-1744970400-1744975800@miac.zdrav76.ru
SUMMARY:Борьба с гепатитом С
DESCRIPTION:
URL:https://miac.zdrav76.ru/event/%d0%91%d0%be%d1%80%d1%8c%d0%b1%d0%b0-%d1%81-%d0%b3%d0%b5%d0%bf%d0%b0%d1%82%d0%b8%d1%82%d0%be%d0%bc-%d0%a1/
END:VEVENT
BEGIN:VEVENT
DTSTART;TZID=Europe/Moscow:20250418T120000
DTEND;TZID=Europe/Moscow:20250418T130000
DTSTAMP:20260422T124730
CREATED:20250414T052302Z
LAST-MODIFIED:20250414T052302Z
UID:33859-1744977600-1744981200@miac.zdrav76.ru
SUMMARY:Рабочее совещание с ЦАОП ЯО
DESCRIPTION:
URL:https://miac.zdrav76.ru/event/%d0%a0%d0%b0%d0%b1%d0%be%d1%87%d0%b5%d0%b5-%d1%81%d0%be%d0%b2%d0%b5%d1%89%d0%b0%d0%bd%d0%b8%d0%b5-%d1%81-%d0%a6%d0%90%d0%9e%d0%9f-%d0%af%d0%9e-25/
END:VEVENT
BEGIN:VEVENT
DTSTART;TZID=Europe/Moscow:20250418T140000
DTEND;TZID=Europe/Moscow:20250418T170000
DTSTAMP:20260422T124730
CREATED:20250414T051918Z
LAST-MODIFIED:20250414T051918Z
UID:33849-1744984800-1744995600@miac.zdrav76.ru
SUMMARY:1С Поликлиника. Показ функционала
DESCRIPTION:
URL:https://miac.zdrav76.ru/event/1%d0%a1-%d0%9f%d0%be%d0%bb%d0%b8%d0%ba%d0%bb%d0%b8%d0%bd%d0%b8%d0%ba%d0%b0-%d0%9f%d0%be%d0%ba%d0%b0%d0%b7-%d1%84%d1%83%d0%bd%d0%ba%d1%86%d0%b8%d0%be%d0%bd%d0%b0%d0%bb%d0%b0-24/
END:VEVENT
END:VCALENDAR