BEGIN:VCALENDAR
VERSION:2.0
PRODID:-//ГБУЗ ЯО &quot;Медицинский информационно-аналитический центр&quot; - ECPv6.15.17.1//NONSGML v1.0//EN
CALSCALE:GREGORIAN
METHOD:PUBLISH
X-ORIGINAL-URL:https://miac.zdrav76.ru
X-WR-CALDESC:Мероприятия для ГБУЗ ЯО &quot;Медицинский информационно-аналитический центр&quot;
REFRESH-INTERVAL;VALUE=DURATION:PT1H
X-Robots-Tag:noindex
X-PUBLISHED-TTL:PT1H
BEGIN:VTIMEZONE
TZID:Europe/Moscow
BEGIN:STANDARD
TZOFFSETFROM:+0300
TZOFFSETTO:+0300
TZNAME:MSK
DTSTART:20240101T000000
END:STANDARD
END:VTIMEZONE
BEGIN:VEVENT
DTSTART;TZID=Europe/Moscow:20250319T090000
DTEND;TZID=Europe/Moscow:20250319T093000
DTSTAMP:20260420T182500
CREATED:20250313T095632Z
LAST-MODIFIED:20250313T095632Z
UID:33055-1742374800-1742376600@miac.zdrav76.ru
SUMMARY:Сдача дежурств за предыдущий день в стационаре
DESCRIPTION:
URL:https://miac.zdrav76.ru/event/%d0%a1%d0%b4%d0%b0%d1%87%d0%b0-%d0%b4%d0%b5%d0%b6%d1%83%d1%80%d1%81%d1%82%d0%b2-%d0%b7%d0%b0-%d0%bf%d1%80%d0%b5%d0%b4%d1%8b%d0%b4%d1%83%d1%89%d0%b8%d0%b9-%d0%b4%d0%b5%d0%bd%d1%8c-%d0%b2-%d1%81-166/
END:VEVENT
BEGIN:VEVENT
DTSTART;TZID=Europe/Moscow:20250319T100000
DTEND;TZID=Europe/Moscow:20250319T120000
DTSTAMP:20260420T182500
CREATED:20250311T125822Z
LAST-MODIFIED:20250311T125822Z
UID:32972-1742378400-1742385600@miac.zdrav76.ru
SUMMARY:Стоматологический прием
DESCRIPTION:
URL:https://miac.zdrav76.ru/event/%d0%a1%d1%82%d0%be%d0%bc%d0%b0%d1%82%d0%be%d0%bb%d0%be%d0%b3%d0%b8%d1%87%d0%b5%d1%81%d0%ba%d0%b8%d0%b9-%d0%bf%d1%80%d0%b8%d0%b5%d0%bc/
END:VEVENT
BEGIN:VEVENT
DTSTART;TZID=Europe/Moscow:20250319T110000
DTEND;TZID=Europe/Moscow:20250319T123000
DTSTAMP:20260420T182500
CREATED:20250319T071714Z
LAST-MODIFIED:20250319T071901Z
UID:33165-1742382000-1742387400@miac.zdrav76.ru
SUMMARY:ЛЛО загрузка льготников
DESCRIPTION:
URL:https://miac.zdrav76.ru/event/%d0%9b%d0%9b%d0%9e-%d0%b7%d0%b0%d0%b3%d1%80%d1%83%d0%b7%d0%ba%d0%b0-%d0%bb%d1%8c%d0%b3%d0%be%d1%82%d0%bd%d0%b8%d0%ba%d0%be%d0%b2/
END:VEVENT
END:VCALENDAR