BEGIN:VCALENDAR
VERSION:2.0
PRODID:-//ГБУЗ ЯО &quot;Медицинский информационно-аналитический центр&quot; - ECPv6.15.17.1//NONSGML v1.0//EN
CALSCALE:GREGORIAN
METHOD:PUBLISH
X-ORIGINAL-URL:https://miac.zdrav76.ru
X-WR-CALDESC:Мероприятия для ГБУЗ ЯО &quot;Медицинский информационно-аналитический центр&quot;
REFRESH-INTERVAL;VALUE=DURATION:PT1H
X-Robots-Tag:noindex
X-PUBLISHED-TTL:PT1H
BEGIN:VTIMEZONE
TZID:Europe/Moscow
BEGIN:STANDARD
TZOFFSETFROM:+0300
TZOFFSETTO:+0300
TZNAME:MSK
DTSTART:20240101T000000
END:STANDARD
END:VTIMEZONE
BEGIN:VEVENT
DTSTART;TZID=Europe/Moscow:20250317T090000
DTEND;TZID=Europe/Moscow:20250317T093000
DTSTAMP:20260420T182423
CREATED:20250313T095528Z
LAST-MODIFIED:20250313T095528Z
UID:33051-1742202000-1742203800@miac.zdrav76.ru
SUMMARY:Сдача дежурств за предыдущий день в стационаре
DESCRIPTION:
URL:https://miac.zdrav76.ru/event/%d0%a1%d0%b4%d0%b0%d1%87%d0%b0-%d0%b4%d0%b5%d0%b6%d1%83%d1%80%d1%81%d1%82%d0%b2-%d0%b7%d0%b0-%d0%bf%d1%80%d0%b5%d0%b4%d1%8b%d0%b4%d1%83%d1%89%d0%b8%d0%b9-%d0%b4%d0%b5%d0%bd%d1%8c-%d0%b2-%d1%81-164/
END:VEVENT
BEGIN:VEVENT
DTSTART;TZID=Europe/Moscow:20250317T110000
DTEND;TZID=Europe/Moscow:20250317T120000
DTSTAMP:20260420T182423
CREATED:20250312T054304Z
LAST-MODIFIED:20250312T054304Z
UID:32983-1742209200-1742212800@miac.zdrav76.ru
SUMMARY:1С. ТП
DESCRIPTION:
URL:https://miac.zdrav76.ru/event/1%d0%a1-%d0%a2%d0%9f/
END:VEVENT
BEGIN:VEVENT
DTSTART;TZID=Europe/Moscow:20250317T160000
DTEND;TZID=Europe/Moscow:20250317T173000
DTSTAMP:20260420T182423
CREATED:20250314T124017Z
LAST-MODIFIED:20250314T124017Z
UID:33107-1742227200-1742232600@miac.zdrav76.ru
SUMMARY:«Борьба с сахарным диабетом». Обеспечение беременных СНМГ.
DESCRIPTION:
URL:https://miac.zdrav76.ru/event/%d0%91%d0%be%d1%80%d1%8c%d0%b1%d0%b0-%d1%81-%d1%81%d0%b0%d1%85%d0%b0%d1%80%d0%bd%d1%8b%d0%bc-%d0%b4%d0%b8%d0%b0%d0%b1%d0%b5%d1%82%d0%be%d0%bc-%d0%9e%d0%b1%d0%b5%d1%81%d0%bf%d0%b5%d1%87/
END:VEVENT
END:VCALENDAR