BEGIN:VCALENDAR
VERSION:2.0
PRODID:-//ГБУЗ ЯО &quot;Медицинский информационно-аналитический центр&quot; - ECPv6.15.17.1//NONSGML v1.0//EN
CALSCALE:GREGORIAN
METHOD:PUBLISH
X-WR-CALNAME:ГБУЗ ЯО &quot;Медицинский информационно-аналитический центр&quot;
X-ORIGINAL-URL:https://miac.zdrav76.ru
X-WR-CALDESC:Мероприятия для ГБУЗ ЯО &quot;Медицинский информационно-аналитический центр&quot;
REFRESH-INTERVAL;VALUE=DURATION:PT1H
X-Robots-Tag:noindex
X-PUBLISHED-TTL:PT1H
BEGIN:VTIMEZONE
TZID:Europe/Moscow
BEGIN:STANDARD
TZOFFSETFROM:+0300
TZOFFSETTO:+0300
TZNAME:MSK
DTSTART:20240101T000000
END:STANDARD
END:VTIMEZONE
BEGIN:VEVENT
DTSTART;TZID=Europe/Moscow:20250314T090000
DTEND;TZID=Europe/Moscow:20250314T093000
DTSTAMP:20260420T170440
CREATED:20250306T130539Z
LAST-MODIFIED:20250306T130539Z
UID:32890-1741942800-1741944600@miac.zdrav76.ru
SUMMARY:Сдача дежурств за предыдущий день в стационаре
DESCRIPTION:
URL:https://miac.zdrav76.ru/event/%d0%a1%d0%b4%d0%b0%d1%87%d0%b0-%d0%b4%d0%b5%d0%b6%d1%83%d1%80%d1%81%d1%82%d0%b2-%d0%b7%d0%b0-%d0%bf%d1%80%d0%b5%d0%b4%d1%8b%d0%b4%d1%83%d1%89%d0%b8%d0%b9-%d0%b4%d0%b5%d0%bd%d1%8c-%d0%b2-%d1%81-163/
END:VEVENT
BEGIN:VEVENT
DTSTART;TZID=Europe/Moscow:20250314T103000
DTEND;TZID=Europe/Moscow:20250314T120000
DTSTAMP:20260420T170440
CREATED:20250313T090941Z
LAST-MODIFIED:20250313T090941Z
UID:33047-1741948200-1741953600@miac.zdrav76.ru
SUMMARY:Сверка участков (ТФОМС_ФРМО)
DESCRIPTION:
URL:https://miac.zdrav76.ru/event/%d0%a1%d0%b2%d0%b5%d1%80%d0%ba%d0%b0-%d1%83%d1%87%d0%b0%d1%81%d1%82%d0%ba%d0%be%d0%b2-%d0%a2%d0%a4%d0%9e%d0%9c%d0%a1_%d0%a4%d0%a0%d0%9c%d0%9e-2/
END:VEVENT
BEGIN:VEVENT
DTSTART;TZID=Europe/Moscow:20250314T120000
DTEND;TZID=Europe/Moscow:20250314T130000
DTSTAMP:20260420T170440
CREATED:20250314T092008Z
LAST-MODIFIED:20250314T092008Z
UID:33102-1741953600-1741957200@miac.zdrav76.ru
SUMMARY:МЗ ЯО_МЦР ЯО
DESCRIPTION:
URL:https://miac.zdrav76.ru/event/%d0%9c%d0%97-%d0%af%d0%9e_%d0%9c%d0%a6%d0%a0-%d0%af%d0%9e-3/
END:VEVENT
END:VCALENDAR