BEGIN:VCALENDAR
VERSION:2.0
PRODID:-//ГБУЗ ЯО &quot;Медицинский информационно-аналитический центр&quot; - ECPv6.15.17.1//NONSGML v1.0//EN
CALSCALE:GREGORIAN
METHOD:PUBLISH
X-WR-CALNAME:ГБУЗ ЯО &quot;Медицинский информационно-аналитический центр&quot;
X-ORIGINAL-URL:https://miac.zdrav76.ru
X-WR-CALDESC:Мероприятия для ГБУЗ ЯО &quot;Медицинский информационно-аналитический центр&quot;
REFRESH-INTERVAL;VALUE=DURATION:PT1H
X-Robots-Tag:noindex
X-PUBLISHED-TTL:PT1H
BEGIN:VTIMEZONE
TZID:Europe/Moscow
BEGIN:STANDARD
TZOFFSETFROM:+0300
TZOFFSETTO:+0300
TZNAME:MSK
DTSTART:20240101T000000
END:STANDARD
END:VTIMEZONE
BEGIN:VEVENT
DTSTART;TZID=Europe/Moscow:20250227T090000
DTEND;TZID=Europe/Moscow:20250227T093000
DTSTAMP:20260422T172028
CREATED:20250220T055016Z
LAST-MODIFIED:20250220T055016Z
UID:32571-1740646800-1740648600@miac.zdrav76.ru
SUMMARY:Сдача дежурств за предыдущий день в стационаре
DESCRIPTION:
URL:https://miac.zdrav76.ru/event/%d0%a1%d0%b4%d0%b0%d1%87%d0%b0-%d0%b4%d0%b5%d0%b6%d1%83%d1%80%d1%81%d1%82%d0%b2-%d0%b7%d0%b0-%d0%bf%d1%80%d0%b5%d0%b4%d1%8b%d0%b4%d1%83%d1%89%d0%b8%d0%b9-%d0%b4%d0%b5%d0%bd%d1%8c-%d0%b2-%d1%81-152/
END:VEVENT
BEGIN:VEVENT
DTSTART;TZID=Europe/Moscow:20250227T110000
DTEND;TZID=Europe/Moscow:20250227T123000
DTSTAMP:20260422T172028
CREATED:20250227T074033Z
LAST-MODIFIED:20250227T074033Z
UID:32756-1740654000-1740659400@miac.zdrav76.ru
SUMMARY:1С. Работы по проекту
DESCRIPTION:
URL:https://miac.zdrav76.ru/event/1%d0%a1-%d0%a0%d0%b0%d0%b1%d0%be%d1%82%d1%8b-%d0%bf%d0%be-%d0%bf%d1%80%d0%be%d0%b5%d0%ba%d1%82%d1%83-4/
END:VEVENT
BEGIN:VEVENT
DTSTART;TZID=Europe/Moscow:20250227T133000
DTEND;TZID=Europe/Moscow:20250227T150000
DTSTAMP:20260422T172028
CREATED:20250220T055326Z
LAST-MODIFIED:20250220T055326Z
UID:32579-1740663000-1740668400@miac.zdrav76.ru
SUMMARY:Разговор гл. внеш. спец-ов МЗ ЯО с терапевтами МР ЯО
DESCRIPTION:
URL:https://miac.zdrav76.ru/event/%d0%a0%d0%b0%d0%b7%d0%b3%d0%be%d0%b2%d0%be%d1%80-%d0%b3%d0%bb-%d0%b2%d0%bd%d0%b5%d1%88-%d1%81%d0%bf%d0%b5%d1%86-%d0%be%d0%b2-%d0%9c%d0%97-%d0%af%d0%9e-%d1%81-%d1%82%d0%b5%d1%80%d0%b0%d0%bf%d0%b5-3/
END:VEVENT
BEGIN:VEVENT
DTSTART;TZID=Europe/Moscow:20250227T150000
DTEND;TZID=Europe/Moscow:20250227T160000
DTSTAMP:20260422T172028
CREATED:20250220T055406Z
LAST-MODIFIED:20250220T055406Z
UID:32581-1740668400-1740672000@miac.zdrav76.ru
SUMMARY:РТК. РИС/ЦАМИ\, СМП
DESCRIPTION:
URL:https://miac.zdrav76.ru/event/%d0%a0%d0%a2%d0%9a-%d0%a0%d0%98%d0%a1-%d0%a6%d0%90%d0%9c%d0%98-%d0%a1%d0%9c%d0%9f-30/
END:VEVENT
BEGIN:VEVENT
DTSTART;TZID=Europe/Moscow:20250227T150000
DTEND;TZID=Europe/Moscow:20250227T163000
DTSTAMP:20260422T172028
CREATED:20250224T095354Z
LAST-MODIFIED:20250224T095354Z
UID:32650-1740668400-1740673800@miac.zdrav76.ru
SUMMARY:Отчет по хирургии за 2024 год
DESCRIPTION:
URL:https://miac.zdrav76.ru/event/%d0%9e%d1%82%d1%87%d0%b5%d1%82-%d0%bf%d0%be-%d1%85%d0%b8%d1%80%d1%83%d1%80%d0%b3%d0%b8%d0%b8-%d0%b7%d0%b0-2024-%d0%b3%d0%be%d0%b4/
END:VEVENT
END:VCALENDAR