BEGIN:VCALENDAR
VERSION:2.0
PRODID:-//ГБУЗ ЯО &quot;Медицинский информационно-аналитический центр&quot; - ECPv6.15.17.1//NONSGML v1.0//EN
CALSCALE:GREGORIAN
METHOD:PUBLISH
X-ORIGINAL-URL:https://miac.zdrav76.ru
X-WR-CALDESC:Мероприятия для ГБУЗ ЯО &quot;Медицинский информационно-аналитический центр&quot;
REFRESH-INTERVAL;VALUE=DURATION:PT1H
X-Robots-Tag:noindex
X-PUBLISHED-TTL:PT1H
BEGIN:VTIMEZONE
TZID:Europe/Moscow
BEGIN:STANDARD
TZOFFSETFROM:+0300
TZOFFSETTO:+0300
TZNAME:MSK
DTSTART:20240101T000000
END:STANDARD
END:VTIMEZONE
BEGIN:VEVENT
DTSTART;TZID=Europe/Moscow:20250211T090000
DTEND;TZID=Europe/Moscow:20250211T093000
DTSTAMP:20260420T171009
CREATED:20250206T083939Z
LAST-MODIFIED:20250206T083939Z
UID:32260-1739264400-1739266200@miac.zdrav76.ru
SUMMARY:Сдача дежурств за предыдущий день в стационаре
DESCRIPTION:
URL:https://miac.zdrav76.ru/event/%d0%a1%d0%b4%d0%b0%d1%87%d0%b0-%d0%b4%d0%b5%d0%b6%d1%83%d1%80%d1%81%d1%82%d0%b2-%d0%b7%d0%b0-%d0%bf%d1%80%d0%b5%d0%b4%d1%8b%d0%b4%d1%83%d1%89%d0%b8%d0%b9-%d0%b4%d0%b5%d0%bd%d1%8c-%d0%b2-%d1%81-140/
END:VEVENT
BEGIN:VEVENT
DTSTART;TZID=Europe/Moscow:20250211T110000
DTEND;TZID=Europe/Moscow:20250211T123000
DTSTAMP:20260420T171010
CREATED:20250207T063255Z
LAST-MODIFIED:20250207T063255Z
UID:32311-1739271600-1739277000@miac.zdrav76.ru
SUMMARY:СМП. Новый функционал
DESCRIPTION:
URL:https://miac.zdrav76.ru/event/%d0%a1%d0%9c%d0%9f-%d0%9d%d0%be%d0%b2%d1%8b%d0%b9-%d1%84%d1%83%d0%bd%d0%ba%d1%86%d0%b8%d0%be%d0%bd%d0%b0%d0%bb/
END:VEVENT
BEGIN:VEVENT
DTSTART;TZID=Europe/Moscow:20250211T120000
DTEND;TZID=Europe/Moscow:20250211T140000
DTSTAMP:20260420T171010
CREATED:20250210T111804Z
LAST-MODIFIED:20250210T111804Z
UID:32351-1739275200-1739282400@miac.zdrav76.ru
SUMMARY:Регистратура 1С Поликлиники. Подготовка к вводу в эксплуатацию
DESCRIPTION:
URL:https://miac.zdrav76.ru/event/%d0%a0%d0%b5%d0%b3%d0%b8%d1%81%d1%82%d1%80%d0%b0%d1%82%d1%83%d1%80%d0%b0-1%d0%a1-%d0%9f%d0%be%d0%bb%d0%b8%d0%ba%d0%bb%d0%b8%d0%bd%d0%b8%d0%ba%d0%b8-%d0%9f%d0%be%d0%b4%d0%b3%d0%be%d1%82%d0%be%d0%b2/
END:VEVENT
BEGIN:VEVENT
DTSTART;TZID=Europe/Moscow:20250211T130000
DTEND;TZID=Europe/Moscow:20250211T143000
DTSTAMP:20260420T171010
CREATED:20250206T084842Z
LAST-MODIFIED:20250206T084842Z
UID:32276-1739278800-1739284200@miac.zdrav76.ru
SUMMARY:“Наставничество” с гл. внеш. специалистами МЗ ЯО
DESCRIPTION:
URL:https://miac.zdrav76.ru/event/%d0%9d%d0%b0%d1%81%d1%82%d0%b0%d0%b2%d0%bd%d0%b8%d1%87%d0%b5%d1%81%d1%82%d0%b2%d0%be-%d1%81-%d0%b3%d0%bb-%d0%b2%d0%bd%d0%b5%d1%88-%d1%81%d0%bf%d0%b5%d1%86%d0%b8%d0%b0%d0%bb%d0%b8-2/
END:VEVENT
BEGIN:VEVENT
DTSTART;TZID=Europe/Moscow:20250211T150000
DTEND;TZID=Europe/Moscow:20250211T163000
DTSTAMP:20260420T171010
CREATED:20250206T084940Z
LAST-MODIFIED:20250206T084940Z
UID:32278-1739286000-1739291400@miac.zdrav76.ru
SUMMARY:1С. Текущие проекты
DESCRIPTION:
URL:https://miac.zdrav76.ru/event/1%d0%a1-%d0%a2%d0%b5%d0%ba%d1%83%d1%89%d0%b8%d0%b5-%d0%bf%d1%80%d0%be%d0%b5%d0%ba%d1%82%d1%8b-7/
END:VEVENT
END:VCALENDAR