BEGIN:VCALENDAR
VERSION:2.0
PRODID:-//ГБУЗ ЯО &quot;Медицинский информационно-аналитический центр&quot; - ECPv6.15.17.1//NONSGML v1.0//EN
CALSCALE:GREGORIAN
METHOD:PUBLISH
X-ORIGINAL-URL:https://miac.zdrav76.ru
X-WR-CALDESC:Мероприятия для ГБУЗ ЯО &quot;Медицинский информационно-аналитический центр&quot;
REFRESH-INTERVAL;VALUE=DURATION:PT1H
X-Robots-Tag:noindex
X-PUBLISHED-TTL:PT1H
BEGIN:VTIMEZONE
TZID:Europe/Moscow
BEGIN:STANDARD
TZOFFSETFROM:+0300
TZOFFSETTO:+0300
TZNAME:MSK
DTSTART:20240101T000000
END:STANDARD
END:VTIMEZONE
BEGIN:VEVENT
DTSTART;TZID=Europe/Moscow:20250205T090000
DTEND;TZID=Europe/Moscow:20250205T093000
DTSTAMP:20260420T183919
CREATED:20250130T115335Z
LAST-MODIFIED:20250130T115335Z
UID:32159-1738746000-1738747800@miac.zdrav76.ru
SUMMARY:Сдача дежурств за предыдущий день в стационаре
DESCRIPTION:
URL:https://miac.zdrav76.ru/event/%d0%a1%d0%b4%d0%b0%d1%87%d0%b0-%d0%b4%d0%b5%d0%b6%d1%83%d1%80%d1%81%d1%82%d0%b2-%d0%b7%d0%b0-%d0%bf%d1%80%d0%b5%d0%b4%d1%8b%d0%b4%d1%83%d1%89%d0%b8%d0%b9-%d0%b4%d0%b5%d0%bd%d1%8c-%d0%b2-%d1%81-136/
END:VEVENT
BEGIN:VEVENT
DTSTART;TZID=Europe/Moscow:20250205T150000
DTEND;TZID=Europe/Moscow:20250205T160000
DTSTAMP:20260420T183919
CREATED:20250207T083902Z
LAST-MODIFIED:20250207T083902Z
UID:32321-1738767600-1738771200@miac.zdrav76.ru
SUMMARY:МЗ ЯО_МЦР ЯО
DESCRIPTION:
URL:https://miac.zdrav76.ru/event/%d0%9c%d0%97-%d0%af%d0%9e_%d0%9c%d0%a6%d0%a0-%d0%af%d0%9e/
END:VEVENT
END:VCALENDAR