BEGIN:VCALENDAR
VERSION:2.0
PRODID:-//ГБУЗ ЯО &quot;Медицинский информационно-аналитический центр&quot; - ECPv6.15.17.1//NONSGML v1.0//EN
CALSCALE:GREGORIAN
METHOD:PUBLISH
X-WR-CALNAME:ГБУЗ ЯО &quot;Медицинский информационно-аналитический центр&quot;
X-ORIGINAL-URL:https://miac.zdrav76.ru
X-WR-CALDESC:Мероприятия для ГБУЗ ЯО &quot;Медицинский информационно-аналитический центр&quot;
REFRESH-INTERVAL;VALUE=DURATION:PT1H
X-Robots-Tag:noindex
X-PUBLISHED-TTL:PT1H
BEGIN:VTIMEZONE
TZID:Europe/Moscow
BEGIN:STANDARD
TZOFFSETFROM:+0300
TZOFFSETTO:+0300
TZNAME:MSK
DTSTART:20240101T000000
END:STANDARD
END:VTIMEZONE
BEGIN:VEVENT
DTSTART;TZID=Europe/Moscow:20250109T090000
DTEND;TZID=Europe/Moscow:20250109T093000
DTSTAMP:20260420T201237
CREATED:20241228T054545Z
LAST-MODIFIED:20241228T054545Z
UID:31570-1736413200-1736415000@miac.zdrav76.ru
SUMMARY:Сдача дежурств за предыдущий день в стационаре
DESCRIPTION:
URL:https://miac.zdrav76.ru/event/%d0%a1%d0%b4%d0%b0%d1%87%d0%b0-%d0%b4%d0%b5%d0%b6%d1%83%d1%80%d1%81%d1%82%d0%b2-%d0%b7%d0%b0-%d0%bf%d1%80%d0%b5%d0%b4%d1%8b%d0%b4%d1%83%d1%89%d0%b8%d0%b9-%d0%b4%d0%b5%d0%bd%d1%8c-%d0%b2-%d1%81-117/
END:VEVENT
BEGIN:VEVENT
DTSTART;TZID=Europe/Moscow:20250109T130000
DTEND;TZID=Europe/Moscow:20250109T143000
DTSTAMP:20260420T201237
CREATED:20250109T071248Z
LAST-MODIFIED:20250109T071248Z
UID:31676-1736427600-1736433000@miac.zdrav76.ru
SUMMARY:ЛЛО. Совещание под руководством Корзиной Н.С.
DESCRIPTION:
URL:https://miac.zdrav76.ru/event/%d0%9b%d0%9b%d0%9e-%d0%a1%d0%be%d0%b2%d0%b5%d1%89%d0%b0%d0%bd%d0%b8%d0%b5-%d0%bf%d0%be%d0%b4-%d1%80%d1%83%d0%ba%d0%be%d0%b2%d0%be%d0%b4%d1%81%d1%82%d0%b2%d0%be%d0%bc-%d0%9a%d0%be%d1%80%d0%b7%d0%b8-2/
END:VEVENT
BEGIN:VEVENT
DTSTART;TZID=Europe/Moscow:20250109T133000
DTEND;TZID=Europe/Moscow:20250109T150000
DTSTAMP:20260420T201237
CREATED:20250109T070954Z
LAST-MODIFIED:20250109T070954Z
UID:31672-1736429400-1736434800@miac.zdrav76.ru
SUMMARY:Разговор гл. внештатн. специалистов МЗ ЯО с врачами-терапевтами МР ЯО
DESCRIPTION:
URL:https://miac.zdrav76.ru/event/%d0%a0%d0%b0%d0%b7%d0%b3%d0%be%d0%b2%d0%be%d1%80-%d0%b3%d0%bb-%d0%b2%d0%bd%d0%b5%d1%88%d1%82%d0%b0%d1%82%d0%bd-%d1%81%d0%bf%d0%b5%d1%86%d0%b8%d0%b0%d0%bb%d0%b8%d1%81%d1%82%d0%be%d0%b2-%d0%9c%d0%97/
END:VEVENT
BEGIN:VEVENT
DTSTART;TZID=Europe/Moscow:20250109T150000
DTEND;TZID=Europe/Moscow:20250109T163000
DTSTAMP:20260420T201237
CREATED:20250109T071030Z
LAST-MODIFIED:20250109T071030Z
UID:31674-1736434800-1736440200@miac.zdrav76.ru
SUMMARY:РТК. РИС/ЦАМИ\, СМП
DESCRIPTION:
URL:https://miac.zdrav76.ru/event/%d0%a0%d0%a2%d0%9a-%d0%a0%d0%98%d0%a1-%d0%a6%d0%90%d0%9c%d0%98-%d0%a1%d0%9c%d0%9f-23/
END:VEVENT
END:VCALENDAR