BEGIN:VCALENDAR
VERSION:2.0
PRODID:-//ГБУЗ ЯО &quot;Медицинский информационно-аналитический центр&quot; - ECPv6.15.17.1//NONSGML v1.0//EN
CALSCALE:GREGORIAN
METHOD:PUBLISH
X-ORIGINAL-URL:https://miac.zdrav76.ru
X-WR-CALDESC:Мероприятия для ГБУЗ ЯО &quot;Медицинский информационно-аналитический центр&quot;
REFRESH-INTERVAL;VALUE=DURATION:PT1H
X-Robots-Tag:noindex
X-PUBLISHED-TTL:PT1H
BEGIN:VTIMEZONE
TZID:Europe/Moscow
BEGIN:STANDARD
TZOFFSETFROM:+0300
TZOFFSETTO:+0300
TZNAME:MSK
DTSTART:20230101T000000
END:STANDARD
END:VTIMEZONE
BEGIN:VEVENT
DTSTART;TZID=Europe/Moscow:20241217T090000
DTEND;TZID=Europe/Moscow:20241217T093000
DTSTAMP:20260422T141842
CREATED:20241209T053432Z
LAST-MODIFIED:20241209T053432Z
UID:31139-1734426000-1734427800@miac.zdrav76.ru
SUMMARY:Сдача дежурств за предыдущий день в стационаре
DESCRIPTION:
URL:https://miac.zdrav76.ru/event/%d0%a1%d0%b4%d0%b0%d1%87%d0%b0-%d0%b4%d0%b5%d0%b6%d1%83%d1%80%d1%81%d1%82%d0%b2-%d0%b7%d0%b0-%d0%bf%d1%80%d0%b5%d0%b4%d1%8b%d0%b4%d1%83%d1%89%d0%b8%d0%b9-%d0%b4%d0%b5%d0%bd%d1%8c-%d0%b2-%d1%81-107/
END:VEVENT
BEGIN:VEVENT
DTSTART;TZID=Europe/Moscow:20241217T130000
DTEND;TZID=Europe/Moscow:20241217T140000
DTSTAMP:20260422T141842
CREATED:20241209T053703Z
LAST-MODIFIED:20241209T053703Z
UID:31147-1734440400-1734444000@miac.zdrav76.ru
SUMMARY:Орг. совещание по проекту “Наставничество” с гл. внеш. специалистами МЗ ЯО
DESCRIPTION:
URL:https://miac.zdrav76.ru/event/%d0%9e%d1%80%d0%b3-%d1%81%d0%be%d0%b2%d0%b5%d1%89%d0%b0%d0%bd%d0%b8%d0%b5-%d0%bf%d0%be-%d0%bf%d1%80%d0%be%d0%b5%d0%ba%d1%82%d1%83-%d0%9d%d0%b0%d1%81%d1%82%d0%b0%d0%b2%d0%bd%d0%b8%d1%87%d0%b5-7/
END:VEVENT
BEGIN:VEVENT
DTSTART;TZID=Europe/Moscow:20241217T150000
DTEND;TZID=Europe/Moscow:20241217T163000
DTSTAMP:20260422T141842
CREATED:20241209T053753Z
LAST-MODIFIED:20241209T053753Z
UID:31149-1734447600-1734453000@miac.zdrav76.ru
SUMMARY:1С. Текущие проекты
DESCRIPTION:
URL:https://miac.zdrav76.ru/event/1%d0%a1-%d0%a2%d0%b5%d0%ba%d1%83%d1%89%d0%b8%d0%b5-%d0%bf%d1%80%d0%be%d0%b5%d0%ba%d1%82%d1%8b/
END:VEVENT
END:VCALENDAR