BEGIN:VCALENDAR
VERSION:2.0
PRODID:-//ГБУЗ ЯО &quot;Медицинский информационно-аналитический центр&quot; - ECPv6.15.17.1//NONSGML v1.0//EN
CALSCALE:GREGORIAN
METHOD:PUBLISH
X-ORIGINAL-URL:https://miac.zdrav76.ru
X-WR-CALDESC:Мероприятия для ГБУЗ ЯО &quot;Медицинский информационно-аналитический центр&quot;
REFRESH-INTERVAL;VALUE=DURATION:PT1H
X-Robots-Tag:noindex
X-PUBLISHED-TTL:PT1H
BEGIN:VTIMEZONE
TZID:Europe/Moscow
BEGIN:STANDARD
TZOFFSETFROM:+0300
TZOFFSETTO:+0300
TZNAME:MSK
DTSTART:20230101T000000
END:STANDARD
END:VTIMEZONE
BEGIN:VEVENT
DTSTART;TZID=Europe/Moscow:20241213T090000
DTEND;TZID=Europe/Moscow:20241213T093000
DTSTAMP:20260421T005036
CREATED:20241202T131455Z
LAST-MODIFIED:20241202T131455Z
UID:30980-1734080400-1734082200@miac.zdrav76.ru
SUMMARY:Сдача дежурств за предыдущий день в стационаре
DESCRIPTION:
URL:https://miac.zdrav76.ru/event/%d0%a1%d0%b4%d0%b0%d1%87%d0%b0-%d0%b4%d0%b5%d0%b6%d1%83%d1%80%d1%81%d1%82%d0%b2-%d0%b7%d0%b0-%d0%bf%d1%80%d0%b5%d0%b4%d1%8b%d0%b4%d1%83%d1%89%d0%b8%d0%b9-%d0%b4%d0%b5%d0%bd%d1%8c-%d0%b2-%d1%81-105/
END:VEVENT
BEGIN:VEVENT
DTSTART;TZID=Europe/Moscow:20241213T120000
DTEND;TZID=Europe/Moscow:20241213T130000
DTSTAMP:20260421T005036
CREATED:20241202T131834Z
LAST-MODIFIED:20241202T131834Z
UID:30990-1734091200-1734094800@miac.zdrav76.ru
SUMMARY:Рабочее совещание с ЦАОП ЯО
DESCRIPTION:
URL:https://miac.zdrav76.ru/event/%d0%a0%d0%b0%d0%b1%d0%be%d1%87%d0%b5%d0%b5-%d1%81%d0%be%d0%b2%d0%b5%d1%89%d0%b0%d0%bd%d0%b8%d0%b5-%d1%81-%d0%a6%d0%90%d0%9e%d0%9f-%d0%af%d0%9e-14/
END:VEVENT
BEGIN:VEVENT
DTSTART;TZID=Europe/Moscow:20241213T130000
DTEND;TZID=Europe/Moscow:20241213T150000
DTSTAMP:20260421T005036
CREATED:20241213T045130Z
LAST-MODIFIED:20241213T045130Z
UID:31206-1734094800-1734102000@miac.zdrav76.ru
SUMMARY:РИС1С
DESCRIPTION:
URL:https://miac.zdrav76.ru/event/%d0%a0%d0%98%d0%a11%d0%a1/
LOCATION:В режиме ВКС
END:VEVENT
END:VCALENDAR