BEGIN:VCALENDAR
VERSION:2.0
PRODID:-//ГБУЗ ЯО &quot;Медицинский информационно-аналитический центр&quot; - ECPv6.15.17.1//NONSGML v1.0//EN
CALSCALE:GREGORIAN
METHOD:PUBLISH
X-ORIGINAL-URL:https://miac.zdrav76.ru
X-WR-CALDESC:Мероприятия для ГБУЗ ЯО &quot;Медицинский информационно-аналитический центр&quot;
REFRESH-INTERVAL;VALUE=DURATION:PT1H
X-Robots-Tag:noindex
X-PUBLISHED-TTL:PT1H
BEGIN:VTIMEZONE
TZID:Europe/Moscow
BEGIN:STANDARD
TZOFFSETFROM:+0300
TZOFFSETTO:+0300
TZNAME:MSK
DTSTART:20230101T000000
END:STANDARD
END:VTIMEZONE
BEGIN:VEVENT
DTSTART;TZID=Europe/Moscow:20241127T090000
DTEND;TZID=Europe/Moscow:20241127T093000
DTSTAMP:20260424T132251
CREATED:20241118T094249Z
LAST-MODIFIED:20241118T094537Z
UID:30655-1732698000-1732699800@miac.zdrav76.ru
SUMMARY:Сдача дежурств за предыдущий день в стационаре
DESCRIPTION:
URL:https://miac.zdrav76.ru/event/%d0%a1%d0%b4%d0%b0%d1%87%d0%b0-%d0%b4%d0%b5%d0%b6%d1%83%d1%80%d1%81%d1%82%d0%b2-%d0%b7%d0%b0-%d0%bf%d1%80%d0%b5%d0%b4%d1%8b%d0%b4%d1%83%d1%89%d0%b8%d0%b9-%d0%b4%d0%b5%d0%bd%d1%8c-%d0%b2-%d1%81-93/
END:VEVENT
BEGIN:VEVENT
DTSTART;TZID=Europe/Moscow:20241127T100000
DTEND;TZID=Europe/Moscow:20241127T110000
DTSTAMP:20260424T132251
CREATED:20241127T100152Z
LAST-MODIFIED:20241127T100152Z
UID:30900-1732701600-1732705200@miac.zdrav76.ru
SUMMARY:МР. Перенос данных из КС
DESCRIPTION:
URL:https://miac.zdrav76.ru/event/%d0%9c%d0%a0-%d0%9f%d0%b5%d1%80%d0%b5%d0%bd%d0%be%d1%81-%d0%b4%d0%b0%d0%bd%d0%bd%d1%8b%d1%85-%d0%b8%d0%b7-%d0%9a%d0%a1/
LOCATION:В режиме ВКС
END:VEVENT
BEGIN:VEVENT
DTSTART;TZID=Europe/Moscow:20241127T130000
DTEND;TZID=Europe/Moscow:20241127T143000
DTSTAMP:20260424T132251
CREATED:20241120T113022Z
LAST-MODIFIED:20241120T113022Z
UID:30776-1732712400-1732717800@miac.zdrav76.ru
SUMMARY:Организация работы онкологической помощи в ЯО в 2024 году. Стат. отчетность.
DESCRIPTION:
URL:https://miac.zdrav76.ru/event/%d0%9e%d1%80%d0%b3%d0%b0%d0%bd%d0%b8%d0%b7%d0%b0%d1%86%d0%b8%d1%8f-%d1%80%d0%b0%d0%b1%d0%be%d1%82%d1%8b-%d0%be%d0%bd%d0%ba%d0%be%d0%bb%d0%be%d0%b3%d0%b8%d1%87%d0%b5%d1%81%d0%ba%d0%be%d0%b9-%d0%bf/
END:VEVENT
BEGIN:VEVENT
DTSTART;TZID=Europe/Moscow:20241127T140000
DTEND;TZID=Europe/Moscow:20241127T150000
DTSTAMP:20260424T132251
CREATED:20241127T100027Z
LAST-MODIFIED:20241127T100027Z
UID:30898-1732716000-1732719600@miac.zdrav76.ru
SUMMARY:Семьи СМА
DESCRIPTION:
URL:https://miac.zdrav76.ru/event/%d0%a1%d0%b5%d0%bc%d1%8c%d0%b8-%d0%a1%d0%9c%d0%90/
LOCATION:В режиме ВКС
END:VEVENT
END:VCALENDAR