BEGIN:VCALENDAR
VERSION:2.0
PRODID:-//ГБУЗ ЯО &quot;Медицинский информационно-аналитический центр&quot; - ECPv6.15.17.1//NONSGML v1.0//EN
CALSCALE:GREGORIAN
METHOD:PUBLISH
X-ORIGINAL-URL:https://miac.zdrav76.ru
X-WR-CALDESC:Мероприятия для ГБУЗ ЯО &quot;Медицинский информационно-аналитический центр&quot;
REFRESH-INTERVAL;VALUE=DURATION:PT1H
X-Robots-Tag:noindex
X-PUBLISHED-TTL:PT1H
BEGIN:VTIMEZONE
TZID:Europe/Moscow
BEGIN:STANDARD
TZOFFSETFROM:+0300
TZOFFSETTO:+0300
TZNAME:MSK
DTSTART:20230101T000000
END:STANDARD
END:VTIMEZONE
BEGIN:VEVENT
DTSTART;TZID=Europe/Moscow:20241125T090000
DTEND;TZID=Europe/Moscow:20241125T093000
DTSTAMP:20260421T044348
CREATED:20241118T094201Z
LAST-MODIFIED:20241118T094201Z
UID:30650-1732525200-1732527000@miac.zdrav76.ru
SUMMARY:Сдача дежурств за предыдущий день в стационаре
DESCRIPTION:
URL:https://miac.zdrav76.ru/event/%d0%a1%d0%b4%d0%b0%d1%87%d0%b0-%d0%b4%d0%b5%d0%b6%d1%83%d1%80%d1%81%d1%82%d0%b2-%d0%b7%d0%b0-%d0%bf%d1%80%d0%b5%d0%b4%d1%8b%d0%b4%d1%83%d1%89%d0%b8%d0%b9-%d0%b4%d0%b5%d0%bd%d1%8c-%d0%b2-%d1%81-91/
END:VEVENT
BEGIN:VEVENT
DTSTART;TZID=Europe/Moscow:20241125T160000
DTEND;TZID=Europe/Moscow:20241125T170000
DTSTAMP:20260421T044348
CREATED:20241126T062852Z
LAST-MODIFIED:20241126T062852Z
UID:30893-1732550400-1732554000@miac.zdrav76.ru
SUMMARY:ЦТ. Организационные вопросы
DESCRIPTION:
URL:https://miac.zdrav76.ru/event/%d0%a6%d0%a2-%d0%9e%d1%80%d0%b3%d0%b0%d0%bd%d0%b8%d0%b7%d0%b0%d1%86%d0%b8%d0%be%d0%bd%d0%bd%d1%8b%d0%b5-%d0%b2%d0%be%d0%bf%d1%80%d0%be%d1%81%d1%8b-10/
LOCATION:В режиме ВКС
END:VEVENT
BEGIN:VEVENT
DTSTART;TZID=Europe/Moscow:20241125T170000
DTEND;TZID=Europe/Moscow:20241125T173000
DTSTAMP:20260421T044348
CREATED:20241126T062802Z
LAST-MODIFIED:20241126T062802Z
UID:30890-1732554000-1732555800@miac.zdrav76.ru
SUMMARY:Оснащение школ сахарного диабета
DESCRIPTION:
URL:https://miac.zdrav76.ru/event/%d0%9e%d1%81%d0%bd%d0%b0%d1%89%d0%b5%d0%bd%d0%b8%d0%b5-%d1%88%d0%ba%d0%be%d0%bb-%d1%81%d0%b0%d1%85%d0%b0%d1%80%d0%bd%d0%be%d0%b3%d0%be-%d0%b4%d0%b8%d0%b0%d0%b1%d0%b5%d1%82%d0%b0/
LOCATION:В режиме ВКС
END:VEVENT
END:VCALENDAR