BEGIN:VCALENDAR
VERSION:2.0
PRODID:-//ГБУЗ ЯО &quot;Медицинский информационно-аналитический центр&quot; - ECPv6.15.17.1//NONSGML v1.0//EN
CALSCALE:GREGORIAN
METHOD:PUBLISH
X-WR-CALNAME:ГБУЗ ЯО &quot;Медицинский информационно-аналитический центр&quot;
X-ORIGINAL-URL:https://miac.zdrav76.ru
X-WR-CALDESC:Мероприятия для ГБУЗ ЯО &quot;Медицинский информационно-аналитический центр&quot;
REFRESH-INTERVAL;VALUE=DURATION:PT1H
X-Robots-Tag:noindex
X-PUBLISHED-TTL:PT1H
BEGIN:VTIMEZONE
TZID:Europe/Moscow
BEGIN:STANDARD
TZOFFSETFROM:+0300
TZOFFSETTO:+0300
TZNAME:MSK
DTSTART:20230101T000000
END:STANDARD
END:VTIMEZONE
BEGIN:VEVENT
DTSTART;TZID=Europe/Moscow:20241121T090000
DTEND;TZID=Europe/Moscow:20241121T093000
DTSTAMP:20260421T091423
CREATED:20241113T052222Z
LAST-MODIFIED:20241113T052222Z
UID:30549-1732179600-1732181400@miac.zdrav76.ru
SUMMARY:Сдача дежурств за предыдущий день в стационаре
DESCRIPTION:
URL:https://miac.zdrav76.ru/event/%d0%a1%d0%b4%d0%b0%d1%87%d0%b0-%d0%b4%d0%b5%d0%b6%d1%83%d1%80%d1%81%d1%82%d0%b2-%d0%b7%d0%b0-%d0%bf%d1%80%d0%b5%d0%b4%d1%8b%d0%b4%d1%83%d1%89%d0%b8%d0%b9-%d0%b4%d0%b5%d0%bd%d1%8c-%d0%b2-%d1%81-89/
END:VEVENT
BEGIN:VEVENT
DTSTART;TZID=Europe/Moscow:20241121T090000
DTEND;TZID=Europe/Moscow:20241121T103000
DTSTAMP:20260421T091423
CREATED:20241121T055107Z
LAST-MODIFIED:20241121T055107Z
UID:30778-1732179600-1732185000@miac.zdrav76.ru
SUMMARY:ЦТ. Организационные вопросы
DESCRIPTION:
URL:https://miac.zdrav76.ru/event/%d0%a6%d0%a2-%d0%9e%d1%80%d0%b3%d0%b0%d0%bd%d0%b8%d0%b7%d0%b0%d1%86%d0%b8%d0%be%d0%bd%d0%bd%d1%8b%d0%b5-%d0%b2%d0%be%d0%bf%d1%80%d0%be%d1%81%d1%8b-9/
LOCATION:В режиме ВКС
END:VEVENT
BEGIN:VEVENT
DTSTART;TZID=Europe/Moscow:20241121T110000
DTEND;TZID=Europe/Moscow:20241121T123000
DTSTAMP:20260421T091423
CREATED:20241118T104152Z
LAST-MODIFIED:20241118T104152Z
UID:30673-1732186800-1732192200@miac.zdrav76.ru
SUMMARY:Переход на единую МИС
DESCRIPTION:
URL:https://miac.zdrav76.ru/event/%d0%9f%d0%b5%d1%80%d0%b5%d1%85%d0%be%d0%b4-%d0%bd%d0%b0-%d0%b5%d0%b4%d0%b8%d0%bd%d1%83%d1%8e-%d0%9c%d0%98%d0%a1-2/
LOCATION:В режиме ВКС
END:VEVENT
BEGIN:VEVENT
DTSTART;TZID=Europe/Moscow:20241121T133000
DTEND;TZID=Europe/Moscow:20241121T150000
DTSTAMP:20260421T091423
CREATED:20241113T052603Z
LAST-MODIFIED:20241113T052603Z
UID:30557-1732195800-1732201200@miac.zdrav76.ru
SUMMARY:Разговор гл. внеш. спец. МЗ ЯО с врачами-терапевтами МР ЯО
DESCRIPTION:
URL:https://miac.zdrav76.ru/event/%d0%a0%d0%b0%d0%b7%d0%b3%d0%be%d0%b2%d0%be%d1%80-%d0%b3%d0%bb-%d0%b2%d0%bd%d0%b5%d1%88-%d1%81%d0%bf%d0%b5%d1%86-%d0%9c%d0%97-%d0%af%d0%9e-%d1%81-%d0%b2%d1%80%d0%b0%d1%87%d0%b0%d0%bc%d0%b8-%d1%82-3/
END:VEVENT
BEGIN:VEVENT
DTSTART;TZID=Europe/Moscow:20241121T150000
DTEND;TZID=Europe/Moscow:20241121T160000
DTSTAMP:20260421T091423
CREATED:20241113T052648Z
LAST-MODIFIED:20241113T052648Z
UID:30559-1732201200-1732204800@miac.zdrav76.ru
SUMMARY:РТК. РИС/ЦАМИ\, СМП
DESCRIPTION:
URL:https://miac.zdrav76.ru/event/%d0%a0%d0%a2%d0%9a-%d0%a0%d0%98%d0%a1-%d0%a6%d0%90%d0%9c%d0%98-%d0%a1%d0%9c%d0%9f-17/
END:VEVENT
END:VCALENDAR