BEGIN:VCALENDAR
VERSION:2.0
PRODID:-//ГБУЗ ЯО &quot;Медицинский информационно-аналитический центр&quot; - ECPv6.15.17.1//NONSGML v1.0//EN
CALSCALE:GREGORIAN
METHOD:PUBLISH
X-ORIGINAL-URL:https://miac.zdrav76.ru
X-WR-CALDESC:Мероприятия для ГБУЗ ЯО &quot;Медицинский информационно-аналитический центр&quot;
REFRESH-INTERVAL;VALUE=DURATION:PT1H
X-Robots-Tag:noindex
X-PUBLISHED-TTL:PT1H
BEGIN:VTIMEZONE
TZID:Europe/Moscow
BEGIN:STANDARD
TZOFFSETFROM:+0300
TZOFFSETTO:+0300
TZNAME:MSK
DTSTART:20230101T000000
END:STANDARD
END:VTIMEZONE
BEGIN:VEVENT
DTSTART;TZID=Europe/Moscow:20241120T090000
DTEND;TZID=Europe/Moscow:20241120T093000
DTSTAMP:20260421T104806
CREATED:20241113T052156Z
LAST-MODIFIED:20241113T052156Z
UID:30547-1732093200-1732095000@miac.zdrav76.ru
SUMMARY:Сдача дежурств за предыдущий день в стационаре
DESCRIPTION:
URL:https://miac.zdrav76.ru/event/%d0%a1%d0%b4%d0%b0%d1%87%d0%b0-%d0%b4%d0%b5%d0%b6%d1%83%d1%80%d1%81%d1%82%d0%b2-%d0%b7%d0%b0-%d0%bf%d1%80%d0%b5%d0%b4%d1%8b%d0%b4%d1%83%d1%89%d0%b8%d0%b9-%d0%b4%d0%b5%d0%bd%d1%8c-%d0%b2-%d1%81-88/
END:VEVENT
BEGIN:VEVENT
DTSTART;TZID=Europe/Moscow:20241120T103000
DTEND;TZID=Europe/Moscow:20241120T120000
DTSTAMP:20260421T104806
CREATED:20241120T051146Z
LAST-MODIFIED:20241120T051146Z
UID:30770-1732098600-1732104000@miac.zdrav76.ru
SUMMARY:ЛЛО. Отсроченные рецепты. Отказы в выписке препаратов инсулина»
DESCRIPTION:
URL:https://miac.zdrav76.ru/event/%d0%9b%d0%9b%d0%9e-%d0%9e%d1%82%d1%81%d1%80%d0%be%d1%87%d0%b5%d0%bd%d0%bd%d1%8b%d0%b5-%d1%80%d0%b5%d1%86%d0%b5%d0%bf%d1%82%d1%8b-%d0%9e%d1%82%d0%ba%d0%b0%d0%b7%d1%8b-%d0%b2-%d0%b2%d1%8b%d0%bf%d0%b8/
END:VEVENT
BEGIN:VEVENT
DTSTART;TZID=Europe/Moscow:20241120T133000
DTEND;TZID=Europe/Moscow:20241120T150000
DTSTAMP:20260421T104806
CREATED:20241120T075537Z
LAST-MODIFIED:20241120T112343Z
UID:30772-1732109400-1732114800@miac.zdrav76.ru
SUMMARY:Модернизация первичного звена. Формирование программы 26-30
DESCRIPTION:
URL:https://miac.zdrav76.ru/event/%d0%9c%d0%be%d0%b4%d0%b5%d1%80%d0%bd%d0%b8%d0%b7%d0%b0%d1%86%d0%b8%d1%8f-%d0%bf%d0%b5%d1%80%d0%b2%d0%b8%d1%87%d0%bd%d0%be%d0%b3%d0%be-%d0%b7%d0%b2%d0%b5%d0%bd%d0%b0-%d0%a4%d0%be%d1%80%d0%bc%d0%b8/
LOCATION:В режиме ВКС
END:VEVENT
END:VCALENDAR