BEGIN:VCALENDAR
VERSION:2.0
PRODID:-//ГБУЗ ЯО &quot;Медицинский информационно-аналитический центр&quot; - ECPv6.15.17.1//NONSGML v1.0//EN
CALSCALE:GREGORIAN
METHOD:PUBLISH
X-WR-CALNAME:ГБУЗ ЯО &quot;Медицинский информационно-аналитический центр&quot;
X-ORIGINAL-URL:https://miac.zdrav76.ru
X-WR-CALDESC:Мероприятия для ГБУЗ ЯО &quot;Медицинский информационно-аналитический центр&quot;
REFRESH-INTERVAL;VALUE=DURATION:PT1H
X-Robots-Tag:noindex
X-PUBLISHED-TTL:PT1H
BEGIN:VTIMEZONE
TZID:Europe/Moscow
BEGIN:STANDARD
TZOFFSETFROM:+0300
TZOFFSETTO:+0300
TZNAME:MSK
DTSTART:20230101T000000
END:STANDARD
END:VTIMEZONE
BEGIN:VEVENT
DTSTART;TZID=Europe/Moscow:20241022T090000
DTEND;TZID=Europe/Moscow:20241022T093000
DTSTAMP:20260424T021333
CREATED:20241021T125249Z
LAST-MODIFIED:20241021T125249Z
UID:30118-1729587600-1729589400@miac.zdrav76.ru
SUMMARY:Сдача дежурств за предыдущий день в стационаре
DESCRIPTION:
URL:https://miac.zdrav76.ru/event/%d0%a1%d0%b4%d0%b0%d1%87%d0%b0-%d0%b4%d0%b5%d0%b6%d1%83%d1%80%d1%81%d1%82%d0%b2-%d0%b7%d0%b0-%d0%bf%d1%80%d0%b5%d0%b4%d1%8b%d0%b4%d1%83%d1%89%d0%b8%d0%b9-%d0%b4%d0%b5%d0%bd%d1%8c-%d0%b2-%d1%81-67/
END:VEVENT
BEGIN:VEVENT
DTSTART;TZID=Europe/Moscow:20241022T093000
DTEND;TZID=Europe/Moscow:20241022T113000
DTSTAMP:20260424T021333
CREATED:20241021T125301Z
LAST-MODIFIED:20241021T125301Z
UID:30113-1729589400-1729596600@miac.zdrav76.ru
SUMMARY:Льготное лекарственное обеспечение
DESCRIPTION:✅  Тема:\n1. Подготовка к приезду НМИЦ эндокринологии\n2. ЛЛО общие вопросы\n3. ⁠Исполнение судебных решений и закупка по ВК (итоги 2024\, план 2025)\n✅ Перед началом ВКС проверить звук и работу камер.\n‼️ ‼️ ‼️ ПРИСУТСТВИЕ ГЛАВНЫХ ВРАЧЕЙ ОБЯЗАТЕЛЬНО\n‼️ ‼️ ‼️ МО не подключающие камеры будет зафиксированы как не явившиеся на ВКС.\n✅ Техническая поддержка: (4852)20-54-09\, support@zdrav.yar.ru.
URL:https://miac.zdrav76.ru/event/%d0%9b%d1%8c%d0%b3%d0%be%d1%82%d0%bd%d0%be%d0%b5-%d0%bb%d0%b5%d0%ba%d0%b0%d1%80%d1%81%d1%82%d0%b2%d0%b5%d0%bd%d0%bd%d0%be%d0%b5-%d0%be%d0%b1%d0%b5%d1%81%d0%bf%d0%b5%d1%87%d0%b5%d0%bd%d0%b8%d0%b5-2/
LOCATION:В режиме ВКС
CATEGORIES:ДЗиФ
END:VEVENT
BEGIN:VEVENT
DTSTART;TZID=Europe/Moscow:20241022T133000
DTEND;TZID=Europe/Moscow:20241022T150000
DTSTAMP:20260424T021333
CREATED:20241022T100219Z
LAST-MODIFIED:20241022T100219Z
UID:30146-1729603800-1729609200@miac.zdrav76.ru
SUMMARY:Выполнение показателей цифровизации
DESCRIPTION:
URL:https://miac.zdrav76.ru/event/%d0%92%d1%8b%d0%bf%d0%be%d0%bb%d0%bd%d0%b5%d0%bd%d0%b8%d0%b5-%d0%bf%d0%be%d0%ba%d0%b0%d0%b7%d0%b0%d1%82%d0%b5%d0%bb%d0%b5%d0%b9-%d1%86%d0%b8%d1%84%d1%80%d0%be%d0%b2%d0%b8%d0%b7%d0%b0%d1%86%d0%b8%d0%b8/
END:VEVENT
BEGIN:VEVENT
DTSTART;TZID=Europe/Moscow:20241022T150000
DTEND;TZID=Europe/Moscow:20241022T160000
DTSTAMP:20260424T021333
CREATED:20241021T125534Z
LAST-MODIFIED:20241021T125534Z
UID:30128-1729609200-1729612800@miac.zdrav76.ru
SUMMARY:Самара. Текущие проекты
DESCRIPTION:
URL:https://miac.zdrav76.ru/event/%d0%a1%d0%b0%d0%bc%d0%b0%d1%80%d0%b0-%d0%a2%d0%b5%d0%ba%d1%83%d1%89%d0%b8%d0%b5-%d0%bf%d1%80%d0%be%d0%b5%d0%ba%d1%82%d1%8b-14/
LOCATION:В режиме ВКС
END:VEVENT
END:VCALENDAR