BEGIN:VCALENDAR
VERSION:2.0
PRODID:-//ГБУЗ ЯО &quot;Медицинский информационно-аналитический центр&quot; - ECPv6.15.17.1//NONSGML v1.0//EN
CALSCALE:GREGORIAN
METHOD:PUBLISH
X-ORIGINAL-URL:https://miac.zdrav76.ru
X-WR-CALDESC:Мероприятия для ГБУЗ ЯО &quot;Медицинский информационно-аналитический центр&quot;
REFRESH-INTERVAL;VALUE=DURATION:PT1H
X-Robots-Tag:noindex
X-PUBLISHED-TTL:PT1H
BEGIN:VTIMEZONE
TZID:Europe/Moscow
BEGIN:STANDARD
TZOFFSETFROM:+0300
TZOFFSETTO:+0300
TZNAME:MSK
DTSTART:20230101T000000
END:STANDARD
END:VTIMEZONE
BEGIN:VEVENT
DTSTART;TZID=Europe/Moscow:20241018T090000
DTEND;TZID=Europe/Moscow:20241018T093000
DTSTAMP:20260424T132211
CREATED:20241014T130701Z
LAST-MODIFIED:20241014T130701Z
UID:29977-1729242000-1729243800@miac.zdrav76.ru
SUMMARY:Сдача дежурств за предыдущий день в стационаре
DESCRIPTION:
URL:https://miac.zdrav76.ru/event/%d0%a1%d0%b4%d0%b0%d1%87%d0%b0-%d0%b4%d0%b5%d0%b6%d1%83%d1%80%d1%81%d1%82%d0%b2-%d0%b7%d0%b0-%d0%bf%d1%80%d0%b5%d0%b4%d1%8b%d0%b4%d1%83%d1%89%d0%b8%d0%b9-%d0%b4%d0%b5%d0%bd%d1%8c-%d0%b2-%d1%81-65/
LOCATION:В режиме ВКС
END:VEVENT
BEGIN:VEVENT
DTSTART;TZID=Europe/Moscow:20241018T103000
DTEND;TZID=Europe/Moscow:20241018T110000
DTSTAMP:20260424T132211
CREATED:20241018T065520Z
LAST-MODIFIED:20241018T065520Z
UID:30070-1729247400-1729249200@miac.zdrav76.ru
SUMMARY:Стационар. Критические замечания
DESCRIPTION:
URL:https://miac.zdrav76.ru/event/%d0%a1%d1%82%d0%b0%d1%86%d0%b8%d0%be%d0%bd%d0%b0%d1%80-%d0%9a%d1%80%d0%b8%d1%82%d0%b8%d1%87%d0%b5%d1%81%d0%ba%d0%b8%d0%b5-%d0%b7%d0%b0%d0%bc%d0%b5%d1%87%d0%b0%d0%bd%d0%b8%d1%8f/
LOCATION:В режиме ВКС
END:VEVENT
BEGIN:VEVENT
DTSTART;TZID=Europe/Moscow:20241018T120000
DTEND;TZID=Europe/Moscow:20241018T130000
DTSTAMP:20260424T132211
CREATED:20241014T130913Z
LAST-MODIFIED:20241014T131019Z
UID:29983-1729252800-1729256400@miac.zdrav76.ru
SUMMARY:Рабочее совещание с ЦАОП ЯО
DESCRIPTION:
URL:https://miac.zdrav76.ru/event/%d0%9e%d0%b1%d1%83%d1%87%d0%b0%d1%8e%d1%89%d0%b8%d0%b9-%d1%81%d0%b5%d0%bc%d0%b8%d0%bd%d0%b0%d1%80-%d0%bf%d0%be-%d0%bf%d1%80%d0%be%d1%84%d0%b8%d0%bb%d0%b0%d0%ba%d1%82%d0%b8%d0%ba%d0%b5-%d0%b8%d0%bd-2/
LOCATION:В режиме ВКС
END:VEVENT
BEGIN:VEVENT
DTSTART;TZID=Europe/Moscow:20241018T120000
DTEND;TZID=Europe/Moscow:20241018T130000
DTSTAMP:20260424T132211
CREATED:20241018T065547Z
LAST-MODIFIED:20241018T065547Z
UID:30072-1729252800-1729256400@miac.zdrav76.ru
SUMMARY:1С Поликлиника ОНКО
DESCRIPTION:
URL:https://miac.zdrav76.ru/event/1%d0%a1-%d0%9f%d0%be%d0%bb%d0%b8%d0%ba%d0%bb%d0%b8%d0%bd%d0%b8%d0%ba%d0%b0-%d0%9e%d0%9d%d0%9a%d0%9e/
LOCATION:В режиме ВКС
END:VEVENT
BEGIN:VEVENT
DTSTART;TZID=Europe/Moscow:20241018T130000
DTEND;TZID=Europe/Moscow:20241018T140000
DTSTAMP:20260424T132211
CREATED:20241018T065609Z
LAST-MODIFIED:20241018T065609Z
UID:30074-1729256400-1729260000@miac.zdrav76.ru
SUMMARY:1С Аналитика
DESCRIPTION:
URL:https://miac.zdrav76.ru/event/1%d0%a1-%d0%90%d0%bd%d0%b0%d0%bb%d0%b8%d1%82%d0%b8%d0%ba%d0%b0/
LOCATION:В режиме ВКС
END:VEVENT
BEGIN:VEVENT
DTSTART;TZID=Europe/Moscow:20241018T140000
DTEND;TZID=Europe/Moscow:20241018T150000
DTSTAMP:20260424T132211
CREATED:20241018T065448Z
LAST-MODIFIED:20241018T065504Z
UID:30068-1729260000-1729263600@miac.zdrav76.ru
SUMMARY:1С Поликлиника. Показ нового функционала
DESCRIPTION:
URL:https://miac.zdrav76.ru/event/1%d0%a1-%d0%9f%d0%be%d0%bb%d0%b8%d0%ba%d0%bb%d0%b8%d0%bd%d0%b8%d0%ba%d0%b0-%d0%9f%d0%be%d0%ba%d0%b0%d0%b7-%d0%bd%d0%be%d0%b2%d0%be%d0%b3%d0%be-%d1%84%d1%83%d0%bd%d0%ba%d1%86%d0%b8%d0%be%d0%bd%d0%b0/
LOCATION:В режиме ВКС
END:VEVENT
END:VCALENDAR