BEGIN:VCALENDAR
VERSION:2.0
PRODID:-//ГБУЗ ЯО &quot;Медицинский информационно-аналитический центр&quot; - ECPv6.15.17.1//NONSGML v1.0//EN
CALSCALE:GREGORIAN
METHOD:PUBLISH
X-ORIGINAL-URL:https://miac.zdrav76.ru
X-WR-CALDESC:Мероприятия для ГБУЗ ЯО &quot;Медицинский информационно-аналитический центр&quot;
REFRESH-INTERVAL;VALUE=DURATION:PT1H
X-Robots-Tag:noindex
X-PUBLISHED-TTL:PT1H
BEGIN:VTIMEZONE
TZID:Europe/Moscow
BEGIN:STANDARD
TZOFFSETFROM:+0300
TZOFFSETTO:+0300
TZNAME:MSK
DTSTART:20230101T000000
END:STANDARD
END:VTIMEZONE
BEGIN:VEVENT
DTSTART;TZID=Europe/Moscow:20241010T090000
DTEND;TZID=Europe/Moscow:20241010T093000
DTSTAMP:20260424T132213
CREATED:20241004T045207Z
LAST-MODIFIED:20241004T045207Z
UID:29847-1728550800-1728552600@miac.zdrav76.ru
SUMMARY:Сдача дежурств за предыдущий день в стационаре
DESCRIPTION:
URL:https://miac.zdrav76.ru/event/%d0%a1%d0%b4%d0%b0%d1%87%d0%b0-%d0%b4%d0%b5%d0%b6%d1%83%d1%80%d1%81%d1%82%d0%b2-%d0%b7%d0%b0-%d0%bf%d1%80%d0%b5%d0%b4%d1%8b%d0%b4%d1%83%d1%89%d0%b8%d0%b9-%d0%b4%d0%b5%d0%bd%d1%8c-%d0%b2-%d1%81-59/
LOCATION:В режиме ВКС
END:VEVENT
BEGIN:VEVENT
DTSTART;TZID=Europe/Moscow:20241010T120000
DTEND;TZID=Europe/Moscow:20241010T133000
DTSTAMP:20260424T132213
CREATED:20241007T094611Z
LAST-MODIFIED:20241007T094611Z
UID:29859-1728561600-1728567000@miac.zdrav76.ru
SUMMARY:Обучающий семинар по профилактике инфекционных заболеваний на территории ЯО
DESCRIPTION:
URL:https://miac.zdrav76.ru/event/%d0%9e%d0%b1%d1%83%d1%87%d0%b0%d1%8e%d1%89%d0%b8%d0%b9-%d1%81%d0%b5%d0%bc%d0%b8%d0%bd%d0%b0%d1%80-%d0%bf%d0%be-%d0%bf%d1%80%d0%be%d1%84%d0%b8%d0%bb%d0%b0%d0%ba%d1%82%d0%b8%d0%ba%d0%b5-%d0%b8%d0%bd/
LOCATION:В режиме ВКС
END:VEVENT
BEGIN:VEVENT
DTSTART;TZID=Europe/Moscow:20241010T133000
DTEND;TZID=Europe/Moscow:20241010T143000
DTSTAMP:20260424T132213
CREATED:20241014T131122Z
LAST-MODIFIED:20241014T131141Z
UID:29988-1728567000-1728570600@miac.zdrav76.ru
SUMMARY:Разговор главных внештатных специалистов МЗ ЯО с врачами-терапевтами муниципальных районов ЯО
DESCRIPTION:
URL:https://miac.zdrav76.ru/event/%d0%a0%d0%b0%d0%b7%d0%b3%d0%be%d0%b2%d0%be%d1%80-%d0%b3%d0%bb%d0%b0%d0%b2%d0%bd%d1%8b%d1%85-%d0%b2%d0%bd%d0%b5%d1%88%d1%82%d0%b0%d1%82%d0%bd%d1%8b%d1%85-%d1%81%d0%bf%d0%b5%d1%86%d0%b8%d0%b0%d0%bb-2/
LOCATION:В режиме ВКС
END:VEVENT
BEGIN:VEVENT
DTSTART;TZID=Europe/Moscow:20241010T140000
DTEND;TZID=Europe/Moscow:20241010T153000
DTSTAMP:20260424T132213
CREATED:20241004T045453Z
LAST-MODIFIED:20241004T045453Z
UID:29853-1728568800-1728574200@miac.zdrav76.ru
SUMMARY:РТК. РИС/ЦАМИ\, СМП
DESCRIPTION:
URL:https://miac.zdrav76.ru/event/%d0%a0%d0%a2%d0%9a-%d0%a0%d0%98%d0%a1-%d0%a6%d0%90%d0%9c%d0%98-%d0%a1%d0%9c%d0%9f-12/
LOCATION:В режиме ВКС
END:VEVENT
END:VCALENDAR