BEGIN:VCALENDAR
VERSION:2.0
PRODID:-//ГБУЗ ЯО &quot;Медицинский информационно-аналитический центр&quot; - ECPv6.15.17.1//NONSGML v1.0//EN
CALSCALE:GREGORIAN
METHOD:PUBLISH
X-ORIGINAL-URL:https://miac.zdrav76.ru
X-WR-CALDESC:Мероприятия для ГБУЗ ЯО &quot;Медицинский информационно-аналитический центр&quot;
REFRESH-INTERVAL;VALUE=DURATION:PT1H
X-Robots-Tag:noindex
X-PUBLISHED-TTL:PT1H
BEGIN:VTIMEZONE
TZID:Europe/Moscow
BEGIN:STANDARD
TZOFFSETFROM:+0300
TZOFFSETTO:+0300
TZNAME:MSK
DTSTART:20230101T000000
END:STANDARD
END:VTIMEZONE
BEGIN:VEVENT
DTSTART;TZID=Europe/Moscow:20240821T090000
DTEND;TZID=Europe/Moscow:20240821T093000
DTSTAMP:20260424T063627
CREATED:20240816T081433Z
LAST-MODIFIED:20240816T081433Z
UID:28993-1724230800-1724232600@miac.zdrav76.ru
SUMMARY:Сдача дежурств за предыдущий день в стационаре
DESCRIPTION:
URL:https://miac.zdrav76.ru/event/%d0%a1%d0%b4%d0%b0%d1%87%d0%b0-%d0%b4%d0%b5%d0%b6%d1%83%d1%80%d1%81%d1%82%d0%b2-%d0%b7%d0%b0-%d0%bf%d1%80%d0%b5%d0%b4%d1%8b%d0%b4%d1%83%d1%89%d0%b8%d0%b9-%d0%b4%d0%b5%d0%bd%d1%8c-%d0%b2-%d1%81-22/
LOCATION:В режиме ВКС
END:VEVENT
BEGIN:VEVENT
DTSTART;TZID=Europe/Moscow:20240821T120000
DTEND;TZID=Europe/Moscow:20240821T133000
DTSTAMP:20260424T063627
CREATED:20240821T045722Z
LAST-MODIFIED:20240821T071558Z
UID:29085-1724241600-1724247000@miac.zdrav76.ru
SUMMARY:Профилактика гриппа и ОРВИ.
DESCRIPTION:
URL:https://miac.zdrav76.ru/event/%d0%9a%d0%bb%d0%b8%d0%bd%d0%b8%d0%ba%d0%b0-%d0%b4%d0%b8%d0%b0%d0%b3%d0%bd%d0%be%d1%81%d1%82%d0%b8%d0%ba%d0%b0-%d1%81%d0%bf%d0%b5%d1%86%d0%b8%d1%84%d0%b8%d1%87%d0%b5%d1%81%d0%ba%d0%b0%d1%8f/
LOCATION:В режиме ВКС
END:VEVENT
BEGIN:VEVENT
DTSTART;TZID=Europe/Moscow:20240821T150000
DTEND;TZID=Europe/Moscow:20240821T163000
DTSTAMP:20260424T063627
CREATED:20240821T071617Z
LAST-MODIFIED:20240821T071905Z
UID:29090-1724252400-1724257800@miac.zdrav76.ru
SUMMARY:Рекомендаций НМИЦ терапии и кардиологии. Региональная программа по борьбе с СД
DESCRIPTION:в 15-00 🔺⚡️ состоится совещание под председательством Можейко М.Е.\, Яновской М.Е. с заведующими терапевтическими отделениями стационаров и поликлиник\, районными терапевтами в режиме видеоконференцсвязи Trueconf.\n✅ Тема: Выполнение рекомендаций НМИЦ терапии и кардиологии в части клинических рекомендаций\, реализация региональной программы по борьбе с СД\, первоочередные задачи.
URL:https://miac.zdrav76.ru/event/%d0%92%d1%8b%d0%bf%d0%be%d0%bb%d0%bd%d0%b5%d0%bd%d0%b8%d0%b5-%d1%80%d0%b5%d0%ba%d0%be%d0%bc%d0%b5%d0%bd%d0%b4%d0%b0%d1%86%d0%b8%d0%b9-%d0%9d%d0%9c%d0%98%d0%a6-%d1%82%d0%b5%d1%80%d0%b0%d0%bf%d0%b8/
LOCATION:В режиме ВКС
END:VEVENT
END:VCALENDAR