BEGIN:VCALENDAR
VERSION:2.0
PRODID:-//ГБУЗ ЯО &quot;Медицинский информационно-аналитический центр&quot; - ECPv6.15.17.1//NONSGML v1.0//EN
CALSCALE:GREGORIAN
METHOD:PUBLISH
X-ORIGINAL-URL:https://miac.zdrav76.ru
X-WR-CALDESC:Мероприятия для ГБУЗ ЯО &quot;Медицинский информационно-аналитический центр&quot;
REFRESH-INTERVAL;VALUE=DURATION:PT1H
X-Robots-Tag:noindex
X-PUBLISHED-TTL:PT1H
BEGIN:VTIMEZONE
TZID:Europe/Moscow
BEGIN:STANDARD
TZOFFSETFROM:+0300
TZOFFSETTO:+0300
TZNAME:MSK
DTSTART:20230101T000000
END:STANDARD
END:VTIMEZONE
BEGIN:VEVENT
DTSTART;TZID=Europe/Moscow:20240809T090000
DTEND;TZID=Europe/Moscow:20240809T093000
DTSTAMP:20260424T132250
CREATED:20240803T070019Z
LAST-MODIFIED:20240803T070019Z
UID:28750-1723194000-1723195800@miac.zdrav76.ru
SUMMARY:Сдача дежурств за предыдущий день в стационаре
DESCRIPTION:
URL:https://miac.zdrav76.ru/event/%d0%a1%d0%b4%d0%b0%d1%87%d0%b0-%d0%b4%d0%b5%d0%b6%d1%83%d1%80%d1%81%d1%82%d0%b2-%d0%b7%d0%b0-%d0%bf%d1%80%d0%b5%d0%b4%d1%8b%d0%b4%d1%83%d1%89%d0%b8%d0%b9-%d0%b4%d0%b5%d0%bd%d1%8c-%d0%b2-%d1%81-14/
LOCATION:В режиме ВКС
END:VEVENT
BEGIN:VEVENT
DTSTART;TZID=Europe/Moscow:20240809T102000
DTEND;TZID=Europe/Moscow:20240809T113000
DTSTAMP:20260424T132250
CREATED:20240809T061257Z
LAST-MODIFIED:20240809T061257Z
UID:28841-1723198800-1723203000@miac.zdrav76.ru
SUMMARY:Модернизация первичного звена 2026-2030
DESCRIPTION:
URL:https://miac.zdrav76.ru/event/%d0%9c%d0%be%d0%b4%d0%b5%d1%80%d0%bd%d0%b8%d0%b7%d0%b0%d1%86%d0%b8%d1%8f-%d0%bf%d0%b5%d1%80%d0%b2%d0%b8%d1%87%d0%bd%d0%be%d0%b3%d0%be-%d0%b7%d0%b2%d0%b5%d0%bd%d0%b0-2026-2030/
LOCATION:В режиме ВКС
END:VEVENT
BEGIN:VEVENT
DTSTART;TZID=Europe/Moscow:20240809T120000
DTEND;TZID=Europe/Moscow:20240809T133000
DTSTAMP:20260424T132250
CREATED:20240809T090058Z
LAST-MODIFIED:20240809T090058Z
UID:28853-1723204800-1723210200@miac.zdrav76.ru
SUMMARY:Анализ онкологической помощи в ЦАОН Ярославской области.Итоги 7 мес. 2024г.
DESCRIPTION:
URL:https://miac.zdrav76.ru/event/%d0%90%d0%bd%d0%b0%d0%bb%d0%b8%d0%b7-%d0%be%d0%bd%d0%ba%d0%be%d0%bb%d0%be%d0%b3%d0%b8%d1%87%d0%b5%d1%81%d0%ba%d0%be%d0%b9-%d0%bf%d0%be%d0%bc%d0%be%d1%89%d0%b8-%d0%b2-%d0%a6%d0%90%d0%9e%d0%9d-%d0%af/
END:VEVENT
BEGIN:VEVENT
DTSTART;TZID=Europe/Moscow:20240809T140000
DTEND;TZID=Europe/Moscow:20240809T153000
DTSTAMP:20260424T132250
CREATED:20240809T104154Z
LAST-MODIFIED:20240809T104154Z
UID:28857-1723212000-1723217400@miac.zdrav76.ru
SUMMARY:Самара. Текущие проблемы
DESCRIPTION:
URL:https://miac.zdrav76.ru/event/%d0%a1%d0%b0%d0%bc%d0%b0%d1%80%d0%b0-%d0%a2%d0%b5%d0%ba%d1%83%d1%89%d0%b8%d0%b5-%d0%bf%d1%80%d0%be%d0%b1%d0%bb%d0%b5%d0%bc%d1%8b/
LOCATION:В режиме ВКС
END:VEVENT
END:VCALENDAR