BEGIN:VCALENDAR
VERSION:2.0
PRODID:-//ГБУЗ ЯО &quot;Медицинский информационно-аналитический центр&quot; - ECPv6.15.17.1//NONSGML v1.0//EN
CALSCALE:GREGORIAN
METHOD:PUBLISH
X-WR-CALNAME:ГБУЗ ЯО &quot;Медицинский информационно-аналитический центр&quot;
X-ORIGINAL-URL:https://miac.zdrav76.ru
X-WR-CALDESC:Мероприятия для ГБУЗ ЯО &quot;Медицинский информационно-аналитический центр&quot;
REFRESH-INTERVAL;VALUE=DURATION:PT1H
X-Robots-Tag:noindex
X-PUBLISHED-TTL:PT1H
BEGIN:VTIMEZONE
TZID:Europe/Moscow
BEGIN:STANDARD
TZOFFSETFROM:+0300
TZOFFSETTO:+0300
TZNAME:MSK
DTSTART:20230101T000000
END:STANDARD
END:VTIMEZONE
BEGIN:VEVENT
DTSTART;TZID=Europe/Moscow:20240806T090000
DTEND;TZID=Europe/Moscow:20240806T093000
DTSTAMP:20260425T031548
CREATED:20240803T065921Z
LAST-MODIFIED:20240803T065921Z
UID:28745-1722934800-1722936600@miac.zdrav76.ru
SUMMARY:Сдача дежурств за предыдущий день в стационаре
DESCRIPTION:
URL:https://miac.zdrav76.ru/event/%d0%a1%d0%b4%d0%b0%d1%87%d0%b0-%d0%b4%d0%b5%d0%b6%d1%83%d1%80%d1%81%d1%82%d0%b2-%d0%b7%d0%b0-%d0%bf%d1%80%d0%b5%d0%b4%d1%8b%d0%b4%d1%83%d1%89%d0%b8%d0%b9-%d0%b4%d0%b5%d0%bd%d1%8c-%d0%b2-%d1%81-12/
LOCATION:В режиме ВКС
END:VEVENT
BEGIN:VEVENT
DTSTART;TZID=Europe/Moscow:20240806T150000
DTEND;TZID=Europe/Moscow:20240806T163000
DTSTAMP:20260425T031548
CREATED:20240803T070115Z
LAST-MODIFIED:20240803T070115Z
UID:28754-1722956400-1722961800@miac.zdrav76.ru
SUMMARY:Самара. Текущие проекты
DESCRIPTION:
URL:https://miac.zdrav76.ru/event/%d0%a1%d0%b0%d0%bc%d0%b0%d1%80%d0%b0-%d0%a2%d0%b5%d0%ba%d1%83%d1%89%d0%b8%d0%b5-%d0%bf%d1%80%d0%be%d0%b5%d0%ba%d1%82%d1%8b-3/
LOCATION:В режиме ВКС
END:VEVENT
BEGIN:VEVENT
DTSTART;TZID=Europe/Moscow:20240806T153000
DTEND;TZID=Europe/Moscow:20240806T170000
DTSTAMP:20260425T031548
CREATED:20240806T102600Z
LAST-MODIFIED:20240806T102600Z
UID:28795-1722958200-1722963600@miac.zdrav76.ru
SUMMARY:Итоговое совещание по выездному мероприятию НМИЦ кардиология
DESCRIPTION:
URL:https://miac.zdrav76.ru/event/%d0%98%d1%82%d0%be%d0%b3%d0%be%d0%b2%d0%be%d0%b5-%d1%81%d0%be%d0%b2%d0%b5%d1%89%d0%b0%d0%bd%d0%b8%d0%b5-%d0%bf%d0%be-%d0%b2%d1%8b%d0%b5%d0%b7%d0%b4%d0%bd%d0%be%d0%bc%d1%83-%d0%bc%d0%b5%d1%80%d0%be-2/
LOCATION:В режиме ВКС
END:VEVENT
BEGIN:VEVENT
DTSTART;TZID=Europe/Moscow:20240806T163000
DTEND;TZID=Europe/Moscow:20240806T173000
DTSTAMP:20260425T031548
CREATED:20240806T104601Z
LAST-MODIFIED:20240806T104601Z
UID:28801-1722961800-1722965400@miac.zdrav76.ru
SUMMARY:Итоги по внесению данных в программу КМУИП
DESCRIPTION:
URL:https://miac.zdrav76.ru/event/%d0%98%d1%82%d0%be%d0%b3%d0%b8-%d0%bf%d0%be-%d0%b2%d0%bd%d0%b5%d1%81%d0%b5%d0%bd%d0%b8%d1%8e-%d0%b4%d0%b0%d0%bd%d0%bd%d1%8b%d1%85-%d0%b2-%d0%bf%d1%80%d0%be%d0%b3%d1%80%d0%b0%d0%bc%d0%bc%d1%83-%d0%9a/
LOCATION:В режиме ВКС
END:VEVENT
END:VCALENDAR