BEGIN:VCALENDAR
VERSION:2.0
PRODID:-//ГБУЗ ЯО &quot;Медицинский информационно-аналитический центр&quot; - ECPv6.15.17.1//NONSGML v1.0//EN
CALSCALE:GREGORIAN
METHOD:PUBLISH
X-ORIGINAL-URL:https://miac.zdrav76.ru
X-WR-CALDESC:Мероприятия для ГБУЗ ЯО &quot;Медицинский информационно-аналитический центр&quot;
REFRESH-INTERVAL;VALUE=DURATION:PT1H
X-Robots-Tag:noindex
X-PUBLISHED-TTL:PT1H
BEGIN:VTIMEZONE
TZID:Europe/Moscow
BEGIN:STANDARD
TZOFFSETFROM:+0300
TZOFFSETTO:+0300
TZNAME:MSK
DTSTART:20230101T000000
END:STANDARD
END:VTIMEZONE
BEGIN:VEVENT
DTSTART;TZID=Europe/Moscow:20240719T090000
DTEND;TZID=Europe/Moscow:20240719T100000
DTSTAMP:20260425T061330
CREATED:20240712T052222Z
LAST-MODIFIED:20240712T052222Z
UID:28341-1721379600-1721383200@miac.zdrav76.ru
SUMMARY:Сдача дежурств за предыдущий день в стационаре
DESCRIPTION:
URL:https://miac.zdrav76.ru/event/%d1%81%d0%b4%d0%b0%d1%87%d0%b0-%d0%b4%d0%b5%d0%b6%d1%83%d1%80%d1%81%d1%82%d0%b2-%d0%b7%d0%b0-%d0%bf%d1%80%d0%b5%d0%b4%d1%8b%d0%b4%d1%83%d1%89%d0%b8%d0%b9-%d0%b4%d0%b5%d0%bd%d1%8c-%d0%b2-%d1%81-43/
LOCATION:В режиме ВКС
END:VEVENT
BEGIN:VEVENT
DTSTART;TZID=Europe/Moscow:20240719T103000
DTEND;TZID=Europe/Moscow:20240719T110000
DTSTAMP:20260425T061330
CREATED:20240719T083656Z
LAST-MODIFIED:20240719T083656Z
UID:28485-1721385000-1721386800@miac.zdrav76.ru
SUMMARY:РТК. ТЗ СМП
DESCRIPTION:
URL:https://miac.zdrav76.ru/event/%d0%a0%d0%a2%d0%9a-%d0%a2%d0%97-%d0%a1%d0%9c%d0%9f/
LOCATION:В режиме ВКС
END:VEVENT
BEGIN:VEVENT
DTSTART;TZID=Europe/Moscow:20240719T110000
DTEND;TZID=Europe/Moscow:20240719T120000
DTSTAMP:20260425T061330
CREATED:20240719T083731Z
LAST-MODIFIED:20240719T083731Z
UID:28488-1721386800-1721390400@miac.zdrav76.ru
SUMMARY:ЦТ. Организационные вопросы
DESCRIPTION:
URL:https://miac.zdrav76.ru/event/%d0%a6%d0%a2-%d0%9e%d1%80%d0%b3%d0%b0%d0%bd%d0%b8%d0%b7%d0%b0%d1%86%d0%b8%d0%be%d0%bd%d0%bd%d1%8b%d0%b5-%d0%b2%d0%be%d0%bf%d1%80%d0%be%d1%81%d1%8b-2/
LOCATION:В режиме ВКС
END:VEVENT
END:VCALENDAR