BEGIN:VCALENDAR
VERSION:2.0
PRODID:-//ГБУЗ ЯО &quot;Медицинский информационно-аналитический центр&quot; - ECPv6.15.17.1//NONSGML v1.0//EN
CALSCALE:GREGORIAN
METHOD:PUBLISH
X-ORIGINAL-URL:https://miac.zdrav76.ru
X-WR-CALDESC:Мероприятия для ГБУЗ ЯО &quot;Медицинский информационно-аналитический центр&quot;
REFRESH-INTERVAL;VALUE=DURATION:PT1H
X-Robots-Tag:noindex
X-PUBLISHED-TTL:PT1H
BEGIN:VTIMEZONE
TZID:Europe/Moscow
BEGIN:STANDARD
TZOFFSETFROM:+0300
TZOFFSETTO:+0300
TZNAME:MSK
DTSTART:20230101T000000
END:STANDARD
END:VTIMEZONE
BEGIN:VEVENT
DTSTART;TZID=Europe/Moscow:20240718T090000
DTEND;TZID=Europe/Moscow:20240718T100000
DTSTAMP:20260424T171511
CREATED:20240712T052202Z
LAST-MODIFIED:20240712T052202Z
UID:28339-1721293200-1721296800@miac.zdrav76.ru
SUMMARY:Сдача дежурств за предыдущий день в стационаре
DESCRIPTION:
URL:https://miac.zdrav76.ru/event/%d1%81%d0%b4%d0%b0%d1%87%d0%b0-%d0%b4%d0%b5%d0%b6%d1%83%d1%80%d1%81%d1%82%d0%b2-%d0%b7%d0%b0-%d0%bf%d1%80%d0%b5%d0%b4%d1%8b%d0%b4%d1%83%d1%89%d0%b8%d0%b9-%d0%b4%d0%b5%d0%bd%d1%8c-%d0%b2-%d1%81-42/
LOCATION:В режиме ВКС
END:VEVENT
BEGIN:VEVENT
DTSTART;TZID=Europe/Moscow:20240718T093000
DTEND;TZID=Europe/Moscow:20240718T103000
DTSTAMP:20260424T171511
CREATED:20240718T053744Z
LAST-MODIFIED:20240718T053744Z
UID:28440-1721295000-1721298600@miac.zdrav76.ru
SUMMARY:Самара. Работы по текущим проектам
DESCRIPTION:
URL:https://miac.zdrav76.ru/event/%d0%a1%d0%b0%d0%bc%d0%b0%d1%80%d0%b0-%d0%a0%d0%b0%d0%b1%d0%be%d1%82%d1%8b-%d0%bf%d0%be-%d1%82%d0%b5%d0%ba%d1%83%d1%89%d0%b8%d0%bc-%d0%bf%d1%80%d0%be%d0%b5%d0%ba%d1%82%d0%b0%d0%bc/
LOCATION:В режиме ВКС
END:VEVENT
BEGIN:VEVENT
DTSTART;TZID=Europe/Moscow:20240718T140000
DTEND;TZID=Europe/Moscow:20240718T170000
DTSTAMP:20260424T171511
CREATED:20240712T052031Z
LAST-MODIFIED:20240712T052031Z
UID:28331-1721311200-1721322000@miac.zdrav76.ru
SUMMARY:РТК. РИС/ЦАМИ\, СМП
DESCRIPTION:
URL:https://miac.zdrav76.ru/event/%d1%80%d1%82%d0%ba-%d1%80%d0%b8%d1%81-%d1%86%d0%b0%d0%bc%d0%b8-%d1%81%d0%bc%d0%bf-2/
LOCATION:В режиме ВКС
END:VEVENT
BEGIN:VEVENT
DTSTART;TZID=Europe/Moscow:20240718T150000
DTEND;TZID=Europe/Moscow:20240718T163000
DTSTAMP:20260424T171511
CREATED:20240717T044515Z
LAST-MODIFIED:20240717T044515Z
UID:28432-1721314800-1721320200@miac.zdrav76.ru
SUMMARY:Отбор пациентов на лечение в нейрохирургическое отделение ГБУЗ ЯО «ОКБ
DESCRIPTION:
URL:https://miac.zdrav76.ru/event/%d0%9e%d1%82%d0%b1%d0%be%d1%80-%d0%bf%d0%b0%d1%86%d0%b8%d0%b5%d0%bd%d1%82%d0%be%d0%b2-%d0%bd%d0%b0-%d0%bb%d0%b5%d1%87%d0%b5%d0%bd%d0%b8%d0%b5-%d0%b2-%d0%bd%d0%b5%d0%b9%d1%80%d0%be%d1%85%d0%b8%d1%80/
LOCATION:В режиме ВКС
END:VEVENT
END:VCALENDAR