BEGIN:VCALENDAR
VERSION:2.0
PRODID:-//ГБУЗ ЯО &quot;Медицинский информационно-аналитический центр&quot; - ECPv6.15.17.1//NONSGML v1.0//EN
CALSCALE:GREGORIAN
METHOD:PUBLISH
X-ORIGINAL-URL:https://miac.zdrav76.ru
X-WR-CALDESC:Мероприятия для ГБУЗ ЯО &quot;Медицинский информационно-аналитический центр&quot;
REFRESH-INTERVAL;VALUE=DURATION:PT1H
X-Robots-Tag:noindex
X-PUBLISHED-TTL:PT1H
BEGIN:VTIMEZONE
TZID:Europe/Moscow
BEGIN:STANDARD
TZOFFSETFROM:+0300
TZOFFSETTO:+0300
TZNAME:MSK
DTSTART:20190101T000000
END:STANDARD
END:VTIMEZONE
BEGIN:VEVENT
DTSTART;TZID=Europe/Moscow:20200706T133000
DTEND;TZID=Europe/Moscow:20200706T153000
DTSTAMP:20260423T151548
CREATED:20200703T110315Z
LAST-MODIFIED:20200806T084417Z
UID:13678-1594042200-1594049400@miac.zdrav76.ru
SUMMARY:Внедрение клинических рекомендаций в реальную терапевтическую практику. Разбор текущих организационных и лечебных вопросов для заведующих поликлиник.
DESCRIPTION:На базе ГБУЗ ЯО «Областной центр медицинской профилактики» будет проходить совещание на тему «Внедрение клинических рекомендаций в реальную терапевтическую практику. Разбор текущих организационных и лечебных вопросов» с главными внештатными специалистами департамента здравоохранения и фармации Ярославской области \nВсе участники семинара-вебинара подключаются к Интернет-трансляции. \nДля этого нужно пройти по ссылке\, авторизоваться на сайте с помощью логина и пароля\, полученных медицинским учреждением . Запись конференции будет доступна также на YouTube \, ссылка на нее будет выложена на сайте ГБУЗ ЯО «ОЦМП». \nСпикеры: \n\nМожейко Мария Евгеньевна;\nПоярков Николай Александрович;\nЗайцев Сергей Вячеславович;\nЯновская Мария Ефимовна.\n\nСсылка на YouTube: https://youtu.be/JtxqeiUQROw
URL:https://miac.zdrav76.ru/event/%d0%b2%d0%bd%d0%b5%d0%b4%d1%80%d0%b5%d0%bd%d0%b8%d0%b5-%d0%ba%d0%bb%d0%b8%d0%bd%d0%b8%d1%87%d0%b5%d1%81%d0%ba%d0%b8%d1%85-%d1%80%d0%b5%d0%ba%d0%be%d0%bc%d0%b5%d0%bd%d0%b4%d0%b0%d1%86%d0%b8%d0%b9-36/
CATEGORIES:Внедрение клинических рекомендаций
END:VEVENT
BEGIN:VEVENT
DTSTART;TZID=Europe/Moscow:20200630T133000
DTEND;TZID=Europe/Moscow:20200630T153000
DTSTAMP:20260423T151548
CREATED:20200605T081511Z
LAST-MODIFIED:20200806T084530Z
UID:13583-1593523800-1593531000@miac.zdrav76.ru
SUMMARY:Внедрение клинических рекомендаций в реальную терапевтическую практику. Разбор текущих организационных и лечебных вопросов для участковых терапевтов.
DESCRIPTION:На базе ГБУЗ ЯО «Областной центр медицинской профилактики» будет проходить совещание на тему «Внедрение клинических рекомендаций в реальную терапевтическую практику. Разбор текущих организационных и лечебных вопросов». \nДля участковых терапевтов ГМО Ярославской области. \nВсе участники семинара-вебинара подключаются к Интернет-трансляции. \nДля этого нужно пройти по ссылке\, авторизоваться на сайте с помощью логина и пароля\, полученных медицинским учреждением . Запись конференции будет доступна также на YouTube \, ссылка на нее будет выложена на сайте ГБУЗ ЯО «ОЦМП». \nСпикеры: \n\nМожейко Мария Евгеньевна;\nПоярков Николай Александрович;\nЗайцев Сергей Вячеславович;\nЯновская Мария Ефимовна;\n\nСсылка на YouTube: https://youtu.be/eQm4Su05wxs
URL:https://miac.zdrav76.ru/event/%d0%b2%d0%bd%d0%b5%d0%b4%d1%80%d0%b5%d0%bd%d0%b8%d0%b5-%d0%ba%d0%bb%d0%b8%d0%bd%d0%b8%d1%87%d0%b5%d1%81%d0%ba%d0%b8%d1%85-%d1%80%d0%b5%d0%ba%d0%be%d0%bc%d0%b5%d0%bd%d0%b4%d0%b0%d1%86%d0%b8%d0%b9-35/
CATEGORIES:Внедрение клинических рекомендаций
END:VEVENT
BEGIN:VEVENT
DTSTART;TZID=Europe/Moscow:20200629T133000
DTEND;TZID=Europe/Moscow:20200629T153000
DTSTAMP:20260423T151548
CREATED:20200605T071626Z
LAST-MODIFIED:20200806T084417Z
UID:13562-1593437400-1593444600@miac.zdrav76.ru
SUMMARY:Внедрение клинических рекомендаций в реальную терапевтическую практику. Разбор текущих организационных и лечебных вопросов.
DESCRIPTION:На базе ГБУЗ ЯО «Областной центр медицинской профилактики» будет проходить совещание на тему «Внедрение клинических рекомендаций в реальную терапевтическую практику. Разбор текущих организационных и лечебных вопросов». \nДля заведующих поликлиниками\, зав. ТО поликлиник и стационаров\, заведующих офисами ВОП. \nВсе участники семинара-вебинара подключаются к Интернет-трансляции. \nДля этого нужно пройти по ссылке\, авторизоваться на сайте с помощью логина и пароля\, полученных медицинским учреждением . Запись конференции будет доступна также на YouTube \, ссылка на нее будет выложена на сайте ГБУЗ ЯО «ОЦМП». \nСпикеры: \n\nМожейко Мария Евгеньевна;\nПоярков Николай Александрович;\nЗайцев Сергей Вячеславович;\nЯновская Мария Ефимовна;\n\nСсылка на YouTube: https://youtu.be/vS0qvzyzAao
URL:https://miac.zdrav76.ru/event/%d0%b2%d0%bd%d0%b5%d0%b4%d1%80%d0%b5%d0%bd%d0%b8%d0%b5-%d0%ba%d0%bb%d0%b8%d0%bd%d0%b8%d1%87%d0%b5%d1%81%d0%ba%d0%b8%d1%85-%d1%80%d0%b5%d0%ba%d0%be%d0%bc%d0%b5%d0%bd%d0%b4%d0%b0%d1%86%d0%b8%d0%b9-33/
CATEGORIES:Внедрение клинических рекомендаций
END:VEVENT
BEGIN:VEVENT
DTSTART;TZID=Europe/Moscow:20200623T133000
DTEND;TZID=Europe/Moscow:20200623T153000
DTSTAMP:20260423T151548
CREATED:20200605T081308Z
LAST-MODIFIED:20200806T084530Z
UID:13581-1592919000-1592926200@miac.zdrav76.ru
SUMMARY:Внедрение клинических рекомендаций в реальную терапевтическую практику. Разбор текущих организационных и лечебных вопросов для участковых терапевтов.
DESCRIPTION:На базе ГБУЗ ЯО «Областной центр медицинской профилактики» будет проходить совещание на тему «Внедрение клинических рекомендаций в реальную терапевтическую практику. Разбор текущих организационных и лечебных вопросов». \nДля участковых терапевтов ГМО Ярославской области. \nВсе участники семинара-вебинара подключаются к Интернет-трансляции. \nДля этого нужно пройти по ссылке\, авторизоваться на сайте с помощью логина и пароля\, полученных медицинским учреждением . Запись конференции будет доступна также на YouTube \, ссылка на нее будет выложена на сайте ГБУЗ ЯО «ОЦМП». \nСпикеры: \n\nМожейко Мария Евгеньевна;\nПоярков Николай Александрович;\nЗайцев Сергей Вячеславович;\nЯновская Мария Ефимовна;\n\nСсылка на YouTube: https://youtu.be/U_RSlGTmq_g
URL:https://miac.zdrav76.ru/event/%d0%b2%d0%bd%d0%b5%d0%b4%d1%80%d0%b5%d0%bd%d0%b8%d0%b5-%d0%ba%d0%bb%d0%b8%d0%bd%d0%b8%d1%87%d0%b5%d1%81%d0%ba%d0%b8%d1%85-%d1%80%d0%b5%d0%ba%d0%be%d0%bc%d0%b5%d0%bd%d0%b4%d0%b0%d1%86%d0%b8%d0%b9-34/
CATEGORIES:Внедрение клинических рекомендаций
END:VEVENT
BEGIN:VEVENT
DTSTART;TZID=Europe/Moscow:20200622T133000
DTEND;TZID=Europe/Moscow:20200622T153000
DTSTAMP:20260423T151548
CREATED:20200605T071346Z
LAST-MODIFIED:20200806T084417Z
UID:13559-1592832600-1592839800@miac.zdrav76.ru
SUMMARY:Внедрение клинических рекомендаций в реальную терапевтическую практику. Разбор текущих организационных и лечебных вопросов.
DESCRIPTION:На базе ГБУЗ ЯО «Областной центр медицинской профилактики» будет проходить совещание на тему «Внедрение клинических рекомендаций в реальную терапевтическую практику. Разбор текущих организационных и лечебных вопросов». \nДля заведующих поликлиниками\, зав. ТО поликлиник и стационаров\, заведующих офисами ВОП. \nДля этого нужно пройти по ссылке\, авторизоваться на сайте с помощью логина и пароля\, полученных медицинским учреждением . Запись конференции будет доступна также на YouTube \, ссылка на нее будет выложена на сайте ГБУЗ ЯО «ОЦМП». \nСпикеры: \n\nМожейко Мария Евгеньевна;\nПоярков Николай Александрович;\nЗайцев Сергей Вячеславович;\nЯновская Мария Ефимовна;\n\nСсылка на YouTube: https://youtu.be/GBaE3m3Wp4I
URL:https://miac.zdrav76.ru/event/%d0%b2%d0%bd%d0%b5%d0%b4%d1%80%d0%b5%d0%bd%d0%b8%d0%b5-%d0%ba%d0%bb%d0%b8%d0%bd%d0%b8%d1%87%d0%b5%d1%81%d0%ba%d0%b8%d1%85-%d1%80%d0%b5%d0%ba%d0%be%d0%bc%d0%b5%d0%bd%d0%b4%d0%b0%d1%86%d0%b8%d0%b9-32/
CATEGORIES:Внедрение клинических рекомендаций
END:VEVENT
BEGIN:VEVENT
DTSTART;TZID=Europe/Moscow:20200615T120000
DTEND;TZID=Europe/Moscow:20200615T133000
DTSTAMP:20260423T151548
CREATED:20200605T071305Z
LAST-MODIFIED:20200806T084417Z
UID:13557-1592222400-1592227800@miac.zdrav76.ru
SUMMARY:Внедрение клинических рекомендаций в реальную терапевтическую практику. Разбор текущих организационных и лечебных вопросов.
DESCRIPTION:На базе ГБУЗ ЯО «Областной центр медицинской профилактики» будет проходить совещание на тему «Внедрение клинических рекомендаций в реальную терапевтическую практику. Разбор текущих организационных и лечебных вопросов». \nДля заведующих поликлиниками\, зав. ТО поликлиник и стационаров\, заведующих офисами ВОП. \nВсе участники семинара-вебинара подключаются к Интернет-трансляции. \nДля этого нужно пройти по ссылке\, авторизоваться на сайте с помощью логина и пароля\, полученных медицинским учреждением . Запись конференции будет доступна также на YouTube \, ссылка на нее будет выложена на сайте ГБУЗ ЯО «ОЦМП». \nСпикеры: \n\nМожейко Мария Евгеньевна;\nПоярков Николай Александрович;\nЗайцев Сергей Вячеславович;\nЯновская Мария Ефимовна;\n\nСсылка на YouTube: https://youtu.be/Tn4sxn6ED3k
URL:https://miac.zdrav76.ru/event/%d0%b2%d0%bd%d0%b5%d0%b4%d1%80%d0%b5%d0%bd%d0%b8%d0%b5-%d0%ba%d0%bb%d0%b8%d0%bd%d0%b8%d1%87%d0%b5%d1%81%d0%ba%d0%b8%d1%85-%d1%80%d0%b5%d0%ba%d0%be%d0%bc%d0%b5%d0%bd%d0%b4%d0%b0%d1%86%d0%b8%d0%b9-31/
CATEGORIES:Внедрение клинических рекомендаций
END:VEVENT
BEGIN:VEVENT
DTSTART;TZID=Europe/Moscow:20200609T133000
DTEND;TZID=Europe/Moscow:20200609T153000
DTSTAMP:20260423T151548
CREATED:20200605T080909Z
LAST-MODIFIED:20200806T084530Z
UID:13579-1591709400-1591716600@miac.zdrav76.ru
SUMMARY:Внедрение клинических рекомендаций в реальную терапевтическую практику. Разбор текущих организационных и лечебных вопросов для участковых терапевтов.
DESCRIPTION:На базе ГБУЗ ЯО «Областной центр медицинской профилактики» будет проходить совещание на тему «Внедрение клинических рекомендаций в реальную терапевтическую практику. Разбор текущих организационных и лечебных вопросов». \nДля участковых терапевтов ГМО Ярославской области. \nВсе участники семинара-вебинара подключаются к Интернет-трансляции. \nДля этого нужно пройти по ссылке\, авторизоваться на сайте с помощью логина и пароля\, полученных медицинским учреждением . Запись конференции будет доступна также на YouTube \, ссылка на нее будет выложена на сайте ГБУЗ ЯО «ОЦМП». \nСпикеры: \n\nМожейко Мария Евгеньевна;\nПоярков Николай Александрович;\nЗайцев Сергей Вячеславович;\nЯновская Мария Ефимовна;\n\nСсылка на YouTube: https://youtu.be/vUUWEYoEyok
URL:https://miac.zdrav76.ru/event/%d0%b2%d0%bd%d0%b5%d0%b4%d1%80%d0%b5%d0%bd%d0%b8%d0%b5-%d0%ba%d0%bb%d0%b8%d0%bd%d0%b8%d1%87%d0%b5%d1%81%d0%ba%d0%b8%d1%85-%d1%80%d0%b5%d0%ba%d0%be%d0%bc%d0%b5%d0%bd%d0%b4%d0%b0%d1%86%d0%b8%d0%b9-30/
CATEGORIES:Внедрение клинических рекомендаций
END:VEVENT
BEGIN:VEVENT
DTSTART;TZID=Europe/Moscow:20200608T120000
DTEND;TZID=Europe/Moscow:20200608T130000
DTSTAMP:20260423T151548
CREATED:20200605T071152Z
LAST-MODIFIED:20200806T084417Z
UID:13553-1591617600-1591621200@miac.zdrav76.ru
SUMMARY:Внедрение клинических рекомендаций в реальную терапевтическую практику. Разбор текущих организационных и лечебных вопросов.
DESCRIPTION:На базе ГБУЗ ЯО «Областной центр медицинской профилактики» будет проходить совещание на тему «Внедрение клинических рекомендаций в реальную терапевтическую практику. Разбор текущих организационных и лечебных вопросов». \nДля заведующих поликлиниками\, заведующих терапевтическим отделением поликлиник и стационаров\, заведующих офисами ВОП. \nВсе участники семинара-вебинара подключаются к Интернет-трансляции. \nДля этого нужно пройти по ссылке\, авторизоваться на сайте с помощью логина и пароля\, полученных медицинским учреждением . Запись конференции будет доступна также на YouTube \, ссылка на нее будет выложена на сайте ГБУЗ ЯО «ОЦМП». \nСпикеры: \n\nМожейко Мария Евгеньевна;\nПоярков Николай Александрович;\nЗайцев Сергей Вячеславович;\nЯновская Мария Ефимовна;\n\nСсылка на YouTube: https://youtu.be/1MnLLgdXFeA
URL:https://miac.zdrav76.ru/event/%d0%b2%d0%bd%d0%b5%d0%b4%d1%80%d0%b5%d0%bd%d0%b8%d0%b5-%d0%ba%d0%bb%d0%b8%d0%bd%d0%b8%d1%87%d0%b5%d1%81%d0%ba%d0%b8%d1%85-%d1%80%d0%b5%d0%ba%d0%be%d0%bc%d0%b5%d0%bd%d0%b4%d0%b0%d1%86%d0%b8%d0%b9-29/
CATEGORIES:Внедрение клинических рекомендаций
END:VEVENT
END:VCALENDAR