BEGIN:VCALENDAR
VERSION:2.0
PRODID:-//ГБУЗ ЯО &quot;Медицинский информационно-аналитический центр&quot; - ECPv6.15.17.1//NONSGML v1.0//EN
CALSCALE:GREGORIAN
METHOD:PUBLISH
X-ORIGINAL-URL:https://miac.zdrav76.ru
X-WR-CALDESC:Мероприятия для ГБУЗ ЯО &quot;Медицинский информационно-аналитический центр&quot;
REFRESH-INTERVAL;VALUE=DURATION:PT1H
X-Robots-Tag:noindex
X-PUBLISHED-TTL:PT1H
BEGIN:VTIMEZONE
TZID:Europe/Moscow
BEGIN:STANDARD
TZOFFSETFROM:+0300
TZOFFSETTO:+0300
TZNAME:MSK
DTSTART:20190101T000000
END:STANDARD
END:VTIMEZONE
BEGIN:VEVENT
DTSTART;TZID=Europe/Moscow:20200811T090000
DTEND;TZID=Europe/Moscow:20200811T110000
DTSTAMP:20260424T163932
CREATED:20200810T051758Z
LAST-MODIFIED:20200810T051758Z
UID:13940-1597136400-1597143600@miac.zdrav76.ru
SUMMARY:Здоровый образ жизни – основа профилактики хронических неинфекционных заболеваний
DESCRIPTION:Тема лекции в рамках «Академии здоровья 60+»   «Здоровый образ жизни – основа профилактики хронических неинфекционных заболеваний» \nЛектор Катилов Леонид Анатольевич. \nСсылка на YouTube: https://youtu.be/4_DX0sb3Ssk
URL:https://miac.zdrav76.ru/event/%d0%b7%d0%b4%d0%be%d1%80%d0%be%d0%b2%d1%8b%d0%b9-%d0%be%d0%b1%d1%80%d0%b0%d0%b7-%d0%b6%d0%b8%d0%b7%d0%bd%d0%b8-%d0%be%d1%81%d0%bd%d0%be%d0%b2%d0%b0-%d0%bf%d1%80%d0%be%d1%84%d0%b8%d0%bb%d0%b0/
LOCATION:В режиме ВКС
CATEGORIES:Академия 60+
END:VEVENT
END:VCALENDAR