BEGIN:VCALENDAR
VERSION:2.0
PRODID:-//ГБУЗ ЯО &quot;Медицинский информационно-аналитический центр&quot; - ECPv6.15.17.1//NONSGML v1.0//EN
CALSCALE:GREGORIAN
METHOD:PUBLISH
X-WR-CALNAME:ГБУЗ ЯО &quot;Медицинский информационно-аналитический центр&quot;
X-ORIGINAL-URL:https://miac.zdrav76.ru
X-WR-CALDESC:Мероприятия для ГБУЗ ЯО &quot;Медицинский информационно-аналитический центр&quot;
REFRESH-INTERVAL;VALUE=DURATION:PT1H
X-Robots-Tag:noindex
X-PUBLISHED-TTL:PT1H
BEGIN:VTIMEZONE
TZID:Europe/Moscow
BEGIN:STANDARD
TZOFFSETFROM:+0300
TZOFFSETTO:+0300
TZNAME:MSK
DTSTART:20240101T000000
END:STANDARD
END:VTIMEZONE
BEGIN:VEVENT
DTSTART;TZID=Europe/Moscow:20250217T090000
DTEND;TZID=Europe/Moscow:20250217T093000
DTSTAMP:20260421T003159
CREATED:20250214T113147Z
LAST-MODIFIED:20250214T113147Z
UID:32489-1739782800-1739784600@miac.zdrav76.ru
SUMMARY:Сдача дежурств за предыдущий день в стационаре
DESCRIPTION:
URL:https://miac.zdrav76.ru/event/%d0%a1%d0%b4%d0%b0%d1%87%d0%b0-%d0%b4%d0%b5%d0%b6%d1%83%d1%80%d1%81%d1%82%d0%b2-%d0%b7%d0%b0-%d0%bf%d1%80%d0%b5%d0%b4%d1%8b%d0%b4%d1%83%d1%89%d0%b8%d0%b9-%d0%b4%d0%b5%d0%bd%d1%8c-%d0%b2-%d1%81-144/
END:VEVENT
BEGIN:VEVENT
DTSTART;TZID=Europe/Moscow:20250217T100000
DTEND;TZID=Europe/Moscow:20250217T110000
DTSTAMP:20260421T003159
CREATED:20250217T071247Z
LAST-MODIFIED:20250217T071247Z
UID:32524-1739786400-1739790000@miac.zdrav76.ru
SUMMARY:122
DESCRIPTION:
URL:https://miac.zdrav76.ru/event/122-2/
END:VEVENT
BEGIN:VEVENT
DTSTART;TZID=Europe/Moscow:20250217T110000
DTEND;TZID=Europe/Moscow:20250217T130000
DTSTAMP:20260421T003159
CREATED:20250217T052653Z
LAST-MODIFIED:20250217T052653Z
UID:32517-1739790000-1739797200@miac.zdrav76.ru
SUMMARY:Регистратура 1С Поликлиники. Разбор ошибок
DESCRIPTION:
URL:https://miac.zdrav76.ru/event/%d0%a0%d0%b5%d0%b3%d0%b8%d1%81%d1%82%d1%80%d0%b0%d1%82%d1%83%d1%80%d0%b0-1%d0%a1-%d0%9f%d0%be%d0%bb%d0%b8%d0%ba%d0%bb%d0%b8%d0%bd%d0%b8%d0%ba%d0%b8-%d0%a0%d0%b0%d0%b7%d0%b1%d0%be%d1%80-%d0%be%d1%88/
END:VEVENT
BEGIN:VEVENT
DTSTART;TZID=Europe/Moscow:20250217T130000
DTEND;TZID=Europe/Moscow:20250217T170000
DTSTAMP:20260421T003159
CREATED:20250214T113410Z
LAST-MODIFIED:20250214T114000Z
UID:32499-1739797200-1739811600@miac.zdrav76.ru
SUMMARY:Настройка Регистратуры 1С Поликлиники
DESCRIPTION:
URL:https://miac.zdrav76.ru/event/%d0%9d%d0%b0%d1%81%d1%82%d1%80%d0%be%d0%b9%d0%ba%d0%b0-%d0%a0%d0%b5%d0%b3%d0%b8%d1%81%d1%82%d1%80%d0%b0%d1%82%d1%83%d1%80%d1%8b-1%d0%a1-%d0%9f%d0%be%d0%bb%d0%b8%d0%ba%d0%bb%d0%b8%d0%bd%d0%b8%d0%ba-3/
END:VEVENT
BEGIN:VEVENT
DTSTART;TZID=Europe/Moscow:20250218T090000
DTEND;TZID=Europe/Moscow:20250218T093000
DTSTAMP:20260421T003159
CREATED:20250214T113207Z
LAST-MODIFIED:20250214T113207Z
UID:32491-1739869200-1739871000@miac.zdrav76.ru
SUMMARY:Сдача дежурств за предыдущий день в стационаре
DESCRIPTION:
URL:https://miac.zdrav76.ru/event/%d0%a1%d0%b4%d0%b0%d1%87%d0%b0-%d0%b4%d0%b5%d0%b6%d1%83%d1%80%d1%81%d1%82%d0%b2-%d0%b7%d0%b0-%d0%bf%d1%80%d0%b5%d0%b4%d1%8b%d0%b4%d1%83%d1%89%d0%b8%d0%b9-%d0%b4%d0%b5%d0%bd%d1%8c-%d0%b2-%d1%81-145/
END:VEVENT
BEGIN:VEVENT
DTSTART;TZID=Europe/Moscow:20250218T120000
DTEND;TZID=Europe/Moscow:20250218T133000
DTSTAMP:20260421T003159
CREATED:20250219T052055Z
LAST-MODIFIED:20250219T052055Z
UID:32559-1739880000-1739885400@miac.zdrav76.ru
SUMMARY:1С. Работы по проекту
DESCRIPTION:
URL:https://miac.zdrav76.ru/event/1%d0%a1-%d0%a0%d0%b0%d0%b1%d0%be%d1%82%d1%8b-%d0%bf%d0%be-%d0%bf%d1%80%d0%be%d0%b5%d0%ba%d1%82%d1%83-3/
END:VEVENT
BEGIN:VEVENT
DTSTART;TZID=Europe/Moscow:20250218T130000
DTEND;TZID=Europe/Moscow:20250218T143000
DTSTAMP:20260421T003159
CREATED:20250214T113456Z
LAST-MODIFIED:20250214T113456Z
UID:32501-1739883600-1739889000@miac.zdrav76.ru
SUMMARY:“Наставничество” с гл. внеш. специалистами МЗ ЯО
DESCRIPTION:
URL:https://miac.zdrav76.ru/event/%d0%9d%d0%b0%d1%81%d1%82%d0%b0%d0%b2%d0%bd%d0%b8%d1%87%d0%b5%d1%81%d1%82%d0%b2%d0%be-%d1%81-%d0%b3%d0%bb-%d0%b2%d0%bd%d0%b5%d1%88-%d1%81%d0%bf%d0%b5%d1%86%d0%b8%d0%b0%d0%bb%d0%b8-3/
END:VEVENT
BEGIN:VEVENT
DTSTART;TZID=Europe/Moscow:20250218T150000
DTEND;TZID=Europe/Moscow:20250218T163000
DTSTAMP:20260421T003159
CREATED:20250214T113539Z
LAST-MODIFIED:20250214T113539Z
UID:32503-1739890800-1739896200@miac.zdrav76.ru
SUMMARY:1С. Текущие проекты
DESCRIPTION:
URL:https://miac.zdrav76.ru/event/1%d0%a1-%d0%a2%d0%b5%d0%ba%d1%83%d1%89%d0%b8%d0%b5-%d0%bf%d1%80%d0%be%d0%b5%d0%ba%d1%82%d1%8b-8/
END:VEVENT
BEGIN:VEVENT
DTSTART;TZID=Europe/Moscow:20250219T090000
DTEND;TZID=Europe/Moscow:20250219T093000
DTSTAMP:20260421T003159
CREATED:20250214T113228Z
LAST-MODIFIED:20250214T113228Z
UID:32493-1739955600-1739957400@miac.zdrav76.ru
SUMMARY:Сдача дежурств за предыдущий день в стационаре
DESCRIPTION:
URL:https://miac.zdrav76.ru/event/%d0%a1%d0%b4%d0%b0%d1%87%d0%b0-%d0%b4%d0%b5%d0%b6%d1%83%d1%80%d1%81%d1%82%d0%b2-%d0%b7%d0%b0-%d0%bf%d1%80%d0%b5%d0%b4%d1%8b%d0%b4%d1%83%d1%89%d0%b8%d0%b9-%d0%b4%d0%b5%d0%bd%d1%8c-%d0%b2-%d1%81-146/
END:VEVENT
BEGIN:VEVENT
DTSTART;TZID=Europe/Moscow:20250219T100000
DTEND;TZID=Europe/Moscow:20250219T170000
DTSTAMP:20260421T003159
CREATED:20250219T124701Z
LAST-MODIFIED:20250219T124701Z
UID:32561-1739959200-1739984400@miac.zdrav76.ru
SUMMARY:Настройка Регистратуры 1С Поликлиники (Консультант 1)
DESCRIPTION:
URL:https://miac.zdrav76.ru/event/%d0%9d%d0%b0%d1%81%d1%82%d1%80%d0%be%d0%b9%d0%ba%d0%b0-%d0%a0%d0%b5%d0%b3%d0%b8%d1%81%d1%82%d1%80%d0%b0%d1%82%d1%83%d1%80%d1%8b-1%d0%a1-%d0%9f%d0%be%d0%bb%d0%b8%d0%ba%d0%bb%d0%b8%d0%bd%d0%b8%d0%ba-4/
END:VEVENT
BEGIN:VEVENT
DTSTART;TZID=Europe/Moscow:20250219T100000
DTEND;TZID=Europe/Moscow:20250219T170000
DTSTAMP:20260421T003159
CREATED:20250219T124725Z
LAST-MODIFIED:20250219T124725Z
UID:32563-1739959200-1739984400@miac.zdrav76.ru
SUMMARY:Настройка Регистратуры 1С Поликлиники (Консультант 2)
DESCRIPTION:
URL:https://miac.zdrav76.ru/event/%d0%9d%d0%b0%d1%81%d1%82%d1%80%d0%be%d0%b9%d0%ba%d0%b0-%d0%a0%d0%b5%d0%b3%d0%b8%d1%81%d1%82%d1%80%d0%b0%d1%82%d1%83%d1%80%d1%8b-1%d0%a1-%d0%9f%d0%be%d0%bb%d0%b8%d0%ba%d0%bb%d0%b8%d0%bd%d0%b8%d0%ba-5/
END:VEVENT
BEGIN:VEVENT
DTSTART;TZID=Europe/Moscow:20250220T090000
DTEND;TZID=Europe/Moscow:20250220T093000
DTSTAMP:20260421T003159
CREATED:20250214T113248Z
LAST-MODIFIED:20250214T113248Z
UID:32495-1740042000-1740043800@miac.zdrav76.ru
SUMMARY:Сдача дежурств за предыдущий день в стационаре
DESCRIPTION:
URL:https://miac.zdrav76.ru/event/%d0%a1%d0%b4%d0%b0%d1%87%d0%b0-%d0%b4%d0%b5%d0%b6%d1%83%d1%80%d1%81%d1%82%d0%b2-%d0%b7%d0%b0-%d0%bf%d1%80%d0%b5%d0%b4%d1%8b%d0%b4%d1%83%d1%89%d0%b8%d0%b9-%d0%b4%d0%b5%d0%bd%d1%8c-%d0%b2-%d1%81-147/
END:VEVENT
BEGIN:VEVENT
DTSTART;TZID=Europe/Moscow:20250220T133000
DTEND;TZID=Europe/Moscow:20250220T150000
DTSTAMP:20260421T003159
CREATED:20250214T113629Z
LAST-MODIFIED:20250214T113629Z
UID:32505-1740058200-1740063600@miac.zdrav76.ru
SUMMARY:Разговор гл. внеш. спец-ов МЗ ЯО с терапевтами МР ЯО
DESCRIPTION:
URL:https://miac.zdrav76.ru/event/%d0%a0%d0%b0%d0%b7%d0%b3%d0%be%d0%b2%d0%be%d1%80-%d0%b3%d0%bb-%d0%b2%d0%bd%d0%b5%d1%88-%d1%81%d0%bf%d0%b5%d1%86-%d0%be%d0%b2-%d0%9c%d0%97-%d0%af%d0%9e-%d1%81-%d1%82%d0%b5%d1%80%d0%b0%d0%bf%d0%b5-2/
END:VEVENT
BEGIN:VEVENT
DTSTART;TZID=Europe/Moscow:20250220T150000
DTEND;TZID=Europe/Moscow:20250220T160000
DTSTAMP:20260421T003159
CREATED:20250214T113709Z
LAST-MODIFIED:20250214T113709Z
UID:32507-1740063600-1740067200@miac.zdrav76.ru
SUMMARY:РТК. РИС/ЦАМИ\, СМП
DESCRIPTION:
URL:https://miac.zdrav76.ru/event/%d0%a0%d0%a2%d0%9a-%d0%a0%d0%98%d0%a1-%d0%a6%d0%90%d0%9c%d0%98-%d0%a1%d0%9c%d0%9f-29/
END:VEVENT
BEGIN:VEVENT
DTSTART;TZID=Europe/Moscow:20250221T090000
DTEND;TZID=Europe/Moscow:20250221T093000
DTSTAMP:20260421T003159
CREATED:20250214T113308Z
LAST-MODIFIED:20250214T113308Z
UID:32497-1740128400-1740130200@miac.zdrav76.ru
SUMMARY:Сдача дежурств за предыдущий день в стационаре
DESCRIPTION:
URL:https://miac.zdrav76.ru/event/%d0%a1%d0%b4%d0%b0%d1%87%d0%b0-%d0%b4%d0%b5%d0%b6%d1%83%d1%80%d1%81%d1%82%d0%b2-%d0%b7%d0%b0-%d0%bf%d1%80%d0%b5%d0%b4%d1%8b%d0%b4%d1%83%d1%89%d0%b8%d0%b9-%d0%b4%d0%b5%d0%bd%d1%8c-%d0%b2-%d1%81-148/
END:VEVENT
BEGIN:VEVENT
DTSTART;TZID=Europe/Moscow:20250221T120000
DTEND;TZID=Europe/Moscow:20250221T130000
DTSTAMP:20260421T003159
CREATED:20250214T113749Z
LAST-MODIFIED:20250214T113749Z
UID:32509-1740139200-1740142800@miac.zdrav76.ru
SUMMARY:Рабочее совещание с ЦАОП ЯО
DESCRIPTION:
URL:https://miac.zdrav76.ru/event/%d0%a0%d0%b0%d0%b1%d0%be%d1%87%d0%b5%d0%b5-%d1%81%d0%be%d0%b2%d0%b5%d1%89%d0%b0%d0%bd%d0%b8%d0%b5-%d1%81-%d0%a6%d0%90%d0%9e%d0%9f-%d0%af%d0%9e-22/
END:VEVENT
BEGIN:VEVENT
DTSTART;TZID=Europe/Moscow:20250224T090000
DTEND;TZID=Europe/Moscow:20250224T093000
DTSTAMP:20260421T003159
CREATED:20250220T054905Z
LAST-MODIFIED:20250220T054905Z
UID:32565-1740387600-1740389400@miac.zdrav76.ru
SUMMARY:Сдача дежурств за предыдущий день в стационаре
DESCRIPTION:
URL:https://miac.zdrav76.ru/event/%d0%a1%d0%b4%d0%b0%d1%87%d0%b0-%d0%b4%d0%b5%d0%b6%d1%83%d1%80%d1%81%d1%82%d0%b2-%d0%b7%d0%b0-%d0%bf%d1%80%d0%b5%d0%b4%d1%8b%d0%b4%d1%83%d1%89%d0%b8%d0%b9-%d0%b4%d0%b5%d0%bd%d1%8c-%d0%b2-%d1%81-149/
END:VEVENT
BEGIN:VEVENT
DTSTART;TZID=Europe/Moscow:20250224T140000
DTEND;TZID=Europe/Moscow:20250224T153000
DTSTAMP:20260421T003159
CREATED:20250224T095148Z
LAST-MODIFIED:20250224T095148Z
UID:32648-1740405600-1740411000@miac.zdrav76.ru
SUMMARY:1С Поликлиника. Показ функционала
DESCRIPTION:
URL:https://miac.zdrav76.ru/event/1%d0%a1-%d0%9f%d0%be%d0%bb%d0%b8%d0%ba%d0%bb%d0%b8%d0%bd%d0%b8%d0%ba%d0%b0-%d0%9f%d0%be%d0%ba%d0%b0%d0%b7-%d1%84%d1%83%d0%bd%d0%ba%d1%86%d0%b8%d0%be%d0%bd%d0%b0%d0%bb%d0%b0-3/
END:VEVENT
BEGIN:VEVENT
DTSTART;TZID=Europe/Moscow:20250225T090000
DTEND;TZID=Europe/Moscow:20250225T093000
DTSTAMP:20260421T003159
CREATED:20250220T054930Z
LAST-MODIFIED:20250220T054930Z
UID:32567-1740474000-1740475800@miac.zdrav76.ru
SUMMARY:Сдача дежурств за предыдущий день в стационаре
DESCRIPTION:
URL:https://miac.zdrav76.ru/event/%d0%a1%d0%b4%d0%b0%d1%87%d0%b0-%d0%b4%d0%b5%d0%b6%d1%83%d1%80%d1%81%d1%82%d0%b2-%d0%b7%d0%b0-%d0%bf%d1%80%d0%b5%d0%b4%d1%8b%d0%b4%d1%83%d1%89%d0%b8%d0%b9-%d0%b4%d0%b5%d0%bd%d1%8c-%d0%b2-%d1%81-150/
END:VEVENT
BEGIN:VEVENT
DTSTART;TZID=Europe/Moscow:20250225T120000
DTEND;TZID=Europe/Moscow:20250225T133000
DTSTAMP:20260421T003159
CREATED:20250225T084812Z
LAST-MODIFIED:20250225T084812Z
UID:32666-1740484800-1740490200@miac.zdrav76.ru
SUMMARY:ОНКО-маршруты
DESCRIPTION:
URL:https://miac.zdrav76.ru/event/%d0%9e%d0%9d%d0%9a%d0%9e-%d0%bc%d0%b0%d1%80%d1%88%d1%80%d1%83%d1%82%d1%8b/
END:VEVENT
BEGIN:VEVENT
DTSTART;TZID=Europe/Moscow:20250225T130000
DTEND;TZID=Europe/Moscow:20250225T143000
DTSTAMP:20260421T003159
CREATED:20250220T055201Z
LAST-MODIFIED:20250220T055201Z
UID:32575-1740488400-1740493800@miac.zdrav76.ru
SUMMARY:“Наставничество” с гл. внеш. специалистами МЗ ЯО
DESCRIPTION:
URL:https://miac.zdrav76.ru/event/%d0%9d%d0%b0%d1%81%d1%82%d0%b0%d0%b2%d0%bd%d0%b8%d1%87%d0%b5%d1%81%d1%82%d0%b2%d0%be-%d1%81-%d0%b3%d0%bb-%d0%b2%d0%bd%d0%b5%d1%88-%d1%81%d0%bf%d0%b5%d1%86%d0%b8%d0%b0%d0%bb%d0%b8-4/
END:VEVENT
BEGIN:VEVENT
DTSTART;TZID=Europe/Moscow:20250225T150000
DTEND;TZID=Europe/Moscow:20250225T163000
DTSTAMP:20260421T003159
CREATED:20250220T055239Z
LAST-MODIFIED:20250220T055239Z
UID:32577-1740495600-1740501000@miac.zdrav76.ru
SUMMARY:1С. Текущие проекты
DESCRIPTION:
URL:https://miac.zdrav76.ru/event/1%d0%a1-%d0%a2%d0%b5%d0%ba%d1%83%d1%89%d0%b8%d0%b5-%d0%bf%d1%80%d0%be%d0%b5%d0%ba%d1%82%d1%8b-9/
END:VEVENT
BEGIN:VEVENT
DTSTART;TZID=Europe/Moscow:20250226T090000
DTEND;TZID=Europe/Moscow:20250226T093000
DTSTAMP:20260421T003159
CREATED:20250220T054952Z
LAST-MODIFIED:20250220T054952Z
UID:32569-1740560400-1740562200@miac.zdrav76.ru
SUMMARY:Сдача дежурств за предыдущий день в стационаре
DESCRIPTION:
URL:https://miac.zdrav76.ru/event/%d0%a1%d0%b4%d0%b0%d1%87%d0%b0-%d0%b4%d0%b5%d0%b6%d1%83%d1%80%d1%81%d1%82%d0%b2-%d0%b7%d0%b0-%d0%bf%d1%80%d0%b5%d0%b4%d1%8b%d0%b4%d1%83%d1%89%d0%b8%d0%b9-%d0%b4%d0%b5%d0%bd%d1%8c-%d0%b2-%d1%81-151/
END:VEVENT
BEGIN:VEVENT
DTSTART;TZID=Europe/Moscow:20250227T090000
DTEND;TZID=Europe/Moscow:20250227T093000
DTSTAMP:20260421T003159
CREATED:20250220T055016Z
LAST-MODIFIED:20250220T055016Z
UID:32571-1740646800-1740648600@miac.zdrav76.ru
SUMMARY:Сдача дежурств за предыдущий день в стационаре
DESCRIPTION:
URL:https://miac.zdrav76.ru/event/%d0%a1%d0%b4%d0%b0%d1%87%d0%b0-%d0%b4%d0%b5%d0%b6%d1%83%d1%80%d1%81%d1%82%d0%b2-%d0%b7%d0%b0-%d0%bf%d1%80%d0%b5%d0%b4%d1%8b%d0%b4%d1%83%d1%89%d0%b8%d0%b9-%d0%b4%d0%b5%d0%bd%d1%8c-%d0%b2-%d1%81-152/
END:VEVENT
BEGIN:VEVENT
DTSTART;TZID=Europe/Moscow:20250227T110000
DTEND;TZID=Europe/Moscow:20250227T123000
DTSTAMP:20260421T003159
CREATED:20250227T074033Z
LAST-MODIFIED:20250227T074033Z
UID:32756-1740654000-1740659400@miac.zdrav76.ru
SUMMARY:1С. Работы по проекту
DESCRIPTION:
URL:https://miac.zdrav76.ru/event/1%d0%a1-%d0%a0%d0%b0%d0%b1%d0%be%d1%82%d1%8b-%d0%bf%d0%be-%d0%bf%d1%80%d0%be%d0%b5%d0%ba%d1%82%d1%83-4/
END:VEVENT
BEGIN:VEVENT
DTSTART;TZID=Europe/Moscow:20250227T133000
DTEND;TZID=Europe/Moscow:20250227T150000
DTSTAMP:20260421T003159
CREATED:20250220T055326Z
LAST-MODIFIED:20250220T055326Z
UID:32579-1740663000-1740668400@miac.zdrav76.ru
SUMMARY:Разговор гл. внеш. спец-ов МЗ ЯО с терапевтами МР ЯО
DESCRIPTION:
URL:https://miac.zdrav76.ru/event/%d0%a0%d0%b0%d0%b7%d0%b3%d0%be%d0%b2%d0%be%d1%80-%d0%b3%d0%bb-%d0%b2%d0%bd%d0%b5%d1%88-%d1%81%d0%bf%d0%b5%d1%86-%d0%be%d0%b2-%d0%9c%d0%97-%d0%af%d0%9e-%d1%81-%d1%82%d0%b5%d1%80%d0%b0%d0%bf%d0%b5-3/
END:VEVENT
BEGIN:VEVENT
DTSTART;TZID=Europe/Moscow:20250227T150000
DTEND;TZID=Europe/Moscow:20250227T160000
DTSTAMP:20260421T003159
CREATED:20250220T055406Z
LAST-MODIFIED:20250220T055406Z
UID:32581-1740668400-1740672000@miac.zdrav76.ru
SUMMARY:РТК. РИС/ЦАМИ\, СМП
DESCRIPTION:
URL:https://miac.zdrav76.ru/event/%d0%a0%d0%a2%d0%9a-%d0%a0%d0%98%d0%a1-%d0%a6%d0%90%d0%9c%d0%98-%d0%a1%d0%9c%d0%9f-30/
END:VEVENT
BEGIN:VEVENT
DTSTART;TZID=Europe/Moscow:20250227T150000
DTEND;TZID=Europe/Moscow:20250227T163000
DTSTAMP:20260421T003159
CREATED:20250224T095354Z
LAST-MODIFIED:20250224T095354Z
UID:32650-1740668400-1740673800@miac.zdrav76.ru
SUMMARY:Отчет по хирургии за 2024 год
DESCRIPTION:
URL:https://miac.zdrav76.ru/event/%d0%9e%d1%82%d1%87%d0%b5%d1%82-%d0%bf%d0%be-%d1%85%d0%b8%d1%80%d1%83%d1%80%d0%b3%d0%b8%d0%b8-%d0%b7%d0%b0-2024-%d0%b3%d0%be%d0%b4/
END:VEVENT
BEGIN:VEVENT
DTSTART;TZID=Europe/Moscow:20250228T090000
DTEND;TZID=Europe/Moscow:20250228T093000
DTSTAMP:20260421T003159
CREATED:20250220T055037Z
LAST-MODIFIED:20250220T055037Z
UID:32573-1740733200-1740735000@miac.zdrav76.ru
SUMMARY:Сдача дежурств за предыдущий день в стационаре
DESCRIPTION:
URL:https://miac.zdrav76.ru/event/%d0%a1%d0%b4%d0%b0%d1%87%d0%b0-%d0%b4%d0%b5%d0%b6%d1%83%d1%80%d1%81%d1%82%d0%b2-%d0%b7%d0%b0-%d0%bf%d1%80%d0%b5%d0%b4%d1%8b%d0%b4%d1%83%d1%89%d0%b8%d0%b9-%d0%b4%d0%b5%d0%bd%d1%8c-%d0%b2-%d1%81-153/
END:VEVENT
BEGIN:VEVENT
DTSTART;TZID=Europe/Moscow:20250228T100000
DTEND;TZID=Europe/Moscow:20250228T120000
DTSTAMP:20260421T003159
CREATED:20250227T052518Z
LAST-MODIFIED:20250227T052518Z
UID:32694-1740736800-1740744000@miac.zdrav76.ru
SUMMARY:Дополнительные заявки на ЛЛО
DESCRIPTION:
URL:https://miac.zdrav76.ru/event/%d0%94%d0%be%d0%bf%d0%be%d0%bb%d0%bd%d0%b8%d1%82%d0%b5%d0%bb%d1%8c%d0%bd%d1%8b%d0%b5-%d0%b7%d0%b0%d1%8f%d0%b2%d0%ba%d0%b8-%d0%bd%d0%b0-%d0%9b%d0%9b%d0%9e/
END:VEVENT
END:VCALENDAR