BEGIN:VCALENDAR
VERSION:2.0
PRODID:-//ГБУЗ ЯО &quot;Медицинский информационно-аналитический центр&quot; - ECPv6.15.17.1//NONSGML v1.0//EN
CALSCALE:GREGORIAN
METHOD:PUBLISH
X-WR-CALNAME:ГБУЗ ЯО &quot;Медицинский информационно-аналитический центр&quot;
X-ORIGINAL-URL:https://miac.zdrav76.ru
X-WR-CALDESC:Мероприятия для ГБУЗ ЯО &quot;Медицинский информационно-аналитический центр&quot;
REFRESH-INTERVAL;VALUE=DURATION:PT1H
X-Robots-Tag:noindex
X-PUBLISHED-TTL:PT1H
BEGIN:VTIMEZONE
TZID:Europe/Moscow
BEGIN:STANDARD
TZOFFSETFROM:+0300
TZOFFSETTO:+0300
TZNAME:MSK
DTSTART:20230101T000000
END:STANDARD
END:VTIMEZONE
BEGIN:VEVENT
DTSTART;TZID=Europe/Moscow:20241202T090000
DTEND;TZID=Europe/Moscow:20241202T093000
DTSTAMP:20260421T061558
CREATED:20241125T100719Z
LAST-MODIFIED:20241125T100719Z
UID:30867-1733130000-1733131800@miac.zdrav76.ru
SUMMARY:Сдача дежурств за предыдущий день в стационаре
DESCRIPTION:
URL:https://miac.zdrav76.ru/event/%d0%a1%d0%b4%d0%b0%d1%87%d0%b0-%d0%b4%d0%b5%d0%b6%d1%83%d1%80%d1%81%d1%82%d0%b2-%d0%b7%d0%b0-%d0%bf%d1%80%d0%b5%d0%b4%d1%8b%d0%b4%d1%83%d1%89%d0%b8%d0%b9-%d0%b4%d0%b5%d0%bd%d1%8c-%d0%b2-%d1%81-96/
END:VEVENT
BEGIN:VEVENT
DTSTART;TZID=Europe/Moscow:20241202T100000
DTEND;TZID=Europe/Moscow:20241202T113000
DTSTAMP:20260421T061558
CREATED:20241127T095931Z
LAST-MODIFIED:20241127T095931Z
UID:30896-1733133600-1733139000@miac.zdrav76.ru
SUMMARY:Центр гигиены и эпидемиологии. Подключение к РС ЕГИСЗ ЯО. СЭМД 230
DESCRIPTION:
URL:https://miac.zdrav76.ru/event/%d0%a6%d0%b5%d0%bd%d1%82%d1%80-%d0%b3%d0%b8%d0%b3%d0%b8%d0%b5%d0%bd%d1%8b-%d0%b8-%d1%8d%d0%bf%d0%b8%d0%b4%d0%b5%d0%bc%d0%b8%d0%be%d0%bb%d0%be%d0%b3%d0%b8%d0%b8-%d0%9f%d0%be%d0%b4%d0%ba%d0%bb%d1%8e/
LOCATION:В режиме ВКС
END:VEVENT
BEGIN:VEVENT
DTSTART;TZID=Europe/Moscow:20241203T090000
DTEND;TZID=Europe/Moscow:20241203T093000
DTSTAMP:20260421T061558
CREATED:20241125T100749Z
LAST-MODIFIED:20241125T100749Z
UID:30869-1733216400-1733218200@miac.zdrav76.ru
SUMMARY:Сдача дежурств за предыдущий день в стационаре
DESCRIPTION:
URL:https://miac.zdrav76.ru/event/%d0%a1%d0%b4%d0%b0%d1%87%d0%b0-%d0%b4%d0%b5%d0%b6%d1%83%d1%80%d1%81%d1%82%d0%b2-%d0%b7%d0%b0-%d0%bf%d1%80%d0%b5%d0%b4%d1%8b%d0%b4%d1%83%d1%89%d0%b8%d0%b9-%d0%b4%d0%b5%d0%bd%d1%8c-%d0%b2-%d1%81-97/
END:VEVENT
BEGIN:VEVENT
DTSTART;TZID=Europe/Moscow:20241203T100000
DTEND;TZID=Europe/Moscow:20241203T110000
DTSTAMP:20260421T061558
CREATED:20241203T070354Z
LAST-MODIFIED:20241203T070354Z
UID:31000-1733220000-1733223600@miac.zdrav76.ru
SUMMARY:ЗСПД
DESCRIPTION:
URL:https://miac.zdrav76.ru/event/%d0%97%d0%a1%d0%9f%d0%94/
LOCATION:В режиме ВКС
END:VEVENT
BEGIN:VEVENT
DTSTART;TZID=Europe/Moscow:20241203T130000
DTEND;TZID=Europe/Moscow:20241203T140000
DTSTAMP:20260421T061558
CREATED:20241125T101022Z
LAST-MODIFIED:20241125T101022Z
UID:30877-1733230800-1733234400@miac.zdrav76.ru
SUMMARY:Орг. совещание по проекту “Наставничество” с гл. внеш. специалистами МЗ ЯО
DESCRIPTION:
URL:https://miac.zdrav76.ru/event/%d0%9e%d1%80%d0%b3-%d1%81%d0%be%d0%b2%d0%b5%d1%89%d0%b0%d0%bd%d0%b8%d0%b5-%d0%bf%d0%be-%d0%bf%d1%80%d0%be%d0%b5%d0%ba%d1%82%d1%83-%d0%9d%d0%b0%d1%81%d1%82%d0%b0%d0%b2%d0%bd%d0%b8%d1%87%d0%b5-5/
END:VEVENT
BEGIN:VEVENT
DTSTART;TZID=Europe/Moscow:20241203T130000
DTEND;TZID=Europe/Moscow:20241203T140000
DTSTAMP:20260421T061558
CREATED:20241203T070429Z
LAST-MODIFIED:20241203T070429Z
UID:31002-1733230800-1733234400@miac.zdrav76.ru
SUMMARY:ГИС ОМС
DESCRIPTION:
URL:https://miac.zdrav76.ru/event/%d0%93%d0%98%d0%a1-%d0%9e%d0%9c%d0%a1-6/
LOCATION:В режиме ВКС
END:VEVENT
BEGIN:VEVENT
DTSTART;TZID=Europe/Moscow:20241203T150000
DTEND;TZID=Europe/Moscow:20241203T163000
DTSTAMP:20260421T061558
CREATED:20241125T101103Z
LAST-MODIFIED:20241204T064547Z
UID:30879-1733238000-1733243400@miac.zdrav76.ru
SUMMARY:1С. Текущие проекты
DESCRIPTION:
URL:https://miac.zdrav76.ru/event/%d0%a1%d0%b0%d0%bc%d0%b0%d1%80%d0%b0-%d0%a2%d0%b5%d0%ba%d1%83%d1%89%d0%b8%d0%b5-%d0%bf%d1%80%d0%be%d0%b5%d0%ba%d1%82%d1%8b-20/
END:VEVENT
BEGIN:VEVENT
DTSTART;TZID=Europe/Moscow:20241204T090000
DTEND;TZID=Europe/Moscow:20241204T093000
DTSTAMP:20260421T061558
CREATED:20241125T100819Z
LAST-MODIFIED:20241125T100819Z
UID:30871-1733302800-1733304600@miac.zdrav76.ru
SUMMARY:Сдача дежурств за предыдущий день в стационаре
DESCRIPTION:
URL:https://miac.zdrav76.ru/event/%d0%a1%d0%b4%d0%b0%d1%87%d0%b0-%d0%b4%d0%b5%d0%b6%d1%83%d1%80%d1%81%d1%82%d0%b2-%d0%b7%d0%b0-%d0%bf%d1%80%d0%b5%d0%b4%d1%8b%d0%b4%d1%83%d1%89%d0%b8%d0%b9-%d0%b4%d0%b5%d0%bd%d1%8c-%d0%b2-%d1%81-98/
END:VEVENT
BEGIN:VEVENT
DTSTART;TZID=Europe/Moscow:20241204T160000
DTEND;TZID=Europe/Moscow:20241204T170000
DTSTAMP:20260421T061558
CREATED:20241204T132524Z
LAST-MODIFIED:20241204T132524Z
UID:31060-1733328000-1733331600@miac.zdrav76.ru
SUMMARY:Самара. Работы по текущим проектам
DESCRIPTION:
URL:https://miac.zdrav76.ru/event/%d0%a1%d0%b0%d0%bc%d0%b0%d1%80%d0%b0-%d0%a0%d0%b0%d0%b1%d0%be%d1%82%d1%8b-%d0%bf%d0%be-%d1%82%d0%b5%d0%ba%d1%83%d1%89%d0%b8%d0%bc-%d0%bf%d1%80%d0%be%d0%b5%d0%ba%d1%82%d0%b0%d0%bc-2/
LOCATION:В режиме ВКС
END:VEVENT
BEGIN:VEVENT
DTSTART;TZID=Europe/Moscow:20241205T090000
DTEND;TZID=Europe/Moscow:20241205T093000
DTSTAMP:20260421T061558
CREATED:20241125T100901Z
LAST-MODIFIED:20241125T100901Z
UID:30873-1733389200-1733391000@miac.zdrav76.ru
SUMMARY:Сдача дежурств за предыдущий день в стационаре
DESCRIPTION:
URL:https://miac.zdrav76.ru/event/%d0%a1%d0%b4%d0%b0%d1%87%d0%b0-%d0%b4%d0%b5%d0%b6%d1%83%d1%80%d1%81%d1%82%d0%b2-%d0%b7%d0%b0-%d0%bf%d1%80%d0%b5%d0%b4%d1%8b%d0%b4%d1%83%d1%89%d0%b8%d0%b9-%d0%b4%d0%b5%d0%bd%d1%8c-%d0%b2-%d1%81-99/
END:VEVENT
BEGIN:VEVENT
DTSTART;TZID=Europe/Moscow:20241205T100000
DTEND;TZID=Europe/Moscow:20241205T110000
DTSTAMP:20260421T061558
CREATED:20241204T064315Z
LAST-MODIFIED:20241204T064315Z
UID:31045-1733392800-1733396400@miac.zdrav76.ru
SUMMARY:Использование искусственного интеллекта (МосМедИИ)  в обработке КТ органов грудной клетки
DESCRIPTION:
URL:https://miac.zdrav76.ru/event/%d0%98%d1%81%d0%bf%d0%be%d0%bb%d1%8c%d0%b7%d0%be%d0%b2%d0%b0%d0%bd%d0%b8%d0%b5-%d0%b8%d1%81%d0%ba%d1%83%d1%81%d1%81%d1%82%d0%b2%d0%b5%d0%bd%d0%bd%d0%be%d0%b3%d0%be-%d0%b8%d0%bd%d1%82%d0%b5%d0%bb%d0%bb/
LOCATION:В режиме ВКС
END:VEVENT
BEGIN:VEVENT
DTSTART;TZID=Europe/Moscow:20241205T120000
DTEND;TZID=Europe/Moscow:20241205T133000
DTSTAMP:20260421T061558
CREATED:20241205T052444Z
LAST-MODIFIED:20241205T052444Z
UID:31098-1733400000-1733405400@miac.zdrav76.ru
SUMMARY:Диспансерное наблюдение пациентов с хроническими заболеваниями (ХОБЛ\, ХБП)
DESCRIPTION:
URL:https://miac.zdrav76.ru/event/%d0%94%d0%b8%d1%81%d0%bf%d0%b0%d0%bd%d1%81%d0%b5%d1%80%d0%bd%d0%be%d0%b5-%d0%bd%d0%b0%d0%b1%d0%bb%d1%8e%d0%b4%d0%b5%d0%bd%d0%b8%d0%b5-%d0%bf%d0%b0%d1%86%d0%b8%d0%b5%d0%bd%d1%82%d0%be%d0%b2-%d1%81/
END:VEVENT
BEGIN:VEVENT
DTSTART;TZID=Europe/Moscow:20241205T133000
DTEND;TZID=Europe/Moscow:20241205T150000
DTSTAMP:20260421T061558
CREATED:20241125T101200Z
LAST-MODIFIED:20241125T101200Z
UID:30881-1733405400-1733410800@miac.zdrav76.ru
SUMMARY:Разговор гл. внеш. спец. МЗ ЯО с врачами-терапевтами МР ЯО
DESCRIPTION:
URL:https://miac.zdrav76.ru/event/%d0%a0%d0%b0%d0%b7%d0%b3%d0%be%d0%b2%d0%be%d1%80-%d0%b3%d0%bb-%d0%b2%d0%bd%d0%b5%d1%88-%d1%81%d0%bf%d0%b5%d1%86-%d0%9c%d0%97-%d0%af%d0%9e-%d1%81-%d0%b2%d1%80%d0%b0%d1%87%d0%b0%d0%bc%d0%b8-%d1%82-5/
END:VEVENT
BEGIN:VEVENT
DTSTART;TZID=Europe/Moscow:20241205T150000
DTEND;TZID=Europe/Moscow:20241205T160000
DTSTAMP:20260421T061558
CREATED:20241125T101240Z
LAST-MODIFIED:20241125T101240Z
UID:30883-1733410800-1733414400@miac.zdrav76.ru
SUMMARY:РТК. РИС/ЦАМИ\, СМП
DESCRIPTION:
URL:https://miac.zdrav76.ru/event/%d0%a0%d0%a2%d0%9a-%d0%a0%d0%98%d0%a1-%d0%a6%d0%90%d0%9c%d0%98-%d0%a1%d0%9c%d0%9f-19/
END:VEVENT
BEGIN:VEVENT
DTSTART;TZID=Europe/Moscow:20241205T153000
DTEND;TZID=Europe/Moscow:20241205T163000
DTSTAMP:20260421T061558
CREATED:20241127T100232Z
LAST-MODIFIED:20241127T100232Z
UID:30903-1733412600-1733416200@miac.zdrav76.ru
SUMMARY:Переход на единую МИС
DESCRIPTION:
URL:https://miac.zdrav76.ru/event/%d0%9f%d0%b5%d1%80%d0%b5%d1%85%d0%be%d0%b4-%d0%bd%d0%b0-%d0%b5%d0%b4%d0%b8%d0%bd%d1%83%d1%8e-%d0%9c%d0%98%d0%a1-3/
LOCATION:В режиме ВКС
END:VEVENT
BEGIN:VEVENT
DTSTART;TZID=Europe/Moscow:20241206T090000
DTEND;TZID=Europe/Moscow:20241206T093000
DTSTAMP:20260421T061558
CREATED:20241125T100925Z
LAST-MODIFIED:20241125T100925Z
UID:30875-1733475600-1733477400@miac.zdrav76.ru
SUMMARY:Сдача дежурств за предыдущий день в стационаре
DESCRIPTION:
URL:https://miac.zdrav76.ru/event/%d0%a1%d0%b4%d0%b0%d1%87%d0%b0-%d0%b4%d0%b5%d0%b6%d1%83%d1%80%d1%81%d1%82%d0%b2-%d0%b7%d0%b0-%d0%bf%d1%80%d0%b5%d0%b4%d1%8b%d0%b4%d1%83%d1%89%d0%b8%d0%b9-%d0%b4%d0%b5%d0%bd%d1%8c-%d0%b2-%d1%81-100/
END:VEVENT
BEGIN:VEVENT
DTSTART;TZID=Europe/Moscow:20241206T103000
DTEND;TZID=Europe/Moscow:20241206T113000
DTSTAMP:20260421T061558
CREATED:20241204T064243Z
LAST-MODIFIED:20241204T064243Z
UID:31043-1733481000-1733484600@miac.zdrav76.ru
SUMMARY:МосМедИИ прием работ
DESCRIPTION:
URL:https://miac.zdrav76.ru/event/%d0%9c%d0%be%d1%81%d0%9c%d0%b5%d0%b4%d0%98%d0%98-%d0%bf%d1%80%d0%b8%d0%b5%d0%bc-%d1%80%d0%b0%d0%b1%d0%be%d1%82/
LOCATION:В режиме ВКС
END:VEVENT
BEGIN:VEVENT
DTSTART;TZID=Europe/Moscow:20241206T120000
DTEND;TZID=Europe/Moscow:20241206T130000
DTSTAMP:20260421T061558
CREATED:20241125T101337Z
LAST-MODIFIED:20241125T101337Z
UID:30885-1733486400-1733490000@miac.zdrav76.ru
SUMMARY:Рабочее совещание с ЦАОП ЯО
DESCRIPTION:
URL:https://miac.zdrav76.ru/event/%d0%a0%d0%b0%d0%b1%d0%be%d1%87%d0%b5%d0%b5-%d1%81%d0%be%d0%b2%d0%b5%d1%89%d0%b0%d0%bd%d0%b8%d0%b5-%d1%81-%d0%a6%d0%90%d0%9e%d0%9f-%d0%af%d0%9e-13/
END:VEVENT
BEGIN:VEVENT
DTSTART;TZID=Europe/Moscow:20241209T090000
DTEND;TZID=Europe/Moscow:20241209T093000
DTSTAMP:20260421T061558
CREATED:20241202T131307Z
LAST-MODIFIED:20241202T131307Z
UID:30972-1733734800-1733736600@miac.zdrav76.ru
SUMMARY:Сдача дежурств за предыдущий день в стационаре
DESCRIPTION:
URL:https://miac.zdrav76.ru/event/%d0%a1%d0%b4%d0%b0%d1%87%d0%b0-%d0%b4%d0%b5%d0%b6%d1%83%d1%80%d1%81%d1%82%d0%b2-%d0%b7%d0%b0-%d0%bf%d1%80%d0%b5%d0%b4%d1%8b%d0%b4%d1%83%d1%89%d0%b8%d0%b9-%d0%b4%d0%b5%d0%bd%d1%8c-%d0%b2-%d1%81-101/
END:VEVENT
BEGIN:VEVENT
DTSTART;TZID=Europe/Moscow:20241209T110000
DTEND;TZID=Europe/Moscow:20241209T123000
DTSTAMP:20260421T061558
CREATED:20241209T053309Z
LAST-MODIFIED:20241209T053309Z
UID:31135-1733742000-1733747400@miac.zdrav76.ru
SUMMARY:Подсистема «Скорая медицинская помощь». Новые возможности
DESCRIPTION:
URL:https://miac.zdrav76.ru/event/%d0%9f%d0%be%d0%b4%d1%81%d0%b8%d1%81%d1%82%d0%b5%d0%bc%d0%b0-%d0%a1%d0%ba%d0%be%d1%80%d0%b0%d1%8f-%d0%bc%d0%b5%d0%b4%d0%b8%d1%86%d0%b8%d0%bd%d1%81%d0%ba%d0%b0%d1%8f-%d0%bf%d0%be%d0%bc%d0%be/
END:VEVENT
BEGIN:VEVENT
DTSTART;TZID=Europe/Moscow:20241210T090000
DTEND;TZID=Europe/Moscow:20241210T093000
DTSTAMP:20260421T061558
CREATED:20241202T131327Z
LAST-MODIFIED:20241202T131327Z
UID:30974-1733821200-1733823000@miac.zdrav76.ru
SUMMARY:Сдача дежурств за предыдущий день в стационаре
DESCRIPTION:
URL:https://miac.zdrav76.ru/event/%d0%a1%d0%b4%d0%b0%d1%87%d0%b0-%d0%b4%d0%b5%d0%b6%d1%83%d1%80%d1%81%d1%82%d0%b2-%d0%b7%d0%b0-%d0%bf%d1%80%d0%b5%d0%b4%d1%8b%d0%b4%d1%83%d1%89%d0%b8%d0%b9-%d0%b4%d0%b5%d0%bd%d1%8c-%d0%b2-%d1%81-102/
END:VEVENT
BEGIN:VEVENT
DTSTART;TZID=Europe/Moscow:20241210T113000
DTEND;TZID=Europe/Moscow:20241210T123000
DTSTAMP:20260421T061558
CREATED:20241210T062240Z
LAST-MODIFIED:20241210T062240Z
UID:31172-1733830200-1733833800@miac.zdrav76.ru
SUMMARY:1С. Сдача работ. Регистратура
DESCRIPTION:
URL:https://miac.zdrav76.ru/event/1%d0%a1-%d0%a1%d0%b4%d0%b0%d1%87%d0%b0-%d1%80%d0%b0%d0%b1%d0%be%d1%82-%d0%a0%d0%b5%d0%b3%d0%b8%d1%81%d1%82%d1%80%d0%b0%d1%82%d1%83%d1%80%d0%b0-2/
LOCATION:В режиме ВКС
END:VEVENT
BEGIN:VEVENT
DTSTART;TZID=Europe/Moscow:20241210T130000
DTEND;TZID=Europe/Moscow:20241210T140000
DTSTAMP:20260421T061558
CREATED:20241202T131543Z
LAST-MODIFIED:20241202T131543Z
UID:30982-1733835600-1733839200@miac.zdrav76.ru
SUMMARY:Орг. совещание по проекту “Наставничество” с гл. внеш. специалистами МЗ ЯО
DESCRIPTION:
URL:https://miac.zdrav76.ru/event/%d0%9e%d1%80%d0%b3-%d1%81%d0%be%d0%b2%d0%b5%d1%89%d0%b0%d0%bd%d0%b8%d0%b5-%d0%bf%d0%be-%d0%bf%d1%80%d0%be%d0%b5%d0%ba%d1%82%d1%83-%d0%9d%d0%b0%d1%81%d1%82%d0%b0%d0%b2%d0%bd%d0%b8%d1%87%d0%b5-6/
END:VEVENT
BEGIN:VEVENT
DTSTART;TZID=Europe/Moscow:20241210T150000
DTEND;TZID=Europe/Moscow:20241210T163000
DTSTAMP:20260421T061558
CREATED:20241202T131627Z
LAST-MODIFIED:20241204T064528Z
UID:30984-1733842800-1733848200@miac.zdrav76.ru
SUMMARY:1С. Текущие проекты
DESCRIPTION:
URL:https://miac.zdrav76.ru/event/%d0%a1%d0%b0%d0%bc%d0%b0%d1%80%d0%b0-%d0%a2%d0%b5%d0%ba%d1%83%d1%89%d0%b8%d0%b5-%d0%bf%d1%80%d0%be%d0%b5%d0%ba%d1%82%d1%8b-21/
END:VEVENT
BEGIN:VEVENT
DTSTART;TZID=Europe/Moscow:20241211T090000
DTEND;TZID=Europe/Moscow:20241211T093000
DTSTAMP:20260421T061558
CREATED:20241202T131348Z
LAST-MODIFIED:20241202T131348Z
UID:30976-1733907600-1733909400@miac.zdrav76.ru
SUMMARY:Сдача дежурств за предыдущий день в стационаре
DESCRIPTION:
URL:https://miac.zdrav76.ru/event/%d0%a1%d0%b4%d0%b0%d1%87%d0%b0-%d0%b4%d0%b5%d0%b6%d1%83%d1%80%d1%81%d1%82%d0%b2-%d0%b7%d0%b0-%d0%bf%d1%80%d0%b5%d0%b4%d1%8b%d0%b4%d1%83%d1%89%d0%b8%d0%b9-%d0%b4%d0%b5%d0%bd%d1%8c-%d0%b2-%d1%81-103/
END:VEVENT
BEGIN:VEVENT
DTSTART;TZID=Europe/Moscow:20241212T090000
DTEND;TZID=Europe/Moscow:20241212T093000
DTSTAMP:20260421T061558
CREATED:20241202T131428Z
LAST-MODIFIED:20241202T131428Z
UID:30978-1733994000-1733995800@miac.zdrav76.ru
SUMMARY:Сдача дежурств за предыдущий день в стационаре
DESCRIPTION:
URL:https://miac.zdrav76.ru/event/%d0%a1%d0%b4%d0%b0%d1%87%d0%b0-%d0%b4%d0%b5%d0%b6%d1%83%d1%80%d1%81%d1%82%d0%b2-%d0%b7%d0%b0-%d0%bf%d1%80%d0%b5%d0%b4%d1%8b%d0%b4%d1%83%d1%89%d0%b8%d0%b9-%d0%b4%d0%b5%d0%bd%d1%8c-%d0%b2-%d1%81-104/
END:VEVENT
BEGIN:VEVENT
DTSTART;TZID=Europe/Moscow:20241212T133000
DTEND;TZID=Europe/Moscow:20241212T150000
DTSTAMP:20260421T061558
CREATED:20241202T131715Z
LAST-MODIFIED:20241202T131715Z
UID:30986-1734010200-1734015600@miac.zdrav76.ru
SUMMARY:Разговор гл. внеш. спец. МЗ ЯО с врачами-терапевтами МР ЯО
DESCRIPTION:
URL:https://miac.zdrav76.ru/event/%d0%a0%d0%b0%d0%b7%d0%b3%d0%be%d0%b2%d0%be%d1%80-%d0%b3%d0%bb-%d0%b2%d0%bd%d0%b5%d1%88-%d1%81%d0%bf%d0%b5%d1%86-%d0%9c%d0%97-%d0%af%d0%9e-%d1%81-%d0%b2%d1%80%d0%b0%d1%87%d0%b0%d0%bc%d0%b8-%d1%82-6/
END:VEVENT
BEGIN:VEVENT
DTSTART;TZID=Europe/Moscow:20241212T150000
DTEND;TZID=Europe/Moscow:20241212T160000
DTSTAMP:20260421T061558
CREATED:20241202T131755Z
LAST-MODIFIED:20241202T131755Z
UID:30988-1734015600-1734019200@miac.zdrav76.ru
SUMMARY:РТК. РИС/ЦАМИ\, СМП
DESCRIPTION:
URL:https://miac.zdrav76.ru/event/%d0%a0%d0%a2%d0%9a-%d0%a0%d0%98%d0%a1-%d0%a6%d0%90%d0%9c%d0%98-%d0%a1%d0%9c%d0%9f-20/
END:VEVENT
BEGIN:VEVENT
DTSTART;TZID=Europe/Moscow:20241213T090000
DTEND;TZID=Europe/Moscow:20241213T093000
DTSTAMP:20260421T061558
CREATED:20241202T131455Z
LAST-MODIFIED:20241202T131455Z
UID:30980-1734080400-1734082200@miac.zdrav76.ru
SUMMARY:Сдача дежурств за предыдущий день в стационаре
DESCRIPTION:
URL:https://miac.zdrav76.ru/event/%d0%a1%d0%b4%d0%b0%d1%87%d0%b0-%d0%b4%d0%b5%d0%b6%d1%83%d1%80%d1%81%d1%82%d0%b2-%d0%b7%d0%b0-%d0%bf%d1%80%d0%b5%d0%b4%d1%8b%d0%b4%d1%83%d1%89%d0%b8%d0%b9-%d0%b4%d0%b5%d0%bd%d1%8c-%d0%b2-%d1%81-105/
END:VEVENT
BEGIN:VEVENT
DTSTART;TZID=Europe/Moscow:20241213T120000
DTEND;TZID=Europe/Moscow:20241213T130000
DTSTAMP:20260421T061558
CREATED:20241202T131834Z
LAST-MODIFIED:20241202T131834Z
UID:30990-1734091200-1734094800@miac.zdrav76.ru
SUMMARY:Рабочее совещание с ЦАОП ЯО
DESCRIPTION:
URL:https://miac.zdrav76.ru/event/%d0%a0%d0%b0%d0%b1%d0%be%d1%87%d0%b5%d0%b5-%d1%81%d0%be%d0%b2%d0%b5%d1%89%d0%b0%d0%bd%d0%b8%d0%b5-%d1%81-%d0%a6%d0%90%d0%9e%d0%9f-%d0%af%d0%9e-14/
END:VEVENT
END:VCALENDAR