BEGIN:VCALENDAR
VERSION:2.0
PRODID:-//ГБУЗ ЯО &quot;Медицинский информационно-аналитический центр&quot; - ECPv6.15.17.1//NONSGML v1.0//EN
CALSCALE:GREGORIAN
METHOD:PUBLISH
X-WR-CALNAME:ГБУЗ ЯО &quot;Медицинский информационно-аналитический центр&quot;
X-ORIGINAL-URL:https://miac.zdrav76.ru
X-WR-CALDESC:Мероприятия для ГБУЗ ЯО &quot;Медицинский информационно-аналитический центр&quot;
REFRESH-INTERVAL;VALUE=DURATION:PT1H
X-Robots-Tag:noindex
X-PUBLISHED-TTL:PT1H
BEGIN:VTIMEZONE
TZID:Europe/Moscow
BEGIN:STANDARD
TZOFFSETFROM:+0300
TZOFFSETTO:+0300
TZNAME:MSK
DTSTART:20230101T000000
END:STANDARD
END:VTIMEZONE
BEGIN:VEVENT
DTSTART;TZID=Europe/Moscow:20240702T150000
DTEND;TZID=Europe/Moscow:20240702T170000
DTSTAMP:20260424T171732
CREATED:20240628T093434Z
LAST-MODIFIED:20240628T093441Z
UID:28022-1719932400-1719939600@miac.zdrav76.ru
SUMMARY:Самара. Текущие проекты
DESCRIPTION:
URL:https://miac.zdrav76.ru/event/%d1%81%d0%b0%d0%bc%d0%b0%d1%80%d0%b0-%d1%82%d0%b5%d0%ba%d1%83%d1%89%d0%b8%d0%b5-%d0%bf%d1%80%d0%be%d0%b5%d0%ba%d1%82%d1%8b-25/
LOCATION:В режиме ВКС
END:VEVENT
BEGIN:VEVENT
DTSTART;TZID=Europe/Moscow:20240702T090000
DTEND;TZID=Europe/Moscow:20240702T093000
DTSTAMP:20260424T171732
CREATED:20240628T093231Z
LAST-MODIFIED:20240628T093231Z
UID:28014-1719910800-1719912600@miac.zdrav76.ru
SUMMARY:Сдача дежурств за предыдущий день в стационаре
DESCRIPTION:
URL:https://miac.zdrav76.ru/event/%d1%81%d0%b4%d0%b0%d1%87%d0%b0-%d0%b4%d0%b5%d0%b6%d1%83%d1%80%d1%81%d1%82%d0%b2-%d0%b7%d0%b0-%d0%bf%d1%80%d0%b5%d0%b4%d1%8b%d0%b4%d1%83%d1%89%d0%b8%d0%b9-%d0%b4%d0%b5%d0%bd%d1%8c-%d0%b2-%d1%81-30/
LOCATION:В режиме ВКС
END:VEVENT
BEGIN:VEVENT
DTSTART;TZID=Europe/Moscow:20240701T130000
DTEND;TZID=Europe/Moscow:20240701T140000
DTSTAMP:20260424T171732
CREATED:20240701T104851Z
LAST-MODIFIED:20240701T104851Z
UID:28072-1719838800-1719842400@miac.zdrav76.ru
SUMMARY:Приезд НМИЦ по Терапии
DESCRIPTION:
URL:https://miac.zdrav76.ru/event/%d0%bf%d1%80%d0%b8%d0%b5%d0%b7%d0%b4-%d0%bd%d0%bc%d0%b8%d1%86-%d0%bf%d0%be-%d1%82%d0%b5%d1%80%d0%b0%d0%bf%d0%b8%d0%b8/
LOCATION:В режиме ВКС
END:VEVENT
BEGIN:VEVENT
DTSTART;TZID=Europe/Moscow:20240701T110000
DTEND;TZID=Europe/Moscow:20240701T130000
DTSTAMP:20260424T171732
CREATED:20240701T104819Z
LAST-MODIFIED:20240701T104819Z
UID:28070-1719831600-1719838800@miac.zdrav76.ru
SUMMARY:Новая линейка нацпроектов
DESCRIPTION:
URL:https://miac.zdrav76.ru/event/%d0%bd%d0%be%d0%b2%d0%b0%d1%8f-%d0%bb%d0%b8%d0%bd%d0%b5%d0%b9%d0%ba%d0%b0-%d0%bd%d0%b0%d1%86%d0%bf%d1%80%d0%be%d0%b5%d0%ba%d1%82%d0%be%d0%b2/
LOCATION:В режиме ВКС
END:VEVENT
BEGIN:VEVENT
DTSTART;TZID=Europe/Moscow:20240701T090000
DTEND;TZID=Europe/Moscow:20240701T093000
DTSTAMP:20260424T171732
CREATED:20240628T093209Z
LAST-MODIFIED:20240628T093209Z
UID:28012-1719824400-1719826200@miac.zdrav76.ru
SUMMARY:Сдача дежурств за предыдущий день в стационаре
DESCRIPTION:
URL:https://miac.zdrav76.ru/event/%d1%81%d0%b4%d0%b0%d1%87%d0%b0-%d0%b4%d0%b5%d0%b6%d1%83%d1%80%d1%81%d1%82%d0%b2-%d0%b7%d0%b0-%d0%bf%d1%80%d0%b5%d0%b4%d1%8b%d0%b4%d1%83%d1%89%d0%b8%d0%b9-%d0%b4%d0%b5%d0%bd%d1%8c-%d0%b2-%d1%81-29/
LOCATION:В режиме ВКС
END:VEVENT
BEGIN:VEVENT
DTSTART;TZID=Europe/Moscow:20240628T143000
DTEND;TZID=Europe/Moscow:20240628T170000
DTSTAMP:20260424T171732
CREATED:20240628T061116Z
LAST-MODIFIED:20240628T061159Z
UID:28004-1719585000-1719594000@miac.zdrav76.ru
SUMMARY:Централизованные бак исследования. Исполнение Приказа МЗ ЯО от 10.06.2024 №743
DESCRIPTION:⚡️🔺 28.06.2024 (ПЯТНИЦА) в 14-30 🔺⚡️ состоится совещание под руководством Худоян З.Г. с ответственными исполнителями в режиме видеоконференцсвязи Trueconf.\n✅ Тема: Централизованные микробиологические(бактериологические) исследования. Исполнение Приказа МЗ ЯО от 10.06.2024 №743\n✅ Участники: Все лечебные МО\, указанные в Приказе\n✅ Перед началом ВКС проверить звук и работу камер.\n‼️ ‼️ ‼️ МО не подключающие камеры будет зафиксированы как не явившиеся на ВКС.\n✅ Техническая поддержка: (4852)20-54-09\, support@zdrav.yar.ru.\n✅ Календарь всех проводимых видеоконференций размещен на сайте ГБУЗ ЯО «ЦОЗиМП» https://ocmp.zdrav76.ru/events/
URL:https://miac.zdrav76.ru/event/%d1%86%d0%b5%d0%bd%d1%82%d1%80%d0%b0%d0%bb%d0%b8%d0%b7%d0%be%d0%b2%d0%b0%d0%bd%d0%bd%d1%8b%d0%b5-%d0%bc%d0%b8%d0%ba%d1%80%d0%be%d0%b1%d0%b8%d0%be%d0%bb%d0%be%d0%b3%d0%b8%d1%87%d0%b5%d1%81%d0%ba%d0%b8/
LOCATION:В режиме ВКС
END:VEVENT
BEGIN:VEVENT
DTSTART;TZID=Europe/Moscow:20240628T090000
DTEND;TZID=Europe/Moscow:20240628T120000
DTSTAMP:20260424T171732
CREATED:20240626T062051Z
LAST-MODIFIED:20240626T062101Z
UID:27939-1719565200-1719576000@miac.zdrav76.ru
SUMMARY:ЛЛО. Показ нового функционала
DESCRIPTION:
URL:https://miac.zdrav76.ru/event/%d0%bb%d0%bb%d0%be-%d0%bf%d0%be%d0%ba%d0%b0%d0%b7-%d0%bd%d0%be%d0%b2%d0%be%d0%b3%d0%be-%d1%84%d1%83%d0%bd%d0%ba%d1%86%d0%b8%d0%be%d0%bd%d0%b0%d0%bb%d0%b0/
LOCATION:В режиме ВКС
END:VEVENT
BEGIN:VEVENT
DTSTART;TZID=Europe/Moscow:20240628T090000
DTEND;TZID=Europe/Moscow:20240628T093000
DTSTAMP:20260424T171732
CREATED:20240624T114021Z
LAST-MODIFIED:20240624T114021Z
UID:27864-1719565200-1719567000@miac.zdrav76.ru
SUMMARY:Сдача дежурств за предыдущий день в стационаре
DESCRIPTION:
URL:https://miac.zdrav76.ru/event/%d1%81%d0%b4%d0%b0%d1%87%d0%b0-%d0%b4%d0%b5%d0%b6%d1%83%d1%80%d1%81%d1%82%d0%b2-%d0%b7%d0%b0-%d0%bf%d1%80%d0%b5%d0%b4%d1%8b%d0%b4%d1%83%d1%89%d0%b8%d0%b9-%d0%b4%d0%b5%d0%bd%d1%8c-%d0%b2-%d1%81-27/
LOCATION:В режиме ВКС
END:VEVENT
BEGIN:VEVENT
DTSTART;TZID=Europe/Moscow:20240627T153000
DTEND;TZID=Europe/Moscow:20240627T170000
DTSTAMP:20260424T171732
CREATED:20240627T120944Z
LAST-MODIFIED:20240627T120944Z
UID:27962-1719502200-1719507600@miac.zdrav76.ru
SUMMARY:Демографическая отчетность
DESCRIPTION:
URL:https://miac.zdrav76.ru/event/%d0%b4%d0%b5%d0%bc%d0%be%d0%b3%d1%80%d0%b0%d1%84%d0%b8%d1%87%d0%b5%d1%81%d0%ba%d0%b0%d1%8f-%d0%be%d1%82%d1%87%d0%b5%d1%82%d0%bd%d0%be%d1%81%d1%82%d1%8c/
LOCATION:В режиме ВКС
END:VEVENT
BEGIN:VEVENT
DTSTART;TZID=Europe/Moscow:20240627T140000
DTEND;TZID=Europe/Moscow:20240627T170000
DTSTAMP:20260424T171732
CREATED:20240624T114200Z
LAST-MODIFIED:20240624T114200Z
UID:27872-1719496800-1719507600@miac.zdrav76.ru
SUMMARY:РТК. РИС/ЦАМИ
DESCRIPTION:
URL:https://miac.zdrav76.ru/event/%d1%80%d1%82%d0%ba-%d1%80%d0%b8%d1%81-%d1%86%d0%b0%d0%bc%d0%b8-13/
LOCATION:В режиме ВКС
END:VEVENT
BEGIN:VEVENT
DTSTART;TZID=Europe/Moscow:20240627T090000
DTEND;TZID=Europe/Moscow:20240627T093000
DTSTAMP:20260424T171732
CREATED:20240624T114058Z
LAST-MODIFIED:20240624T114246Z
UID:27868-1719478800-1719480600@miac.zdrav76.ru
SUMMARY:Сдача дежурств за предыдущий день в стационаре
DESCRIPTION:
URL:https://miac.zdrav76.ru/event/%d1%81%d0%b4%d0%b0%d1%87%d0%b0-%d0%b4%d0%b5%d0%b6%d1%83%d1%80%d1%81%d1%82%d0%b2-%d0%b7%d0%b0-%d0%bf%d1%80%d0%b5%d0%b4%d1%8b%d0%b4%d1%83%d1%89%d0%b8%d0%b9-%d0%b4%d0%b5%d0%bd%d1%8c-%d0%b2-%d1%81-28/
LOCATION:В режиме ВКС
END:VEVENT
BEGIN:VEVENT
DTSTART;TZID=Europe/Moscow:20240626T090000
DTEND;TZID=Europe/Moscow:20240626T093000
DTSTAMP:20260424T171732
CREATED:20240624T113947Z
LAST-MODIFIED:20240624T113947Z
UID:27862-1719392400-1719394200@miac.zdrav76.ru
SUMMARY:Сдача дежурств за предыдущий день в стационаре
DESCRIPTION:
URL:https://miac.zdrav76.ru/event/%d1%81%d0%b4%d0%b0%d1%87%d0%b0-%d0%b4%d0%b5%d0%b6%d1%83%d1%80%d1%81%d1%82%d0%b2-%d0%b7%d0%b0-%d0%bf%d1%80%d0%b5%d0%b4%d1%8b%d0%b4%d1%83%d1%89%d0%b8%d0%b9-%d0%b4%d0%b5%d0%bd%d1%8c-%d0%b2-%d1%81-26/
LOCATION:В режиме ВКС
END:VEVENT
BEGIN:VEVENT
DTSTART;TZID=Europe/Moscow:20240625T150000
DTEND;TZID=Europe/Moscow:20240625T170000
DTSTAMP:20260424T171732
CREATED:20240625T114948Z
LAST-MODIFIED:20240625T114948Z
UID:27915-1719327600-1719334800@miac.zdrav76.ru
SUMMARY:Диспансеризация\, медицинские осмотры
DESCRIPTION:
URL:https://miac.zdrav76.ru/event/%d0%b4%d0%b8%d1%81%d0%bf%d0%b0%d0%bd%d1%81%d0%b5%d1%80%d0%b8%d0%b7%d0%b0%d1%86%d0%b8%d1%8f-%d0%bc%d0%b5%d0%b4%d0%b8%d1%86%d0%b8%d0%bd%d1%81%d0%ba%d0%b8%d0%b5-%d0%be%d1%81%d0%bc%d0%be%d1%82%d1%80/
LOCATION:В режиме ВКС
END:VEVENT
BEGIN:VEVENT
DTSTART;TZID=Europe/Moscow:20240625T150000
DTEND;TZID=Europe/Moscow:20240625T170000
DTSTAMP:20260424T171732
CREATED:20240624T114132Z
LAST-MODIFIED:20240624T114132Z
UID:27870-1719327600-1719334800@miac.zdrav76.ru
SUMMARY:Самара. Текущие проекты
DESCRIPTION:
URL:https://miac.zdrav76.ru/event/%d1%81%d0%b0%d0%bc%d0%b0%d1%80%d0%b0-%d1%82%d0%b5%d0%ba%d1%83%d1%89%d0%b8%d0%b5-%d0%bf%d1%80%d0%be%d0%b5%d0%ba%d1%82%d1%8b-24/
LOCATION:В режиме ВКС
END:VEVENT
BEGIN:VEVENT
DTSTART;TZID=Europe/Moscow:20240625T140000
DTEND;TZID=Europe/Moscow:20240625T170000
DTSTAMP:20260424T171732
CREATED:20240625T095551Z
LAST-MODIFIED:20240625T095551Z
UID:27899-1719324000-1719334800@miac.zdrav76.ru
SUMMARY:ЛЛО. Исполнение судебных решений
DESCRIPTION:
URL:https://miac.zdrav76.ru/event/%d0%bb%d0%bb%d0%be-%d0%b8%d1%81%d0%bf%d0%be%d0%bb%d0%bd%d0%b5%d0%bd%d0%b8%d0%b5-%d1%81%d1%83%d0%b4%d0%b5%d0%b1%d0%bd%d1%8b%d1%85-%d1%80%d0%b5%d1%88%d0%b5%d0%bd%d0%b8%d0%b9/
LOCATION:В режиме ВКС
END:VEVENT
BEGIN:VEVENT
DTSTART;TZID=Europe/Moscow:20240625T124000
DTEND;TZID=Europe/Moscow:20240625T130000
DTSTAMP:20260424T171732
CREATED:20240625T095501Z
LAST-MODIFIED:20240625T095501Z
UID:27897-1719319200-1719320400@miac.zdrav76.ru
SUMMARY:Радуга здоровья
DESCRIPTION:
URL:https://miac.zdrav76.ru/event/%d1%80%d0%b0%d0%b4%d1%83%d0%b3%d0%b0-%d0%b7%d0%b4%d0%be%d1%80%d0%be%d0%b2%d1%8c%d1%8f/
LOCATION:В режиме ВКС
END:VEVENT
BEGIN:VEVENT
DTSTART;TZID=Europe/Moscow:20240625T120000
DTEND;TZID=Europe/Moscow:20240625T140000
DTSTAMP:20260424T171732
CREATED:20240625T083431Z
LAST-MODIFIED:20240625T083431Z
UID:27893-1719316800-1719324000@miac.zdrav76.ru
SUMMARY:Орг вопросы
DESCRIPTION:
URL:https://miac.zdrav76.ru/event/%d0%be%d1%80%d0%b3-%d0%b2%d0%be%d0%bf%d1%80%d0%be%d1%81%d1%8b-4/
LOCATION:В режиме ВКС
END:VEVENT
BEGIN:VEVENT
DTSTART;TZID=Europe/Moscow:20240625T090000
DTEND;TZID=Europe/Moscow:20240625T093000
DTSTAMP:20260424T171732
CREATED:20240624T113917Z
LAST-MODIFIED:20240624T113917Z
UID:27859-1719306000-1719307800@miac.zdrav76.ru
SUMMARY:Сдача дежурств за предыдущий день в стационаре
DESCRIPTION:
URL:https://miac.zdrav76.ru/event/%d1%81%d0%b4%d0%b0%d1%87%d0%b0-%d0%b4%d0%b5%d0%b6%d1%83%d1%80%d1%81%d1%82%d0%b2-%d0%b7%d0%b0-%d0%bf%d1%80%d0%b5%d0%b4%d1%8b%d0%b4%d1%83%d1%89%d0%b8%d0%b9-%d0%b4%d0%b5%d0%bd%d1%8c-%d0%b2-%d1%81-25/
LOCATION:В режиме ВКС
END:VEVENT
BEGIN:VEVENT
DTSTART;TZID=Europe/Moscow:20240624T150000
DTEND;TZID=Europe/Moscow:20240624T170000
DTSTAMP:20260424T171732
CREATED:20240624T113616Z
LAST-MODIFIED:20240624T113616Z
UID:27853-1719241200-1719248400@miac.zdrav76.ru
SUMMARY:Смертность
DESCRIPTION:
URL:https://miac.zdrav76.ru/event/%d1%81%d0%bc%d0%b5%d1%80%d1%82%d0%bd%d0%be%d1%81%d1%82%d1%8c/
LOCATION:В режиме ВКС
END:VEVENT
BEGIN:VEVENT
DTSTART;TZID=Europe/Moscow:20240624T093000
DTEND;TZID=Europe/Moscow:20240624T113000
DTSTAMP:20260424T171732
CREATED:20240624T113758Z
LAST-MODIFIED:20240624T113758Z
UID:27855-1719221400-1719228600@miac.zdrav76.ru
SUMMARY:Итоги обновления подсистемы ЛЛО. Согласование новой схемы внесения граждан в регистр льготников
DESCRIPTION:
URL:https://miac.zdrav76.ru/event/%d0%b8%d1%82%d0%be%d0%b3%d0%b8-%d0%be%d0%b1%d0%bd%d0%be%d0%b2%d0%bb%d0%b5%d0%bd%d0%b8%d1%8f-%d0%bf%d0%be%d0%b4%d1%81%d0%b8%d1%81%d1%82%d0%b5%d0%bc%d1%8b-%d0%bb%d0%bb%d0%be-%d1%81%d0%be%d0%b3%d0%bb-2/
LOCATION:В режиме ВКС
END:VEVENT
BEGIN:VEVENT
DTSTART;TZID=Europe/Moscow:20240624T090000
DTEND;TZID=Europe/Moscow:20240624T093000
DTSTAMP:20260424T171732
CREATED:20240624T113847Z
LAST-MODIFIED:20240624T113847Z
UID:27857-1719219600-1719221400@miac.zdrav76.ru
SUMMARY:Сдача дежурств за предыдущий день в стационаре
DESCRIPTION:
URL:https://miac.zdrav76.ru/event/%d1%81%d0%b4%d0%b0%d1%87%d0%b0-%d0%b4%d0%b5%d0%b6%d1%83%d1%80%d1%81%d1%82%d0%b2-%d0%b7%d0%b0-%d0%bf%d1%80%d0%b5%d0%b4%d1%8b%d0%b4%d1%83%d1%89%d0%b8%d0%b9-%d0%b4%d0%b5%d0%bd%d1%8c-%d0%b2-%d1%81-23/
LOCATION:В режиме ВКС
END:VEVENT
BEGIN:VEVENT
DTSTART;TZID=Europe/Moscow:20240621T150000
DTEND;TZID=Europe/Moscow:20240621T170000
DTSTAMP:20260424T171732
CREATED:20240621T095049Z
LAST-MODIFIED:20240621T095049Z
UID:27832-1718982000-1718989200@miac.zdrav76.ru
SUMMARY:Отчет о проделанной работе в ФРМО
DESCRIPTION:‼️ ‼️ ‼️ Уважаемые руководители ‼️ ‼️ ‼️\n⚡️🔺 Сегодня 21 июня 2024 в 15-00 🔺⚡️ состоится совещание под председательством зам.министра Сорочиной И.В. в режиме видеоконференцсвязи Trueconf.\n✅ Тема: Отчет о проделанной работе в ФРМО\n✅ Участники: Главные врачи МО и ответственные лица за внесение данных в ФРМО\n✅ Перед началом ВКС проверить звук и работу камер.\n‼️ ‼️ ‼️ МО не подключающие камеры будет зафиксированы как не явившиеся на ВКС.\n✅ Техническая поддержка: (4852)20-54-09\, support@zdrav.yar.ru.\n✅ Календарь всех проводимых видеоконференций размещен на сайте ГБУЗ ЯО «ЦОЗиМП»
URL:https://miac.zdrav76.ru/event/%d0%be%d1%82%d1%87%d0%b5%d1%82-%d0%be-%d0%bf%d1%80%d0%be%d0%b4%d0%b5%d0%bb%d0%b0%d0%bd%d0%bd%d0%be%d0%b9-%d1%80%d0%b0%d0%b1%d0%be%d1%82%d0%b5-%d0%b2-%d1%84%d1%80%d0%bc%d0%be/
LOCATION:В режиме ВКС
END:VEVENT
BEGIN:VEVENT
DTSTART;TZID=Europe/Moscow:20240621T123000
DTEND;TZID=Europe/Moscow:20240621T153000
DTSTAMP:20260424T171732
CREATED:20240620T120149Z
LAST-MODIFIED:20240620T120149Z
UID:27808-1718973000-1718983800@miac.zdrav76.ru
SUMMARY:Итоги обновления подсистемы ЛЛО. Согласование новой схемы внесения граждан в регистр льготников
DESCRIPTION:
URL:https://miac.zdrav76.ru/event/%d0%b8%d1%82%d0%be%d0%b3%d0%b8-%d0%be%d0%b1%d0%bd%d0%be%d0%b2%d0%bb%d0%b5%d0%bd%d0%b8%d1%8f-%d0%bf%d0%be%d0%b4%d1%81%d0%b8%d1%81%d1%82%d0%b5%d0%bc%d1%8b-%d0%bb%d0%bb%d0%be-%d1%81%d0%be%d0%b3%d0%bb/
LOCATION:В режиме ВКС
END:VEVENT
BEGIN:VEVENT
DTSTART;TZID=Europe/Moscow:20240621T090000
DTEND;TZID=Europe/Moscow:20240621T100000
DTSTAMP:20260424T171732
CREATED:20240617T112338Z
LAST-MODIFIED:20240617T112338Z
UID:27697-1718960400-1718964000@miac.zdrav76.ru
SUMMARY:Сдача дежурств за предыдущий день в стационаре
DESCRIPTION:
URL:https://miac.zdrav76.ru/event/%d1%81%d0%b4%d0%b0%d1%87%d0%b0-%d0%b4%d0%b5%d0%b6%d1%83%d1%80%d1%81%d1%82%d0%b2-%d0%b7%d0%b0-%d0%bf%d1%80%d0%b5%d0%b4%d1%8b%d0%b4%d1%83%d1%89%d0%b8%d0%b9-%d0%b4%d0%b5%d0%bd%d1%8c-%d0%b2-%d1%81-24/
LOCATION:В режиме ВКС
END:VEVENT
BEGIN:VEVENT
DTSTART;TZID=Europe/Moscow:20240620T140000
DTEND;TZID=Europe/Moscow:20240620T160000
DTSTAMP:20260424T171732
CREATED:20240618T083657Z
LAST-MODIFIED:20240618T083657Z
UID:27745-1718892000-1718899200@miac.zdrav76.ru
SUMMARY:РТК. РИС/ЦАМИ
DESCRIPTION:
URL:https://miac.zdrav76.ru/event/%d1%80%d1%82%d0%ba-%d1%80%d0%b8%d1%81-%d1%86%d0%b0%d0%bc%d0%b8-12/
LOCATION:В режиме ВКС
END:VEVENT
BEGIN:VEVENT
DTSTART;TZID=Europe/Moscow:20240620T080000
DTEND;TZID=Europe/Moscow:20240620T100000
DTSTAMP:20260424T171732
CREATED:20240620T051715Z
LAST-MODIFIED:20240620T051741Z
UID:27793-1718870400-1718877600@miac.zdrav76.ru
SUMMARY:Организация работы ЦАОП
DESCRIPTION:📌📌📌📌\n‼️ ‼️ ‼️ Уважаемые руководители ‼️ ‼️ ‼️\n⚡🔺 Завтра 20 июня 2024 (четверг) в 08-00 🔺⚡ состоится совещание под председательством министра Луганского С.В. в режиме видеоконференцсвязи Trueconf.\n✅ Тема: Организация работы ЦАОП\n✅ Участники: Главные врачи КБ Семашко\, КБ9\, РГБ№1\, ГБ№2 им Пирогова\, ГП№3 им Семашко\, Рыб ЦРП\, Угличская ЦРБ — очно\nЗам.гл. врачей по АПП\, заведующие взрослых поликлиник\, в режиме ВКС\nзаведующие ЦАОП ( КБ им Семашко\, КБ9\, РГБ№1\, Угличская ЦРБ\,) — в режиме ВКС\n✅ Перед началом ВКС проверить звук и работу камер.\n‼️ ‼️ ‼️ МО не подключающие камеры будет зафиксированы как не явившиеся на ВКС.\n✅ Техническая поддержка: (4852)20-54-09\, support@zdrav.yar.ru.\n✅ Календарь всех проводимых видеоконференций размещен на сайте ГБУЗ ЯО «ЦОЗиМП» https://ocmp.zdrav76.ru/events/
URL:https://miac.zdrav76.ru/event/%d0%be%d1%80%d0%b3%d0%b0%d0%bd%d0%b8%d0%b7%d0%b0%d1%86%d0%b8%d1%8f-%d1%80%d0%b0%d0%b1%d0%be%d1%82%d1%8b-%d1%86%d0%b0%d0%be%d0%bf/
LOCATION:В режиме ВКС
END:VEVENT
BEGIN:VEVENT
DTSTART;TZID=Europe/Moscow:20240619T163000
DTEND;TZID=Europe/Moscow:20240619T180000
DTSTAMP:20260424T171732
CREATED:20240619T102405Z
LAST-MODIFIED:20240619T102405Z
UID:27787-1718814600-1718820000@miac.zdrav76.ru
SUMMARY:Электронные медицинские книжки 230 СЭМД
DESCRIPTION:
URL:https://miac.zdrav76.ru/event/%d1%8d%d0%bb%d0%b5%d0%ba%d1%82%d1%80%d0%be%d0%bd%d0%bd%d1%8b%d0%b5-%d0%bc%d0%b5%d0%b4%d0%b8%d1%86%d0%b8%d0%bd%d1%81%d0%ba%d0%b8%d0%b5-%d0%ba%d0%bd%d0%b8%d0%b6%d0%ba%d0%b8-230-%d1%81%d1%8d%d0%bc-3/
LOCATION:В режиме ВКС
END:VEVENT
BEGIN:VEVENT
DTSTART;TZID=Europe/Moscow:20240619T090000
DTEND;TZID=Europe/Moscow:20240619T100000
DTSTAMP:20260424T171732
CREATED:20240617T112258Z
LAST-MODIFIED:20240617T112258Z
UID:27693-1718787600-1718791200@miac.zdrav76.ru
SUMMARY:Сдача дежурств за предыдущий день в стационаре
DESCRIPTION:
URL:https://miac.zdrav76.ru/event/%d1%81%d0%b4%d0%b0%d1%87%d0%b0-%d0%b4%d0%b5%d0%b6%d1%83%d1%80%d1%81%d1%82%d0%b2-%d0%b7%d0%b0-%d0%bf%d1%80%d0%b5%d0%b4%d1%8b%d0%b4%d1%83%d1%89%d0%b8%d0%b9-%d0%b4%d0%b5%d0%bd%d1%8c-%d0%b2-%d1%81-22/
LOCATION:В режиме ВКС
END:VEVENT
BEGIN:VEVENT
DTSTART;TZID=Europe/Moscow:20240618T150000
DTEND;TZID=Europe/Moscow:20240618T163000
DTSTAMP:20260424T171732
CREATED:20240618T083536Z
LAST-MODIFIED:20240618T083615Z
UID:27742-1718722800-1718728200@miac.zdrav76.ru
SUMMARY:Самара. Текущие проекты
DESCRIPTION:
URL:https://miac.zdrav76.ru/event/%d1%8d%d0%bb%d0%b5%d0%ba%d1%82%d1%80%d0%be%d0%bd%d0%bd%d1%8b%d0%b5-%d0%bc%d0%b5%d0%b4%d0%b8%d1%86%d0%b8%d0%bd%d1%81%d0%ba%d0%b8%d0%b5-%d0%ba%d0%bd%d0%b8%d0%b6%d0%ba%d0%b8-230-%d1%81%d1%8d%d0%bc-2/
LOCATION:В режиме ВКС
END:VEVENT
BEGIN:VEVENT
DTSTART;TZID=Europe/Moscow:20240618T130000
DTEND;TZID=Europe/Moscow:20240618T140000
DTSTAMP:20260424T171732
CREATED:20240618T083442Z
LAST-MODIFIED:20240618T083442Z
UID:27740-1718715600-1718719200@miac.zdrav76.ru
SUMMARY:Электронные медицинские книжки 230 СЭМД
DESCRIPTION:
URL:https://miac.zdrav76.ru/event/%d1%8d%d0%bb%d0%b5%d0%ba%d1%82%d1%80%d0%be%d0%bd%d0%bd%d1%8b%d0%b5-%d0%bc%d0%b5%d0%b4%d0%b8%d1%86%d0%b8%d0%bd%d1%81%d0%ba%d0%b8%d0%b5-%d0%ba%d0%bd%d0%b8%d0%b6%d0%ba%d0%b8-230-%d1%81%d1%8d%d0%bc%d0%b4/
LOCATION:В режиме ВКС
END:VEVENT
END:VCALENDAR