BEGIN:VCALENDAR
VERSION:2.0
PRODID:-//ГБУЗ ЯО &quot;Медицинский информационно-аналитический центр&quot; - ECPv6.15.17.1//NONSGML v1.0//EN
CALSCALE:GREGORIAN
METHOD:PUBLISH
X-WR-CALNAME:ГБУЗ ЯО &quot;Медицинский информационно-аналитический центр&quot;
X-ORIGINAL-URL:https://miac.zdrav76.ru
X-WR-CALDESC:Мероприятия для ГБУЗ ЯО &quot;Медицинский информационно-аналитический центр&quot;
REFRESH-INTERVAL;VALUE=DURATION:PT1H
X-Robots-Tag:noindex
X-PUBLISHED-TTL:PT1H
BEGIN:VTIMEZONE
TZID:Europe/Moscow
BEGIN:STANDARD
TZOFFSETFROM:+0300
TZOFFSETTO:+0300
TZNAME:MSK
DTSTART:20230101T000000
END:STANDARD
END:VTIMEZONE
BEGIN:VEVENT
DTSTART;TZID=Europe/Moscow:20241008T130000
DTEND;TZID=Europe/Moscow:20241008T143000
DTSTAMP:20260423T223431
CREATED:20241004T045601Z
LAST-MODIFIED:20241004T045601Z
UID:29855-1728392400-1728397800@miac.zdrav76.ru
SUMMARY:Организационное совещание по проекту “Наставничество” с главными внештатными специалистами МЗ ЯО
DESCRIPTION:
URL:https://miac.zdrav76.ru/event/%d0%9e%d1%80%d0%b3%d0%b0%d0%bd%d0%b8%d0%b7%d0%b0%d1%86%d0%b8%d0%be%d0%bd%d0%bd%d0%be%d0%b5-%d1%81%d0%be%d0%b2%d0%b5%d1%89%d0%b0%d0%bd%d0%b8%d0%b5-%d0%bf%d0%be-%d0%bf%d1%80%d0%be%d0%b5%d0%ba%d1%82-7/
LOCATION:В режиме ВКС
END:VEVENT
BEGIN:VEVENT
DTSTART;TZID=Europe/Moscow:20241008T090000
DTEND;TZID=Europe/Moscow:20241008T093000
DTSTAMP:20260423T223431
CREATED:20241004T045103Z
LAST-MODIFIED:20241004T045103Z
UID:29843-1728378000-1728379800@miac.zdrav76.ru
SUMMARY:Сдача дежурств за предыдущий день в стационаре
DESCRIPTION:
URL:https://miac.zdrav76.ru/event/%d0%a1%d0%b4%d0%b0%d1%87%d0%b0-%d0%b4%d0%b5%d0%b6%d1%83%d1%80%d1%81%d1%82%d0%b2-%d0%b7%d0%b0-%d0%bf%d1%80%d0%b5%d0%b4%d1%8b%d0%b4%d1%83%d1%89%d0%b8%d0%b9-%d0%b4%d0%b5%d0%bd%d1%8c-%d0%b2-%d1%81-57/
LOCATION:В режиме ВКС
END:VEVENT
BEGIN:VEVENT
DTSTART;TZID=Europe/Moscow:20241007T090000
DTEND;TZID=Europe/Moscow:20241007T093000
DTSTAMP:20260423T223431
CREATED:20241004T045013Z
LAST-MODIFIED:20241004T045013Z
UID:29841-1728291600-1728293400@miac.zdrav76.ru
SUMMARY:Сдача дежурств за предыдущий день в стационаре
DESCRIPTION:
URL:https://miac.zdrav76.ru/event/%d0%a1%d0%b4%d0%b0%d1%87%d0%b0-%d0%b4%d0%b5%d0%b6%d1%83%d1%80%d1%81%d1%82%d0%b2-%d0%b7%d0%b0-%d0%bf%d1%80%d0%b5%d0%b4%d1%8b%d0%b4%d1%83%d1%89%d0%b8%d0%b9-%d0%b4%d0%b5%d0%bd%d1%8c-%d0%b2-%d1%81-56/
LOCATION:В режиме ВКС
END:VEVENT
BEGIN:VEVENT
DTSTART;TZID=Europe/Moscow:20241004T120000
DTEND;TZID=Europe/Moscow:20241004T130000
DTSTAMP:20260423T223431
CREATED:20240923T054525Z
LAST-MODIFIED:20240923T054525Z
UID:29663-1728043200-1728046800@miac.zdrav76.ru
SUMMARY:Рабочее совещание с ЦАОП ЯО
DESCRIPTION:
URL:https://miac.zdrav76.ru/event/%d0%a0%d0%b0%d0%b1%d0%be%d1%87%d0%b5%d0%b5-%d1%81%d0%be%d0%b2%d0%b5%d1%89%d0%b0%d0%bd%d0%b8%d0%b5-%d1%81-%d0%a6%d0%90%d0%9e%d0%9f-%d0%af%d0%9e-7/
END:VEVENT
BEGIN:VEVENT
DTSTART;TZID=Europe/Moscow:20241004T090000
DTEND;TZID=Europe/Moscow:20241004T093000
DTSTAMP:20260423T223431
CREATED:20240923T053709Z
LAST-MODIFIED:20240923T053709Z
UID:29648-1728032400-1728034200@miac.zdrav76.ru
SUMMARY:Сдача дежурств за предыдущий день в стационаре
DESCRIPTION:
URL:https://miac.zdrav76.ru/event/%d0%a1%d0%b4%d0%b0%d1%87%d0%b0-%d0%b4%d0%b5%d0%b6%d1%83%d1%80%d1%81%d1%82%d0%b2-%d0%b7%d0%b0-%d0%bf%d1%80%d0%b5%d0%b4%d1%8b%d0%b4%d1%83%d1%89%d0%b8%d0%b9-%d0%b4%d0%b5%d0%bd%d1%8c-%d0%b2-%d1%81-54/
END:VEVENT
BEGIN:VEVENT
DTSTART;TZID=Europe/Moscow:20241003T160000
DTEND;TZID=Europe/Moscow:20241003T170000
DTSTAMP:20260423T223431
CREATED:20241002T075149Z
LAST-MODIFIED:20241002T075149Z
UID:29812-1727971200-1727974800@miac.zdrav76.ru
SUMMARY:Итоговое совещание по итогам выездной проверки МЗ РФ
DESCRIPTION:
URL:https://miac.zdrav76.ru/event/%d0%98%d1%82%d0%be%d0%b3%d0%be%d0%b2%d0%be%d0%b5-%d1%81%d0%be%d0%b2%d0%b5%d1%89%d0%b0%d0%bd%d0%b8%d0%b5-%d0%bf%d0%be-%d0%b8%d1%82%d0%be%d0%b3%d0%b0%d0%bc-%d0%b2%d1%8b%d0%b5%d0%b7%d0%b4%d0%bd%d0%be/
LOCATION:В режиме ВКС
END:VEVENT
BEGIN:VEVENT
DTSTART;TZID=Europe/Moscow:20241003T140000
DTEND;TZID=Europe/Moscow:20241003T153000
DTSTAMP:20260423T223431
CREATED:20240923T054449Z
LAST-MODIFIED:20240923T054449Z
UID:29661-1727964000-1727969400@miac.zdrav76.ru
SUMMARY:РТК. РИС/ЦАМИ\, СМП
DESCRIPTION:
URL:https://miac.zdrav76.ru/event/%d0%a0%d0%a2%d0%9a-%d0%a0%d0%98%d0%a1-%d0%a6%d0%90%d0%9c%d0%98-%d0%a1%d0%9c%d0%9f-11/
END:VEVENT
BEGIN:VEVENT
DTSTART;TZID=Europe/Moscow:20241003T133000
DTEND;TZID=Europe/Moscow:20241003T150000
DTSTAMP:20260423T223431
CREATED:20241003T061409Z
LAST-MODIFIED:20241003T061409Z
UID:29814-1727962200-1727967600@miac.zdrav76.ru
SUMMARY:Разговор главных внештатных специалистов МЗ ЯО с врачами-терапевтами муниципальных районов ЯО
DESCRIPTION:
URL:https://miac.zdrav76.ru/event/%d0%a0%d0%b0%d0%b7%d0%b3%d0%be%d0%b2%d0%be%d1%80-%d0%b3%d0%bb%d0%b0%d0%b2%d0%bd%d1%8b%d1%85-%d0%b2%d0%bd%d0%b5%d1%88%d1%82%d0%b0%d1%82%d0%bd%d1%8b%d1%85-%d1%81%d0%bf%d0%b5%d1%86%d0%b8%d0%b0%d0%bb/
LOCATION:В режиме ВКС
END:VEVENT
BEGIN:VEVENT
DTSTART;TZID=Europe/Moscow:20241003T090000
DTEND;TZID=Europe/Moscow:20241003T093000
DTSTAMP:20260423T223431
CREATED:20240923T054055Z
LAST-MODIFIED:20240923T054055Z
UID:29654-1727946000-1727947800@miac.zdrav76.ru
SUMMARY:Сдача дежурств за предыдущий день в стационаре
DESCRIPTION:
URL:https://miac.zdrav76.ru/event/%d0%a1%d0%b4%d0%b0%d1%87%d0%b0-%d0%b4%d0%b5%d0%b6%d1%83%d1%80%d1%81%d1%82%d0%b2-%d0%b7%d0%b0-%d0%bf%d1%80%d0%b5%d0%b4%d1%8b%d0%b4%d1%83%d1%89%d0%b8%d0%b9-%d0%b4%d0%b5%d0%bd%d1%8c-%d0%b2-%d1%81-55/
END:VEVENT
BEGIN:VEVENT
DTSTART;TZID=Europe/Moscow:20241002T090000
DTEND;TZID=Europe/Moscow:20241002T093000
DTSTAMP:20260423T223431
CREATED:20240923T053630Z
LAST-MODIFIED:20240923T053630Z
UID:29646-1727859600-1727861400@miac.zdrav76.ru
SUMMARY:Сдача дежурств за предыдущий день в стационаре
DESCRIPTION:
URL:https://miac.zdrav76.ru/event/%d0%a1%d0%b4%d0%b0%d1%87%d0%b0-%d0%b4%d0%b5%d0%b6%d1%83%d1%80%d1%81%d1%82%d0%b2-%d0%b7%d0%b0-%d0%bf%d1%80%d0%b5%d0%b4%d1%8b%d0%b4%d1%83%d1%89%d0%b8%d0%b9-%d0%b4%d0%b5%d0%bd%d1%8c-%d0%b2-%d1%81-53/
END:VEVENT
BEGIN:VEVENT
DTSTART;TZID=Europe/Moscow:20241001T150000
DTEND;TZID=Europe/Moscow:20241001T163000
DTSTAMP:20260423T223431
CREATED:20240923T054349Z
LAST-MODIFIED:20240923T054349Z
UID:29658-1727794800-1727800200@miac.zdrav76.ru
SUMMARY:Самара. Текущие проекты
DESCRIPTION:
URL:https://miac.zdrav76.ru/event/%d0%a1%d0%b0%d0%bc%d0%b0%d1%80%d0%b0-%d0%a2%d0%b5%d0%ba%d1%83%d1%89%d0%b8%d0%b5-%d0%bf%d1%80%d0%be%d0%b5%d0%ba%d1%82%d1%8b-11/
END:VEVENT
BEGIN:VEVENT
DTSTART;TZID=Europe/Moscow:20241001T130000
DTEND;TZID=Europe/Moscow:20241001T140000
DTSTAMP:20260423T223431
CREATED:20240923T054255Z
LAST-MODIFIED:20240923T054255Z
UID:29656-1727787600-1727791200@miac.zdrav76.ru
SUMMARY:Организационное совещание по проекту “Наставничество” с главными внештатными специалистами МЗ ЯО
DESCRIPTION:
URL:https://miac.zdrav76.ru/event/%d0%9e%d1%80%d0%b3%d0%b0%d0%bd%d0%b8%d0%b7%d0%b0%d1%86%d0%b8%d0%be%d0%bd%d0%bd%d0%be%d0%b5-%d1%81%d0%be%d0%b2%d0%b5%d1%89%d0%b0%d0%bd%d0%b8%d0%b5-%d0%bf%d0%be-%d0%bf%d1%80%d0%be%d0%b5%d0%ba%d1%82-6/
END:VEVENT
BEGIN:VEVENT
DTSTART;TZID=Europe/Moscow:20241001T111500
DTEND;TZID=Europe/Moscow:20241001T130000
DTSTAMP:20260423T223431
CREATED:20241001T075639Z
LAST-MODIFIED:20241001T075639Z
UID:29798-1727781300-1727787600@miac.zdrav76.ru
SUMMARY:РС ЕГИСЗ ЯО. Подготовка к проверке МЗ РФ
DESCRIPTION:
URL:https://miac.zdrav76.ru/event/%d0%a0%d0%a1-%d0%95%d0%93%d0%98%d0%a1%d0%97-%d0%af%d0%9e-%d0%9f%d0%be%d0%b4%d0%b3%d0%be%d1%82%d0%be%d0%b2%d0%ba%d0%b0-%d0%ba-%d0%bf%d1%80%d0%be%d0%b2%d0%b5%d1%80%d0%ba%d0%b5-%d0%9c%d0%97-%d0%a0%d0%a4/
LOCATION:В режиме ВКС
END:VEVENT
BEGIN:VEVENT
DTSTART;TZID=Europe/Moscow:20241001T100000
DTEND;TZID=Europe/Moscow:20241001T110000
DTSTAMP:20260423T223431
CREATED:20241001T120811Z
LAST-MODIFIED:20241001T120811Z
UID:29802-1727776800-1727780400@miac.zdrav76.ru
SUMMARY:ЦТ. Организационные вопросы
DESCRIPTION:
URL:https://miac.zdrav76.ru/event/%d0%a6%d0%a2-%d0%9e%d1%80%d0%b3%d0%b0%d0%bd%d0%b8%d0%b7%d0%b0%d1%86%d0%b8%d0%be%d0%bd%d0%bd%d1%8b%d0%b5-%d0%b2%d0%be%d0%bf%d1%80%d0%be%d1%81%d1%8b-4/
LOCATION:В режиме ВКС
END:VEVENT
BEGIN:VEVENT
DTSTART;TZID=Europe/Moscow:20241001T090000
DTEND;TZID=Europe/Moscow:20241001T093000
DTSTAMP:20260423T223431
CREATED:20240923T053606Z
LAST-MODIFIED:20240923T053606Z
UID:29644-1727773200-1727775000@miac.zdrav76.ru
SUMMARY:Сдача дежурств за предыдущий день в стационаре
DESCRIPTION:
URL:https://miac.zdrav76.ru/event/%d0%a1%d0%b4%d0%b0%d1%87%d0%b0-%d0%b4%d0%b5%d0%b6%d1%83%d1%80%d1%81%d1%82%d0%b2-%d0%b7%d0%b0-%d0%bf%d1%80%d0%b5%d0%b4%d1%8b%d0%b4%d1%83%d1%89%d0%b8%d0%b9-%d0%b4%d0%b5%d0%bd%d1%8c-%d0%b2-%d1%81-52/
END:VEVENT
BEGIN:VEVENT
DTSTART;TZID=Europe/Moscow:20240930T130000
DTEND;TZID=Europe/Moscow:20240930T140000
DTSTAMP:20260423T223431
CREATED:20241001T120731Z
LAST-MODIFIED:20241001T120731Z
UID:29800-1727701200-1727704800@miac.zdrav76.ru
SUMMARY:ЭМИС. Импортозамещение
DESCRIPTION:
URL:https://miac.zdrav76.ru/event/%d0%ad%d0%9c%d0%98%d0%a1-%d0%98%d0%bc%d0%bf%d0%be%d1%80%d1%82%d0%be%d0%b7%d0%b0%d0%bc%d0%b5%d1%89%d0%b5%d0%bd%d0%b8%d0%b5/
LOCATION:В режиме ВКС
END:VEVENT
BEGIN:VEVENT
DTSTART;TZID=Europe/Moscow:20240930T110000
DTEND;TZID=Europe/Moscow:20240930T120000
DTSTAMP:20260423T223431
CREATED:20241001T120856Z
LAST-MODIFIED:20241001T120935Z
UID:29804-1727694000-1727697600@miac.zdrav76.ru
SUMMARY:Взаимодействие СМП и 122
DESCRIPTION:
URL:https://miac.zdrav76.ru/event/%d0%92%d0%b7%d0%b0%d0%b8%d0%bc%d0%be%d0%b4%d0%b5%d0%b9%d1%81%d1%82%d0%b2%d0%b8%d0%b5-%d0%a1%d0%9c%d0%9f-%d0%b8-122/
LOCATION:В режиме ВКС
END:VEVENT
BEGIN:VEVENT
DTSTART;TZID=Europe/Moscow:20240930T090000
DTEND;TZID=Europe/Moscow:20240930T093000
DTSTAMP:20260423T223431
CREATED:20240923T053536Z
LAST-MODIFIED:20240923T053536Z
UID:29642-1727686800-1727688600@miac.zdrav76.ru
SUMMARY:Сдача дежурств за предыдущий день в стационаре
DESCRIPTION:
URL:https://miac.zdrav76.ru/event/%d0%a1%d0%b4%d0%b0%d1%87%d0%b0-%d0%b4%d0%b5%d0%b6%d1%83%d1%80%d1%81%d1%82%d0%b2-%d0%b7%d0%b0-%d0%bf%d1%80%d0%b5%d0%b4%d1%8b%d0%b4%d1%83%d1%89%d0%b8%d0%b9-%d0%b4%d0%b5%d0%bd%d1%8c-%d0%b2-%d1%81-51/
END:VEVENT
BEGIN:VEVENT
DTSTART;TZID=Europe/Moscow:20240927T120000
DTEND;TZID=Europe/Moscow:20240927T130000
DTSTAMP:20260423T223431
CREATED:20240916T095557Z
LAST-MODIFIED:20240916T095557Z
UID:29609-1727438400-1727442000@miac.zdrav76.ru
SUMMARY:Рабочее совещание с ЦАОП ЯО
DESCRIPTION:
URL:https://miac.zdrav76.ru/event/%d0%a0%d0%b0%d0%b1%d0%be%d1%87%d0%b5%d0%b5-%d1%81%d0%be%d0%b2%d0%b5%d1%89%d0%b0%d0%bd%d0%b8%d0%b5-%d1%81-%d0%a6%d0%90%d0%9e%d0%9f-%d0%af%d0%9e-6/
END:VEVENT
BEGIN:VEVENT
DTSTART;TZID=Europe/Moscow:20240927T090000
DTEND;TZID=Europe/Moscow:20240927T093000
DTSTAMP:20260423T223431
CREATED:20240916T095134Z
LAST-MODIFIED:20240916T095134Z
UID:29601-1727427600-1727429400@miac.zdrav76.ru
SUMMARY:Сдача дежурств за предыдущий день в стационаре
DESCRIPTION:
URL:https://miac.zdrav76.ru/event/%d0%a1%d0%b4%d0%b0%d1%87%d0%b0-%d0%b4%d0%b5%d0%b6%d1%83%d1%80%d1%81%d1%82%d0%b2-%d0%b7%d0%b0-%d0%bf%d1%80%d0%b5%d0%b4%d1%8b%d0%b4%d1%83%d1%89%d0%b8%d0%b9-%d0%b4%d0%b5%d0%bd%d1%8c-%d0%b2-%d1%81-50/
END:VEVENT
BEGIN:VEVENT
DTSTART;TZID=Europe/Moscow:20240926T140000
DTEND;TZID=Europe/Moscow:20240926T153000
DTSTAMP:20260423T223431
CREATED:20240916T095458Z
LAST-MODIFIED:20240916T095458Z
UID:29607-1727359200-1727364600@miac.zdrav76.ru
SUMMARY:РТК. РИС/ЦАМИ\, СМП
DESCRIPTION:
URL:https://miac.zdrav76.ru/event/%d0%a0%d0%a2%d0%9a-%d0%a0%d0%98%d0%a1-%d0%a6%d0%90%d0%9c%d0%98-%d0%a1%d0%9c%d0%9f-10/
END:VEVENT
BEGIN:VEVENT
DTSTART;TZID=Europe/Moscow:20240926T130000
DTEND;TZID=Europe/Moscow:20240926T140000
DTSTAMP:20260423T223431
CREATED:20240821T130753Z
LAST-MODIFIED:20240821T130753Z
UID:29109-1727355600-1727359200@miac.zdrav76.ru
SUMMARY:Выявление ИППП. Своевременная диагностика.
DESCRIPTION:
URL:https://miac.zdrav76.ru/event/%d0%92%d1%8b%d1%8f%d0%b2%d0%bb%d0%b5%d0%bd%d0%b8%d0%b5-%d0%98%d0%9f%d0%9f%d0%9f-%d0%a1%d0%b2%d0%be%d0%b5%d0%b2%d1%80%d0%b5%d0%bc%d0%b5%d0%bd%d0%bd%d0%b0%d1%8f-%d0%b4%d0%b8%d0%b0%d0%b3%d0%bd%d0%be-2/
LOCATION:В режиме ВКС
END:VEVENT
BEGIN:VEVENT
DTSTART;TZID=Europe/Moscow:20240926T090000
DTEND;TZID=Europe/Moscow:20240926T093000
DTSTAMP:20260423T223431
CREATED:20240916T095105Z
LAST-MODIFIED:20240916T095105Z
UID:29599-1727341200-1727343000@miac.zdrav76.ru
SUMMARY:Сдача дежурств за предыдущий день в стационаре
DESCRIPTION:
URL:https://miac.zdrav76.ru/event/%d0%a1%d0%b4%d0%b0%d1%87%d0%b0-%d0%b4%d0%b5%d0%b6%d1%83%d1%80%d1%81%d1%82%d0%b2-%d0%b7%d0%b0-%d0%bf%d1%80%d0%b5%d0%b4%d1%8b%d0%b4%d1%83%d1%89%d0%b8%d0%b9-%d0%b4%d0%b5%d0%bd%d1%8c-%d0%b2-%d1%81-49/
END:VEVENT
BEGIN:VEVENT
DTSTART;TZID=Europe/Moscow:20240925T140000
DTEND;TZID=Europe/Moscow:20240925T150000
DTSTAMP:20260423T223431
CREATED:20240924T124821Z
LAST-MODIFIED:20240924T124821Z
UID:29703-1727272800-1727276400@miac.zdrav76.ru
SUMMARY:1С Поликлиника. Регистратура
DESCRIPTION:
URL:https://miac.zdrav76.ru/event/1%d0%a1-%d0%9f%d0%be%d0%bb%d0%b8%d0%ba%d0%bb%d0%b8%d0%bd%d0%b8%d0%ba%d0%b0-%d0%a0%d0%b5%d0%b3%d0%b8%d1%81%d1%82%d1%80%d0%b0%d1%82%d1%83%d1%80%d0%b0/
LOCATION:В режиме ВКС
END:VEVENT
BEGIN:VEVENT
DTSTART;TZID=Europe/Moscow:20240925T130000
DTEND;TZID=Europe/Moscow:20240925T140000
DTSTAMP:20260423T223431
CREATED:20240925T094947Z
LAST-MODIFIED:20240925T094947Z
UID:29723-1727269200-1727272800@miac.zdrav76.ru
SUMMARY:ЦТ. Организационные вопросы
DESCRIPTION:
URL:https://miac.zdrav76.ru/event/%d0%a6%d0%a2-%d0%9e%d1%80%d0%b3%d0%b0%d0%bd%d0%b8%d0%b7%d0%b0%d1%86%d0%b8%d0%be%d0%bd%d0%bd%d1%8b%d0%b5-%d0%b2%d0%be%d0%bf%d1%80%d0%be%d1%81%d1%8b-3/
LOCATION:В режиме ВКС
END:VEVENT
BEGIN:VEVENT
DTSTART;TZID=Europe/Moscow:20240925T090000
DTEND;TZID=Europe/Moscow:20240925T093000
DTSTAMP:20260423T223431
CREATED:20240916T095009Z
LAST-MODIFIED:20240916T095009Z
UID:29597-1727254800-1727256600@miac.zdrav76.ru
SUMMARY:Сдача дежурств за предыдущий день в стационаре
DESCRIPTION:
URL:https://miac.zdrav76.ru/event/%d0%a1%d0%b4%d0%b0%d1%87%d0%b0-%d0%b4%d0%b5%d0%b6%d1%83%d1%80%d1%81%d1%82%d0%b2-%d0%b7%d0%b0-%d0%bf%d1%80%d0%b5%d0%b4%d1%8b%d0%b4%d1%83%d1%89%d0%b8%d0%b9-%d0%b4%d0%b5%d0%bd%d1%8c-%d0%b2-%d1%81-48/
END:VEVENT
BEGIN:VEVENT
DTSTART;TZID=Europe/Moscow:20240924T150000
DTEND;TZID=Europe/Moscow:20240924T163000
DTSTAMP:20260423T223431
CREATED:20240916T095340Z
LAST-MODIFIED:20240916T095340Z
UID:29605-1727190000-1727195400@miac.zdrav76.ru
SUMMARY:Самара. Текущие проекты
DESCRIPTION:
URL:https://miac.zdrav76.ru/event/%d0%a1%d0%b0%d0%bc%d0%b0%d1%80%d0%b0-%d0%a2%d0%b5%d0%ba%d1%83%d1%89%d0%b8%d0%b5-%d0%bf%d1%80%d0%be%d0%b5%d0%ba%d1%82%d1%8b-10/
END:VEVENT
BEGIN:VEVENT
DTSTART;TZID=Europe/Moscow:20240924T140000
DTEND;TZID=Europe/Moscow:20240924T153000
DTSTAMP:20260423T223431
CREATED:20240924T050312Z
LAST-MODIFIED:20240924T050312Z
UID:29673-1727186400-1727191800@miac.zdrav76.ru
SUMMARY:1С Поликлиника. Показ итогового функционала
DESCRIPTION:
URL:https://miac.zdrav76.ru/event/1%d0%a1-%d0%9f%d0%be%d0%bb%d0%b8%d0%ba%d0%bb%d0%b8%d0%bd%d0%b8%d0%ba%d0%b0-%d0%9f%d0%be%d0%ba%d0%b0%d0%b7-%d0%b8%d1%82%d0%be%d0%b3%d0%be%d0%b2%d0%be%d0%b3%d0%be-%d1%84%d1%83%d0%bd%d0%ba%d1%86%d0%b8-2/
LOCATION:В режиме ВКС
END:VEVENT
BEGIN:VEVENT
DTSTART;TZID=Europe/Moscow:20240924T130000
DTEND;TZID=Europe/Moscow:20240924T140000
DTSTAMP:20260423T223431
CREATED:20240924T121320Z
LAST-MODIFIED:20240924T121320Z
UID:29697-1727182800-1727186400@miac.zdrav76.ru
SUMMARY:МЗ ЯО. КИИ»
DESCRIPTION:
URL:https://miac.zdrav76.ru/event/%d0%9c%d0%97-%d0%af%d0%9e-%d0%9a%d0%98%d0%98/
LOCATION:В режиме ВКС
END:VEVENT
BEGIN:VEVENT
DTSTART;TZID=Europe/Moscow:20240924T130000
DTEND;TZID=Europe/Moscow:20240924T140000
DTSTAMP:20260423T223431
CREATED:20240916T095242Z
LAST-MODIFIED:20240916T095242Z
UID:29603-1727182800-1727186400@miac.zdrav76.ru
SUMMARY:Организационное совещание по проекту “Наставничество” с главными внештатными специалистами МЗ ЯО
DESCRIPTION:
URL:https://miac.zdrav76.ru/event/%d0%9e%d1%80%d0%b3%d0%b0%d0%bd%d0%b8%d0%b7%d0%b0%d1%86%d0%b8%d0%be%d0%bd%d0%bd%d0%be%d0%b5-%d1%81%d0%be%d0%b2%d0%b5%d1%89%d0%b0%d0%bd%d0%b8%d0%b5-%d0%bf%d0%be-%d0%bf%d1%80%d0%be%d0%b5%d0%ba%d1%82-5/
END:VEVENT
END:VCALENDAR