BEGIN:VCALENDAR
VERSION:2.0
PRODID:-//ГБУЗ ЯО &quot;Медицинский информационно-аналитический центр&quot; - ECPv6.15.17.1//NONSGML v1.0//EN
CALSCALE:GREGORIAN
METHOD:PUBLISH
X-ORIGINAL-URL:https://miac.zdrav76.ru
X-WR-CALDESC:Мероприятия для ГБУЗ ЯО &quot;Медицинский информационно-аналитический центр&quot;
REFRESH-INTERVAL;VALUE=DURATION:PT1H
X-Robots-Tag:noindex
X-PUBLISHED-TTL:PT1H
BEGIN:VTIMEZONE
TZID:Europe/Moscow
BEGIN:STANDARD
TZOFFSETFROM:+0300
TZOFFSETTO:+0300
TZNAME:MSK
DTSTART:20230101T000000
END:STANDARD
END:VTIMEZONE
BEGIN:VEVENT
DTSTART;TZID=Europe/Moscow:20240829T100000
DTEND;TZID=Europe/Moscow:20240829T110000
DTSTAMP:20260425T160342
CREATED:20240829T044252Z
LAST-MODIFIED:20240829T044252Z
UID:29234-1724925600-1724929200@miac.zdrav76.ru
SUMMARY:«1С. Поликлиника.Показ функционала»
DESCRIPTION:
URL:https://miac.zdrav76.ru/event/1%d0%a1-%d0%9f%d0%be%d0%bb%d0%b8%d0%ba%d0%bb%d0%b8%d0%bd%d0%b8%d0%ba%d0%b0-%d0%9f%d0%be%d0%ba%d0%b0%d0%b7-%d1%84%d1%83%d0%bd%d0%ba%d1%86%d0%b8%d0%be%d0%bd%d0%b0%d0%bb%d0%b0/
LOCATION:В режиме ВКС
END:VEVENT
BEGIN:VEVENT
DTSTART;TZID=Europe/Moscow:20240829T140000
DTEND;TZID=Europe/Moscow:20240829T153000
DTSTAMP:20260425T160342
CREATED:20240826T130958Z
LAST-MODIFIED:20240826T130958Z
UID:29174-1724940000-1724945400@miac.zdrav76.ru
SUMMARY:РТК. РИС/ЦАМИ\, СМП
DESCRIPTION:
URL:https://miac.zdrav76.ru/event/%d0%a0%d0%a2%d0%9a-%d0%a0%d0%98%d0%a1-%d0%a6%d0%90%d0%9c%d0%98-%d0%a1%d0%9c%d0%9f-6/
LOCATION:В режиме ВКС
END:VEVENT
BEGIN:VEVENT
DTSTART;TZID=Europe/Moscow:20240830T090000
DTEND;TZID=Europe/Moscow:20240830T093000
DTSTAMP:20260425T160342
CREATED:20240826T130902Z
LAST-MODIFIED:20240826T130902Z
UID:29170-1725008400-1725010200@miac.zdrav76.ru
SUMMARY:Сдача дежурств за предыдущий день в стационаре
DESCRIPTION:
URL:https://miac.zdrav76.ru/event/%d0%a1%d0%b4%d0%b0%d1%87%d0%b0-%d0%b4%d0%b5%d0%b6%d1%83%d1%80%d1%81%d1%82%d0%b2-%d0%b7%d0%b0-%d0%bf%d1%80%d0%b5%d0%b4%d1%8b%d0%b4%d1%83%d1%89%d0%b8%d0%b9-%d0%b4%d0%b5%d0%bd%d1%8c-%d0%b2-%d1%81-30/
LOCATION:В режиме ВКС
END:VEVENT
BEGIN:VEVENT
DTSTART;TZID=Europe/Moscow:20240830T120000
DTEND;TZID=Europe/Moscow:20240830T130000
DTSTAMP:20260425T160342
CREATED:20240906T094451Z
LAST-MODIFIED:20240906T094451Z
UID:29420-1725019200-1725022800@miac.zdrav76.ru
SUMMARY:Рабочее совещание с ЦАОП ЯО
DESCRIPTION:
URL:https://miac.zdrav76.ru/event/%d0%a0%d0%b0%d0%b1%d0%be%d1%87%d0%b5%d0%b5-%d1%81%d0%be%d0%b2%d0%b5%d1%89%d0%b0%d0%bd%d0%b8%d0%b5-%d1%81-%d0%a6%d0%90%d0%9e%d0%9f-%d0%af%d0%9e-3/
END:VEVENT
BEGIN:VEVENT
DTSTART;TZID=Europe/Moscow:20240830T130000
DTEND;TZID=Europe/Moscow:20240830T140000
DTSTAMP:20260425T160342
CREATED:20240830T123241Z
LAST-MODIFIED:20240830T123241Z
UID:29280-1725022800-1725026400@miac.zdrav76.ru
SUMMARY:ГИС ОМС
DESCRIPTION:
URL:https://miac.zdrav76.ru/event/%d0%93%d0%98%d0%a1-%d0%9e%d0%9c%d0%a1-3/
LOCATION:В режиме ВКС
END:VEVENT
BEGIN:VEVENT
DTSTART;TZID=Europe/Moscow:20240902T090000
DTEND;TZID=Europe/Moscow:20240902T093000
DTSTAMP:20260425T160342
CREATED:20240902T130647Z
LAST-MODIFIED:20240902T130647Z
UID:29311-1725267600-1725269400@miac.zdrav76.ru
SUMMARY:Сдача дежурств за предыдущий день в стационаре
DESCRIPTION:
URL:https://miac.zdrav76.ru/event/%d0%a1%d0%b4%d0%b0%d1%87%d0%b0-%d0%b4%d0%b5%d0%b6%d1%83%d1%80%d1%81%d1%82%d0%b2-%d0%b7%d0%b0-%d0%bf%d1%80%d0%b5%d0%b4%d1%8b%d0%b4%d1%83%d1%89%d0%b8%d0%b9-%d0%b4%d0%b5%d0%bd%d1%8c-%d0%b2-%d1%81-31/
LOCATION:В режиме ВКС
END:VEVENT
BEGIN:VEVENT
DTSTART;TZID=Europe/Moscow:20240903T090000
DTEND;TZID=Europe/Moscow:20240903T093000
DTSTAMP:20260425T160342
CREATED:20240902T130710Z
LAST-MODIFIED:20240902T130710Z
UID:29313-1725354000-1725355800@miac.zdrav76.ru
SUMMARY:Сдача дежурств за предыдущий день в стационаре
DESCRIPTION:
URL:https://miac.zdrav76.ru/event/%d0%a1%d0%b4%d0%b0%d1%87%d0%b0-%d0%b4%d0%b5%d0%b6%d1%83%d1%80%d1%81%d1%82%d0%b2-%d0%b7%d0%b0-%d0%bf%d1%80%d0%b5%d0%b4%d1%8b%d0%b4%d1%83%d1%89%d0%b8%d0%b9-%d0%b4%d0%b5%d0%bd%d1%8c-%d0%b2-%d1%81-32/
LOCATION:В режиме ВКС
END:VEVENT
BEGIN:VEVENT
DTSTART;TZID=Europe/Moscow:20240903T130000
DTEND;TZID=Europe/Moscow:20240903T140000
DTSTAMP:20260425T160342
CREATED:20240903T113751Z
LAST-MODIFIED:20240903T113751Z
UID:29355-1725368400-1725372000@miac.zdrav76.ru
SUMMARY:Организационное совещание по проекту “Наставничество” с главными внештатными специалистами МЗ ЯО
DESCRIPTION:
URL:https://miac.zdrav76.ru/event/%d0%9e%d1%80%d0%b3%d0%b0%d0%bd%d0%b8%d0%b7%d0%b0%d1%86%d0%b8%d0%be%d0%bd%d0%bd%d0%be%d0%b5-%d1%81%d0%be%d0%b2%d0%b5%d1%89%d0%b0%d0%bd%d0%b8%d0%b5-%d0%bf%d0%be-%d0%bf%d1%80%d0%be%d0%b5%d0%ba%d1%82-2/
END:VEVENT
BEGIN:VEVENT
DTSTART;TZID=Europe/Moscow:20240903T150000
DTEND;TZID=Europe/Moscow:20240903T163000
DTSTAMP:20260425T160342
CREATED:20240902T130849Z
LAST-MODIFIED:20240903T050244Z
UID:29321-1725375600-1725381000@miac.zdrav76.ru
SUMMARY:Самара. Текущие проекты
DESCRIPTION:
URL:https://miac.zdrav76.ru/event/%d0%a1%d0%b0%d0%bc%d0%b0%d1%80%d0%b0-%d0%a2%d0%b5%d0%ba%d1%83%d1%89%d0%b8%d0%b5-%d0%bf%d1%80%d0%be%d0%b5%d0%ba%d1%82%d1%8b-7/
LOCATION:В режиме ВКС
END:VEVENT
BEGIN:VEVENT
DTSTART;TZID=Europe/Moscow:20240904T090000
DTEND;TZID=Europe/Moscow:20240904T093000
DTSTAMP:20260425T160342
CREATED:20240902T130730Z
LAST-MODIFIED:20240902T130730Z
UID:29315-1725440400-1725442200@miac.zdrav76.ru
SUMMARY:Сдача дежурств за предыдущий день в стационаре
DESCRIPTION:
URL:https://miac.zdrav76.ru/event/%d0%a1%d0%b4%d0%b0%d1%87%d0%b0-%d0%b4%d0%b5%d0%b6%d1%83%d1%80%d1%81%d1%82%d0%b2-%d0%b7%d0%b0-%d0%bf%d1%80%d0%b5%d0%b4%d1%8b%d0%b4%d1%83%d1%89%d0%b8%d0%b9-%d0%b4%d0%b5%d0%bd%d1%8c-%d0%b2-%d1%81-33/
LOCATION:В режиме ВКС
END:VEVENT
BEGIN:VEVENT
DTSTART;TZID=Europe/Moscow:20240904T130000
DTEND;TZID=Europe/Moscow:20240904T143000
DTSTAMP:20260425T160342
CREATED:20240904T043936Z
LAST-MODIFIED:20240904T043936Z
UID:29359-1725454800-1725460200@miac.zdrav76.ru
SUMMARY:1С. Внедрение Поликлиники в ОНКО
DESCRIPTION:
URL:https://miac.zdrav76.ru/event/1%d0%a1-%d0%92%d0%bd%d0%b5%d0%b4%d1%80%d0%b5%d0%bd%d0%b8%d0%b5-%d0%9f%d0%be%d0%bb%d0%b8%d0%ba%d0%bb%d0%b8%d0%bd%d0%b8%d0%ba%d0%b8-%d0%b2-%d0%9e%d0%9d%d0%9a%d0%9e/
LOCATION:В режиме ВКС
END:VEVENT
BEGIN:VEVENT
DTSTART;TZID=Europe/Moscow:20240905T090000
DTEND;TZID=Europe/Moscow:20240905T093000
DTSTAMP:20260425T160342
CREATED:20240902T130756Z
LAST-MODIFIED:20240902T130756Z
UID:29317-1725526800-1725528600@miac.zdrav76.ru
SUMMARY:Сдача дежурств за предыдущий день в стационаре
DESCRIPTION:
URL:https://miac.zdrav76.ru/event/%d0%a1%d0%b4%d0%b0%d1%87%d0%b0-%d0%b4%d0%b5%d0%b6%d1%83%d1%80%d1%81%d1%82%d0%b2-%d0%b7%d0%b0-%d0%bf%d1%80%d0%b5%d0%b4%d1%8b%d0%b4%d1%83%d1%89%d0%b8%d0%b9-%d0%b4%d0%b5%d0%bd%d1%8c-%d0%b2-%d1%81-34/
LOCATION:В режиме ВКС
END:VEVENT
BEGIN:VEVENT
DTSTART;TZID=Europe/Moscow:20240905T130000
DTEND;TZID=Europe/Moscow:20240905T140000
DTSTAMP:20260425T160342
CREATED:20240821T130716Z
LAST-MODIFIED:20240821T130716Z
UID:29107-1725541200-1725544800@miac.zdrav76.ru
SUMMARY:Выявление ИППП. Своевременная диагностика.
DESCRIPTION:
URL:https://miac.zdrav76.ru/event/%d0%92%d1%8b%d1%8f%d0%b2%d0%bb%d0%b5%d0%bd%d0%b8%d0%b5-%d0%98%d0%9f%d0%9f%d0%9f-%d0%a1%d0%b2%d0%be%d0%b5%d0%b2%d1%80%d0%b5%d0%bc%d0%b5%d0%bd%d0%bd%d0%b0%d1%8f-%d0%b4%d0%b8%d0%b0%d0%b3%d0%bd%d0%be/
LOCATION:В режиме ВКС
END:VEVENT
BEGIN:VEVENT
DTSTART;TZID=Europe/Moscow:20240905T140000
DTEND;TZID=Europe/Moscow:20240905T153000
DTSTAMP:20260425T160342
CREATED:20240902T130922Z
LAST-MODIFIED:20240902T130922Z
UID:29324-1725544800-1725550200@miac.zdrav76.ru
SUMMARY:РТК. РИС/ЦАМИ\, СМП
DESCRIPTION:
URL:https://miac.zdrav76.ru/event/%d0%a0%d0%a2%d0%9a-%d0%a0%d0%98%d0%a1-%d0%a6%d0%90%d0%9c%d0%98-%d0%a1%d0%9c%d0%9f-7/
LOCATION:В режиме ВКС
END:VEVENT
BEGIN:VEVENT
DTSTART;TZID=Europe/Moscow:20240906T090000
DTEND;TZID=Europe/Moscow:20240906T093000
DTSTAMP:20260425T160342
CREATED:20240902T130815Z
LAST-MODIFIED:20240902T130815Z
UID:29319-1725613200-1725615000@miac.zdrav76.ru
SUMMARY:Сдача дежурств за предыдущий день в стационаре
DESCRIPTION:
URL:https://miac.zdrav76.ru/event/%d0%a1%d0%b4%d0%b0%d1%87%d0%b0-%d0%b4%d0%b5%d0%b6%d1%83%d1%80%d1%81%d1%82%d0%b2-%d0%b7%d0%b0-%d0%bf%d1%80%d0%b5%d0%b4%d1%8b%d0%b4%d1%83%d1%89%d0%b8%d0%b9-%d0%b4%d0%b5%d0%bd%d1%8c-%d0%b2-%d1%81-35/
LOCATION:В режиме ВКС
END:VEVENT
BEGIN:VEVENT
DTSTART;TZID=Europe/Moscow:20240906T120000
DTEND;TZID=Europe/Moscow:20240906T130000
DTSTAMP:20260425T160342
CREATED:20240905T051510Z
LAST-MODIFIED:20240905T051510Z
UID:29377-1725624000-1725627600@miac.zdrav76.ru
SUMMARY:Рабочее совещание с ЦАОП ЯО
DESCRIPTION:
URL:https://miac.zdrav76.ru/event/%d0%a0%d0%b0%d0%b1%d0%be%d1%87%d0%b5%d0%b5-%d1%81%d0%be%d0%b2%d0%b5%d1%89%d0%b0%d0%bd%d0%b8%d0%b5-%d1%81-%d0%a6%d0%90%d0%9e%d0%9f-%d0%af%d0%9e-2/
END:VEVENT
BEGIN:VEVENT
DTSTART;TZID=Europe/Moscow:20240909T090000
DTEND;TZID=Europe/Moscow:20240909T093000
DTSTAMP:20260425T160342
CREATED:20240903T052035Z
LAST-MODIFIED:20240903T052035Z
UID:29326-1725872400-1725874200@miac.zdrav76.ru
SUMMARY:Сдача дежурств за предыдущий день в стационаре
DESCRIPTION:
URL:https://miac.zdrav76.ru/event/%d0%a1%d0%b4%d0%b0%d1%87%d0%b0-%d0%b4%d0%b5%d0%b6%d1%83%d1%80%d1%81%d1%82%d0%b2-%d0%b7%d0%b0-%d0%bf%d1%80%d0%b5%d0%b4%d1%8b%d0%b4%d1%83%d1%89%d0%b8%d0%b9-%d0%b4%d0%b5%d0%bd%d1%8c-%d0%b2-%d1%81-36/
END:VEVENT
BEGIN:VEVENT
DTSTART;TZID=Europe/Moscow:20240910T083000
DTEND;TZID=Europe/Moscow:20240910T093000
DTSTAMP:20260425T160342
CREATED:20240910T054027Z
LAST-MODIFIED:20240910T054027Z
UID:29456-1725957000-1725960600@miac.zdrav76.ru
SUMMARY:РТК.  Организационные вопросы
DESCRIPTION:
URL:https://miac.zdrav76.ru/event/%d0%a0%d0%a2%d0%9a-%d0%9e%d1%80%d0%b3%d0%b0%d0%bd%d0%b8%d0%b7%d0%b0%d1%86%d0%b8%d0%be%d0%bd%d0%bd%d1%8b%d0%b5-%d0%b2%d0%be%d0%bf%d1%80%d0%be%d1%81%d1%8b/
LOCATION:В режиме ВКС
END:VEVENT
BEGIN:VEVENT
DTSTART;TZID=Europe/Moscow:20240910T090000
DTEND;TZID=Europe/Moscow:20240910T093000
DTSTAMP:20260425T160342
CREATED:20240903T052136Z
LAST-MODIFIED:20240903T052136Z
UID:29328-1725958800-1725960600@miac.zdrav76.ru
SUMMARY:Сдача дежурств за предыдущий день в стационаре
DESCRIPTION:
URL:https://miac.zdrav76.ru/event/%d0%a1%d0%b4%d0%b0%d1%87%d0%b0-%d0%b4%d0%b5%d0%b6%d1%83%d1%80%d1%81%d1%82%d0%b2-%d0%b7%d0%b0-%d0%bf%d1%80%d0%b5%d0%b4%d1%8b%d0%b4%d1%83%d1%89%d0%b8%d0%b9-%d0%b4%d0%b5%d0%bd%d1%8c-%d0%b2-%d1%81-37/
END:VEVENT
BEGIN:VEVENT
DTSTART;TZID=Europe/Moscow:20240910T130000
DTEND;TZID=Europe/Moscow:20240910T140000
DTSTAMP:20260425T160342
CREATED:20240903T113841Z
LAST-MODIFIED:20240903T113841Z
UID:29357-1725973200-1725976800@miac.zdrav76.ru
SUMMARY:Организационное совещание по проекту “Наставничество” с главными внештатными специалистами МЗ ЯО
DESCRIPTION:
URL:https://miac.zdrav76.ru/event/%d0%9e%d1%80%d0%b3%d0%b0%d0%bd%d0%b8%d0%b7%d0%b0%d1%86%d0%b8%d0%be%d0%bd%d0%bd%d0%be%d0%b5-%d1%81%d0%be%d0%b2%d0%b5%d1%89%d0%b0%d0%bd%d0%b8%d0%b5-%d0%bf%d0%be-%d0%bf%d1%80%d0%be%d0%b5%d0%ba%d1%82-3/
END:VEVENT
BEGIN:VEVENT
DTSTART;TZID=Europe/Moscow:20240910T150000
DTEND;TZID=Europe/Moscow:20240910T163000
DTSTAMP:20260425T160342
CREATED:20240903T052420Z
LAST-MODIFIED:20240903T052420Z
UID:29337-1725980400-1725985800@miac.zdrav76.ru
SUMMARY:Самара. Текущие проекты
DESCRIPTION:
URL:https://miac.zdrav76.ru/event/%d0%a1%d0%b0%d0%bc%d0%b0%d1%80%d0%b0-%d0%a2%d0%b5%d0%ba%d1%83%d1%89%d0%b8%d0%b5-%d0%bf%d1%80%d0%be%d0%b5%d0%ba%d1%82%d1%8b-8/
END:VEVENT
BEGIN:VEVENT
DTSTART;TZID=Europe/Moscow:20240911T090000
DTEND;TZID=Europe/Moscow:20240911T093000
DTSTAMP:20260425T160342
CREATED:20240903T052210Z
LAST-MODIFIED:20240903T052210Z
UID:29330-1726045200-1726047000@miac.zdrav76.ru
SUMMARY:Сдача дежурств за предыдущий день в стационаре
DESCRIPTION:
URL:https://miac.zdrav76.ru/event/%d0%a1%d0%b4%d0%b0%d1%87%d0%b0-%d0%b4%d0%b5%d0%b6%d1%83%d1%80%d1%81%d1%82%d0%b2-%d0%b7%d0%b0-%d0%bf%d1%80%d0%b5%d0%b4%d1%8b%d0%b4%d1%83%d1%89%d0%b8%d0%b9-%d0%b4%d0%b5%d0%bd%d1%8c-%d0%b2-%d1%81-38/
END:VEVENT
BEGIN:VEVENT
DTSTART;TZID=Europe/Moscow:20240911T130000
DTEND;TZID=Europe/Moscow:20240911T150000
DTSTAMP:20260425T160342
CREATED:20240911T081917Z
LAST-MODIFIED:20240911T081917Z
UID:29561-1726059600-1726066800@miac.zdrav76.ru
SUMMARY:Функционал РИС (радиологическая информационная система). Локальный просмотровщик
DESCRIPTION:
URL:https://miac.zdrav76.ru/event/%d0%a4%d1%83%d0%bd%d0%ba%d1%86%d0%b8%d0%be%d0%bd%d0%b0%d0%bb-%d0%a0%d0%98%d0%a1-%d1%80%d0%b0%d0%b4%d0%b8%d0%be%d0%bb%d0%be%d0%b3%d0%b8%d1%87%d0%b5%d1%81%d0%ba%d0%b0%d1%8f-%d0%b8%d0%bd%d1%84%d0%be/
LOCATION:В режиме ВКС
END:VEVENT
BEGIN:VEVENT
DTSTART;TZID=Europe/Moscow:20240912T093000
DTEND;TZID=Europe/Moscow:20240912T093000
DTSTAMP:20260425T160342
CREATED:20240903T052259Z
LAST-MODIFIED:20240903T052259Z
UID:29332-1726133400-1726133400@miac.zdrav76.ru
SUMMARY:Сдача дежурств за предыдущий день в стационаре
DESCRIPTION:
URL:https://miac.zdrav76.ru/event/%d0%a1%d0%b4%d0%b0%d1%87%d0%b0-%d0%b4%d0%b5%d0%b6%d1%83%d1%80%d1%81%d1%82%d0%b2-%d0%b7%d0%b0-%d0%bf%d1%80%d0%b5%d0%b4%d1%8b%d0%b4%d1%83%d1%89%d0%b8%d0%b9-%d0%b4%d0%b5%d0%bd%d1%8c-%d0%b2-%d1%81-39/
END:VEVENT
BEGIN:VEVENT
DTSTART;TZID=Europe/Moscow:20240912T130000
DTEND;TZID=Europe/Moscow:20240912T140000
DTSTAMP:20260425T160342
CREATED:20240912T050418Z
LAST-MODIFIED:20240912T050418Z
UID:29581-1726146000-1726149600@miac.zdrav76.ru
SUMMARY:АКРОСС
DESCRIPTION:
URL:https://miac.zdrav76.ru/event/%d0%90%d0%9a%d0%a0%d0%9e%d0%a1%d0%a1/
LOCATION:В режиме ВКС
END:VEVENT
BEGIN:VEVENT
DTSTART;TZID=Europe/Moscow:20240912T140000
DTEND;TZID=Europe/Moscow:20240912T153000
DTSTAMP:20260425T160342
CREATED:20240903T052513Z
LAST-MODIFIED:20240903T052513Z
UID:29339-1726149600-1726155000@miac.zdrav76.ru
SUMMARY:РТК. РИС/ЦАМИ\, СМП
DESCRIPTION:
URL:https://miac.zdrav76.ru/event/%d0%a0%d0%a2%d0%9a-%d0%a0%d0%98%d0%a1-%d0%a6%d0%90%d0%9c%d0%98-%d0%a1%d0%9c%d0%9f-8/
END:VEVENT
BEGIN:VEVENT
DTSTART;TZID=Europe/Moscow:20240913T090000
DTEND;TZID=Europe/Moscow:20240913T093000
DTSTAMP:20260425T160342
CREATED:20240903T052326Z
LAST-MODIFIED:20240903T052326Z
UID:29334-1726218000-1726219800@miac.zdrav76.ru
SUMMARY:Сдача дежурств за предыдущий день в стационаре
DESCRIPTION:
URL:https://miac.zdrav76.ru/event/%d0%a1%d0%b4%d0%b0%d1%87%d0%b0-%d0%b4%d0%b5%d0%b6%d1%83%d1%80%d1%81%d1%82%d0%b2-%d0%b7%d0%b0-%d0%bf%d1%80%d0%b5%d0%b4%d1%8b%d0%b4%d1%83%d1%89%d0%b8%d0%b9-%d0%b4%d0%b5%d0%bd%d1%8c-%d0%b2-%d1%81-40/
END:VEVENT
BEGIN:VEVENT
DTSTART;TZID=Europe/Moscow:20240913T100000
DTEND;TZID=Europe/Moscow:20240913T110000
DTSTAMP:20260425T160342
CREATED:20240912T121456Z
LAST-MODIFIED:20240912T121456Z
UID:29583-1726221600-1726225200@miac.zdrav76.ru
SUMMARY:Льготное лекарственное обеспечение
DESCRIPTION:
URL:https://miac.zdrav76.ru/event/%d0%9b%d1%8c%d0%b3%d0%be%d1%82%d0%bd%d0%be%d0%b5-%d0%bb%d0%b5%d0%ba%d0%b0%d1%80%d1%81%d1%82%d0%b2%d0%b5%d0%bd%d0%bd%d0%be%d0%b5-%d0%be%d0%b1%d0%b5%d1%81%d0%bf%d0%b5%d1%87%d0%b5%d0%bd%d0%b8%d0%b5/
END:VEVENT
BEGIN:VEVENT
DTSTART;TZID=Europe/Moscow:20240913T110000
DTEND;TZID=Europe/Moscow:20240913T133000
DTSTAMP:20260425T160342
CREATED:20240913T050437Z
LAST-MODIFIED:20240913T050437Z
UID:29591-1726225200-1726234200@miac.zdrav76.ru
SUMMARY:Интеграция РИС/ЦАМИ  и 1С
DESCRIPTION:
URL:https://miac.zdrav76.ru/event/%d0%98%d0%bd%d1%82%d0%b5%d0%b3%d1%80%d0%b0%d1%86%d0%b8%d1%8f-%d0%a0%d0%98%d0%a1-%d0%a6%d0%90%d0%9c%d0%98-%d0%b8-1%d0%a1/
LOCATION:В режиме ВКС
END:VEVENT
BEGIN:VEVENT
DTSTART;TZID=Europe/Moscow:20240913T120000
DTEND;TZID=Europe/Moscow:20240913T130000
DTSTAMP:20260425T160342
CREATED:20240906T094709Z
LAST-MODIFIED:20240906T094709Z
UID:29422-1726228800-1726232400@miac.zdrav76.ru
SUMMARY:Рабочее совещание с ЦАОП ЯО
DESCRIPTION:
URL:https://miac.zdrav76.ru/event/%d0%a0%d0%b0%d0%b1%d0%be%d1%87%d0%b5%d0%b5-%d1%81%d0%be%d0%b2%d0%b5%d1%89%d0%b0%d0%bd%d0%b8%d0%b5-%d1%81-%d0%a6%d0%90%d0%9e%d0%9f-%d0%af%d0%9e-4/
END:VEVENT
END:VCALENDAR