BEGIN:VCALENDAR
VERSION:2.0
PRODID:-//ГБУЗ ЯО &quot;Медицинский информационно-аналитический центр&quot; - ECPv6.15.17.1//NONSGML v1.0//EN
CALSCALE:GREGORIAN
METHOD:PUBLISH
X-WR-CALNAME:ГБУЗ ЯО &quot;Медицинский информационно-аналитический центр&quot;
X-ORIGINAL-URL:https://miac.zdrav76.ru
X-WR-CALDESC:Мероприятия для ГБУЗ ЯО &quot;Медицинский информационно-аналитический центр&quot;
REFRESH-INTERVAL;VALUE=DURATION:PT1H
X-Robots-Tag:noindex
X-PUBLISHED-TTL:PT1H
BEGIN:VTIMEZONE
TZID:Europe/Moscow
BEGIN:STANDARD
TZOFFSETFROM:+0300
TZOFFSETTO:+0300
TZNAME:MSK
DTSTART:20230101T000000
END:STANDARD
END:VTIMEZONE
BEGIN:VEVENT
DTSTART;TZID=Europe/Moscow:20240524T090000
DTEND;TZID=Europe/Moscow:20240524T093000
DTSTAMP:20260425T205938
CREATED:20240522T092054Z
LAST-MODIFIED:20240522T092054Z
UID:27225-1716541200-1716543000@miac.zdrav76.ru
SUMMARY:Сдача дежурств за предыдущий день в стационаре
DESCRIPTION:
URL:https://miac.zdrav76.ru/event/%d1%81%d0%b4%d0%b0%d1%87%d0%b0-%d0%b4%d0%b5%d0%b6%d1%83%d1%80%d1%81%d1%82%d0%b2-%d0%b7%d0%b0-%d0%bf%d1%80%d0%b5%d0%b4%d1%8b%d0%b4%d1%83%d1%89%d0%b8%d0%b9-%d0%b4%d0%b5%d0%bd%d1%8c-%d0%b2-%d1%81%d1%82-5/
LOCATION:В режиме ВКС
END:VEVENT
BEGIN:VEVENT
DTSTART;TZID=Europe/Moscow:20240523T140000
DTEND;TZID=Europe/Moscow:20240523T170000
DTSTAMP:20260425T205938
CREATED:20240522T092311Z
LAST-MODIFIED:20240522T092311Z
UID:27231-1716472800-1716483600@miac.zdrav76.ru
SUMMARY:РТК. РИС/ЦАМИ
DESCRIPTION:
URL:https://miac.zdrav76.ru/event/%d1%80%d1%82%d0%ba-%d1%80%d0%b8%d1%81-%d1%86%d0%b0%d0%bc%d0%b8-8/
LOCATION:В режиме ВКС
END:VEVENT
BEGIN:VEVENT
DTSTART;TZID=Europe/Moscow:20240523T090000
DTEND;TZID=Europe/Moscow:20240523T093000
DTSTAMP:20260425T205938
CREATED:20240522T092025Z
LAST-MODIFIED:20240522T092025Z
UID:27223-1716454800-1716456600@miac.zdrav76.ru
SUMMARY:Сдача дежурств за предыдущий день в стационаре
DESCRIPTION:
URL:https://miac.zdrav76.ru/event/%d1%81%d0%b4%d0%b0%d1%87%d0%b0-%d0%b4%d0%b5%d0%b6%d1%83%d1%80%d1%81%d1%82%d0%b2-%d0%b7%d0%b0-%d0%bf%d1%80%d0%b5%d0%b4%d1%8b%d0%b4%d1%83%d1%89%d0%b8%d0%b9-%d0%b4%d0%b5%d0%bd%d1%8c-%d0%b2-%d1%81%d1%82-4/
LOCATION:В режиме ВКС
END:VEVENT
BEGIN:VEVENT
DTSTART;TZID=Europe/Moscow:20240522T090000
DTEND;TZID=Europe/Moscow:20240522T093000
DTSTAMP:20260425T205938
CREATED:20240522T091957Z
LAST-MODIFIED:20240522T091957Z
UID:27221-1716368400-1716370200@miac.zdrav76.ru
SUMMARY:Сдача дежурств за предыдущий день в стационаре
DESCRIPTION:
URL:https://miac.zdrav76.ru/event/%d1%81%d0%b4%d0%b0%d1%87%d0%b0-%d0%b4%d0%b5%d0%b6%d1%83%d1%80%d1%81%d1%82%d0%b2-%d0%b7%d0%b0-%d0%bf%d1%80%d0%b5%d0%b4%d1%8b%d0%b4%d1%83%d1%89%d0%b8%d0%b9-%d0%b4%d0%b5%d0%bd%d1%8c-%d0%b2-%d1%81%d1%82-3/
LOCATION:В режиме ВКС
END:VEVENT
BEGIN:VEVENT
DTSTART;TZID=Europe/Moscow:20240521T150000
DTEND;TZID=Europe/Moscow:20240521T170000
DTSTAMP:20260425T205938
CREATED:20240522T092141Z
LAST-MODIFIED:20240522T092141Z
UID:27227-1716303600-1716310800@miac.zdrav76.ru
SUMMARY:Самара. Текущие проекты
DESCRIPTION:
URL:https://miac.zdrav76.ru/event/%d1%81%d0%b0%d0%bc%d0%b0%d1%80%d0%b0-%d1%82%d0%b5%d0%ba%d1%83%d1%89%d0%b8%d0%b5-%d0%bf%d1%80%d0%be%d0%b5%d0%ba%d1%82%d1%8b-20/
LOCATION:В режиме ВКС
END:VEVENT
BEGIN:VEVENT
DTSTART;TZID=Europe/Moscow:20240521T090000
DTEND;TZID=Europe/Moscow:20240521T093000
DTSTAMP:20260425T205938
CREATED:20240522T091934Z
LAST-MODIFIED:20240522T091934Z
UID:27219-1716282000-1716283800@miac.zdrav76.ru
SUMMARY:Сдача дежурств за предыдущий день в стационаре
DESCRIPTION:
URL:https://miac.zdrav76.ru/event/%d1%81%d0%b4%d0%b0%d1%87%d0%b0-%d0%b4%d0%b5%d0%b6%d1%83%d1%80%d1%81%d1%82%d0%b2-%d0%b7%d0%b0-%d0%bf%d1%80%d0%b5%d0%b4%d1%8b%d0%b4%d1%83%d1%89%d0%b8%d0%b9-%d0%b4%d0%b5%d0%bd%d1%8c-%d0%b2-%d1%81%d1%82-2/
LOCATION:В режиме ВКС
END:VEVENT
BEGIN:VEVENT
DTSTART;TZID=Europe/Moscow:20240520T090000
DTEND;TZID=Europe/Moscow:20240520T093000
DTSTAMP:20260425T205938
CREATED:20240522T091829Z
LAST-MODIFIED:20240522T091829Z
UID:27217-1716195600-1716197400@miac.zdrav76.ru
SUMMARY:Сдача дежурств за предыдущий день в стационаре
DESCRIPTION:
URL:https://miac.zdrav76.ru/event/%d1%81%d0%b4%d0%b0%d1%87%d0%b0-%d0%b4%d0%b5%d0%b6%d1%83%d1%80%d1%81%d1%82%d0%b2-%d0%b7%d0%b0-%d0%bf%d1%80%d0%b5%d0%b4%d1%8b%d0%b4%d1%83%d1%89%d0%b8%d0%b9-%d0%b4%d0%b5%d0%bd%d1%8c-%d0%b2-%d1%81%d1%82/
LOCATION:В режиме ВКС
END:VEVENT
BEGIN:VEVENT
DTSTART;TZID=Europe/Moscow:20240517T150000
DTEND;TZID=Europe/Moscow:20240517T163000
DTSTAMP:20260425T205938
CREATED:20240517T045014Z
LAST-MODIFIED:20240517T045014Z
UID:27119-1715958000-1715963400@miac.zdrav76.ru
SUMMARY:1C. ОНКО
DESCRIPTION:
URL:https://miac.zdrav76.ru/event/1c-%d0%be%d0%bd%d0%ba%d0%be/
LOCATION:В режиме ВКС
END:VEVENT
BEGIN:VEVENT
DTSTART;TZID=Europe/Moscow:20240516T140000
DTEND;TZID=Europe/Moscow:20240516T170000
DTSTAMP:20260425T205938
CREATED:20240514T095605Z
LAST-MODIFIED:20240514T095605Z
UID:27019-1715868000-1715878800@miac.zdrav76.ru
SUMMARY:РТК. РИС/ЦАМИ
DESCRIPTION:
URL:https://miac.zdrav76.ru/event/%d1%80%d1%82%d0%ba-%d1%80%d0%b8%d1%81-%d1%86%d0%b0%d0%bc%d0%b8-7/
LOCATION:В режиме ВКС
END:VEVENT
BEGIN:VEVENT
DTSTART;TZID=Europe/Moscow:20240515T110000
DTEND;TZID=Europe/Moscow:20240515T140000
DTSTAMP:20260425T205938
CREATED:20240515T080430Z
LAST-MODIFIED:20240515T080430Z
UID:27053-1715770800-1715781600@miac.zdrav76.ru
SUMMARY:ЦТ. Организационные вопросы
DESCRIPTION:
URL:https://miac.zdrav76.ru/event/%d1%86%d1%82-%d0%be%d1%80%d0%b3%d0%b0%d0%bd%d0%b8%d0%b7%d0%b0%d1%86%d0%b8%d0%be%d0%bd%d0%bd%d1%8b%d0%b5-%d0%b2%d0%be%d0%bf%d1%80%d0%be%d1%81%d1%8b-56/
LOCATION:В режиме ВКС
END:VEVENT
BEGIN:VEVENT
DTSTART;TZID=Europe/Moscow:20240515T102000
DTEND;TZID=Europe/Moscow:20240515T123000
DTSTAMP:20260425T205938
CREATED:20240515T080010Z
LAST-MODIFIED:20240515T080010Z
UID:27051-1715768400-1715776200@miac.zdrav76.ru
SUMMARY:1С. ОНКО
DESCRIPTION:
URL:https://miac.zdrav76.ru/event/1%d1%81-%d0%be%d0%bd%d0%ba%d0%be/
LOCATION:В режиме ВКС
END:VEVENT
BEGIN:VEVENT
DTSTART;TZID=Europe/Moscow:20240514T153000
DTEND;TZID=Europe/Moscow:20240514T170000
DTSTAMP:20260425T205938
CREATED:20240514T095402Z
LAST-MODIFIED:20240514T095402Z
UID:27015-1715700600-1715706000@miac.zdrav76.ru
SUMMARY:Гепатит С
DESCRIPTION:‼️ ‼️ ‼️ Уважаемые руководители ‼️ ‼️ ‼️\n⚡️🔺 СЕГОДНЯ в 15-30 🔺⚡️ состоится совещание под председательством заместителя министра Корзиной Н.С. с главными врачами в режиме видеоконференцсвязи Trueconf.\n✅ Тема: Гепатит С\n✅ Участники:\n1) Областная инфекционная клиническая больница\n2) все МО\, оказывающие первичную медико-санитарную помощь.\n✅ Перед началом ВКС проверить звук и работу камер.\n‼️ ‼️ ‼️ МО не подключающие камеры будет зафиксированы как не явившиеся на ВКС.\n✅ Техническая поддержка: (4852)20-54-09\, support@zdrav.yar.ru.\n✅ Календарь всех проводимых видеоконференций размещен на сайте ГБУЗ ЯО «ЦОЗиМП» https://ocmp.zdrav76.ru/events/
URL:https://miac.zdrav76.ru/event/%d0%b3%d0%b5%d0%bf%d0%b0%d1%82%d0%b8%d1%82-%d1%81/
LOCATION:В режиме ВКС
END:VEVENT
BEGIN:VEVENT
DTSTART;TZID=Europe/Moscow:20240514T150000
DTEND;TZID=Europe/Moscow:20240514T170000
DTSTAMP:20260425T205938
CREATED:20240508T083245Z
LAST-MODIFIED:20240514T095531Z
UID:26945-1715698800-1715706000@miac.zdrav76.ru
SUMMARY:1С. Демонстрация функционала (онкология)
DESCRIPTION:
URL:https://miac.zdrav76.ru/event/%d1%81%d0%b0%d0%bc%d0%b0%d1%80%d0%b0-%d1%80%d0%b0%d0%b1%d0%be%d1%82%d1%8b-%d0%bf%d0%be-%d1%82%d0%b5%d0%ba%d1%83%d1%89%d0%b8%d0%bc-%d0%bf%d1%80%d0%be%d0%b5%d0%ba%d1%82%d0%b0%d0%bc-58/
LOCATION:В режиме ВКС
END:VEVENT
BEGIN:VEVENT
DTSTART;TZID=Europe/Moscow:20240513T150000
DTEND;TZID=Europe/Moscow:20240513T170000
DTSTAMP:20260425T205938
CREATED:20240508T075435Z
LAST-MODIFIED:20240508T075435Z
UID:26938-1715612400-1715619600@miac.zdrav76.ru
SUMMARY:Территориальное планирование
DESCRIPTION:
URL:https://miac.zdrav76.ru/event/%d1%82%d0%b5%d1%80%d1%80%d0%b8%d1%82%d0%be%d1%80%d0%b8%d0%b0%d0%bb%d1%8c%d0%bd%d0%be%d0%b5-%d0%bf%d0%bb%d0%b0%d0%bd%d0%b8%d1%80%d0%be%d0%b2%d0%b0%d0%bd%d0%b8%d0%b5-2/
LOCATION:В режиме ВКС
END:VEVENT
BEGIN:VEVENT
DTSTART;TZID=Europe/Moscow:20240508T110000
DTEND;TZID=Europe/Moscow:20240508T130000
DTSTAMP:20260425T205938
CREATED:20240508T075236Z
LAST-MODIFIED:20240508T075236Z
UID:26932-1715166000-1715173200@miac.zdrav76.ru
SUMMARY:122
DESCRIPTION:
URL:https://miac.zdrav76.ru/event/122/
LOCATION:В режиме ВКС
END:VEVENT
BEGIN:VEVENT
DTSTART;TZID=Europe/Moscow:20240508T103000
DTEND;TZID=Europe/Moscow:20240508T123000
DTSTAMP:20260425T205938
CREATED:20240508T075331Z
LAST-MODIFIED:20240508T075331Z
UID:26936-1715164200-1715171400@miac.zdrav76.ru
SUMMARY:ТЗ . Алтей
DESCRIPTION:
URL:https://miac.zdrav76.ru/event/%d1%82%d0%b7-%d0%b0%d0%bb%d1%82%d0%b5%d0%b9/
LOCATION:В режиме ВКС
END:VEVENT
BEGIN:VEVENT
DTSTART;TZID=Europe/Moscow:20240507T150000
DTEND;TZID=Europe/Moscow:20240507T170000
DTSTAMP:20260425T205938
CREATED:20240503T120435Z
LAST-MODIFIED:20240503T120435Z
UID:26836-1715094000-1715101200@miac.zdrav76.ru
SUMMARY:Самара. Работы по текущим проектам
DESCRIPTION:
URL:https://miac.zdrav76.ru/event/%d1%81%d0%b0%d0%bc%d0%b0%d1%80%d0%b0-%d1%80%d0%b0%d0%b1%d0%be%d1%82%d1%8b-%d0%bf%d0%be-%d1%82%d0%b5%d0%ba%d1%83%d1%89%d0%b8%d0%bc-%d0%bf%d1%80%d0%be%d0%b5%d0%ba%d1%82%d0%b0%d0%bc-57/
LOCATION:В режиме ВКС
END:VEVENT
BEGIN:VEVENT
DTSTART;TZID=Europe/Moscow:20240507T140000
DTEND;TZID=Europe/Moscow:20240507T170000
DTSTAMP:20260425T205938
CREATED:20240508T075304Z
LAST-MODIFIED:20240508T075304Z
UID:26934-1715090400-1715101200@miac.zdrav76.ru
SUMMARY:Территориальное планирование
DESCRIPTION:
URL:https://miac.zdrav76.ru/event/%d1%82%d0%b5%d1%80%d1%80%d0%b8%d1%82%d0%be%d1%80%d0%b8%d0%b0%d0%bb%d1%8c%d0%bd%d0%be%d0%b5-%d0%bf%d0%bb%d0%b0%d0%bd%d0%b8%d1%80%d0%be%d0%b2%d0%b0%d0%bd%d0%b8%d0%b5/
LOCATION:В режиме ВКС
END:VEVENT
BEGIN:VEVENT
DTSTART;TZID=Europe/Moscow:20240506T133000
DTEND;TZID=Europe/Moscow:20240506T163000
DTSTAMP:20260425T205938
CREATED:20240503T120310Z
LAST-MODIFIED:20240503T120310Z
UID:26834-1715002200-1715013000@miac.zdrav76.ru
SUMMARY:ЛЛО
DESCRIPTION:
URL:https://miac.zdrav76.ru/event/%d0%bb%d0%bb%d0%be-10/
LOCATION:В режиме ВКС
END:VEVENT
BEGIN:VEVENT
DTSTART;TZID=Europe/Moscow:20240506T090000
DTEND;TZID=Europe/Moscow:20240506T110000
DTSTAMP:20260425T205938
CREATED:20240503T120226Z
LAST-MODIFIED:20240503T120226Z
UID:26832-1714986000-1714993200@miac.zdrav76.ru
SUMMARY:Работа с пациентами\, страдающими Гепатит С
DESCRIPTION:
URL:https://miac.zdrav76.ru/event/%d1%80%d0%b0%d0%b1%d0%be%d1%82%d0%b0-%d1%81-%d0%bf%d0%b0%d1%86%d0%b8%d0%b5%d0%bd%d1%82%d0%b0%d0%bc%d0%b8-%d1%81%d1%82%d1%80%d0%b0%d0%b4%d0%b0%d1%8e%d1%89%d0%b8%d0%bc%d0%b8-%d0%b3%d0%b5%d0%bf%d0%b0/
END:VEVENT
BEGIN:VEVENT
DTSTART;TZID=Europe/Moscow:20240503T155000
DTEND;TZID=Europe/Moscow:20240503T170000
DTSTAMP:20260425T205938
CREATED:20240503T075123Z
LAST-MODIFIED:20240503T122726Z
UID:26827-1714751400-1714755600@miac.zdrav76.ru
SUMMARY:Внесение данных по зданиям в ФРМО.
DESCRIPTION:‼️Уважаемые руководители МО\, участвующие в реализации программы «Модернизация первичного звена здравоохранения!‼️\n⚡️🔺 Сегодня 3 мая (пятница) в 15-00 🔺⚡️ состоится совещание под руководством министра здравоохранения С.В.Луганского по вопросу исполнения письма МЗ ЯО №ИХ.19-2348/2024 от 24.04.2024. в режиме видеоконференцсвязи Trueconf.\n✅ Тема: Внесение данных по зданиям в ФРМО.\n✅ Участники: Главные врачи и лица ответственные за внесение данных в ФРМО.\nРуководителям быть готовым к докладу по теме совещания.\n✅ Перед началом ВКС проверить звук и работу камер. ‼️ ‼️ ‼️ МО не подключающие камеры будет зафиксированы как не явившиеся на ВКС.\n✅ Техническая поддержка: (4852)20-54-09\, support@zdrav76.ru\n✅ Календарь всех проводимых видеоконференций размещен на сайте ГБУЗ ЯО «ЦОЗ и МП» https://ocmp.zdrav76.ru/events/
URL:https://miac.zdrav76.ru/event/%d0%b2%d0%bd%d0%b5%d1%81%d0%b5%d0%bd%d0%b8%d0%b5-%d0%b4%d0%b0%d0%bd%d0%bd%d1%8b%d1%85-%d0%bf%d0%be-%d0%b7%d0%b4%d0%b0%d0%bd%d0%b8%d1%8f%d0%bc-%d0%b2-%d1%84%d1%80%d0%bc%d0%be/
LOCATION:В режиме ВКС
END:VEVENT
BEGIN:VEVENT
DTSTART;TZID=Europe/Moscow:20240502T140000
DTEND;TZID=Europe/Moscow:20240502T150000
DTSTAMP:20260425T205938
CREATED:20240426T132542Z
LAST-MODIFIED:20240426T132542Z
UID:26770-1714658400-1714662000@miac.zdrav76.ru
SUMMARY:Льготное лекарственное обеспечение
DESCRIPTION:
URL:https://miac.zdrav76.ru/event/%d0%bb%d1%8c%d0%b3%d0%be%d1%82%d0%bd%d0%be%d0%b5-%d0%bb%d0%b5%d0%ba%d0%b0%d1%80%d1%81%d1%82%d0%b2%d0%b5%d0%bd%d0%bd%d0%be%d0%b5-%d0%be%d0%b1%d0%b5%d1%81%d0%bf%d0%b5%d1%87%d0%b5%d0%bd%d0%b8%d0%b5-3/
LOCATION:В режиме ВКС
END:VEVENT
BEGIN:VEVENT
DTSTART;TZID=Europe/Moscow:20240427T120000
DTEND;TZID=Europe/Moscow:20240427T130000
DTSTAMP:20260425T205938
CREATED:20240427T113815Z
LAST-MODIFIED:20240427T113815Z
UID:26824-1714219200-1714222800@miac.zdrav76.ru
SUMMARY:Медицинские книжки
DESCRIPTION:
URL:https://miac.zdrav76.ru/event/%d0%bc%d0%b5%d0%b4%d0%b8%d1%86%d0%b8%d0%bd%d1%81%d0%ba%d0%b8%d0%b5-%d0%ba%d0%bd%d0%b8%d0%b6%d0%ba%d0%b8-2/
LOCATION:В режиме ВКС
END:VEVENT
BEGIN:VEVENT
DTSTART;TZID=Europe/Moscow:20240425T140000
DTEND;TZID=Europe/Moscow:20240425T170000
DTSTAMP:20260425T205938
CREATED:20240423T113123Z
LAST-MODIFIED:20240423T113123Z
UID:26662-1714053600-1714064400@miac.zdrav76.ru
SUMMARY:РТК. РИС/ЦАМИ
DESCRIPTION:
URL:https://miac.zdrav76.ru/event/%d1%80%d1%82%d0%ba-%d1%80%d0%b8%d1%81-%d1%86%d0%b0%d0%bc%d0%b8-6/
LOCATION:В режиме ВКС
END:VEVENT
BEGIN:VEVENT
DTSTART;TZID=Europe/Moscow:20240425T100000
DTEND;TZID=Europe/Moscow:20240425T120000
DTSTAMP:20260425T205938
CREATED:20240425T065540Z
LAST-MODIFIED:20240425T065540Z
UID:26729-1714039200-1714046400@miac.zdrav76.ru
SUMMARY:Врачи стажёры
DESCRIPTION:
URL:https://miac.zdrav76.ru/event/%d0%b2%d1%80%d0%b0%d1%87%d0%b8-%d1%81%d1%82%d0%b0%d0%b6%d1%91%d1%80%d1%8b/
LOCATION:В режиме ВКС
END:VEVENT
BEGIN:VEVENT
DTSTART;TZID=Europe/Moscow:20240424T093000
DTEND;TZID=Europe/Moscow:20240424T113000
DTSTAMP:20260425T205938
CREATED:20240423T113010Z
LAST-MODIFIED:20240423T113010Z
UID:26660-1713951000-1713958200@miac.zdrav76.ru
SUMMARY:ЛЛО\, ВЗН
DESCRIPTION:
URL:https://miac.zdrav76.ru/event/%d0%bb%d0%bb%d0%be-%d0%b2%d0%b7%d0%bd/
LOCATION:В режиме ВКС
END:VEVENT
BEGIN:VEVENT
DTSTART;TZID=Europe/Moscow:20240423T150000
DTEND;TZID=Europe/Moscow:20240423T170000
DTSTAMP:20260425T205938
CREATED:20240422T115023Z
LAST-MODIFIED:20240422T115023Z
UID:26633-1713884400-1713891600@miac.zdrav76.ru
SUMMARY:Самара. Работы по текущим проектам
DESCRIPTION:
URL:https://miac.zdrav76.ru/event/%d1%81%d0%b0%d0%bc%d0%b0%d1%80%d0%b0-%d1%80%d0%b0%d0%b1%d0%be%d1%82%d1%8b-%d0%bf%d0%be-%d1%82%d0%b5%d0%ba%d1%83%d1%89%d0%b8%d0%bc-%d0%bf%d1%80%d0%be%d0%b5%d0%ba%d1%82%d0%b0%d0%bc-56/
LOCATION:В режиме ВКС
END:VEVENT
BEGIN:VEVENT
DTSTART;TZID=Europe/Moscow:20240422T150000
DTEND;TZID=Europe/Moscow:20240422T170000
DTSTAMP:20260425T205938
CREATED:20240422T114944Z
LAST-MODIFIED:20240422T114944Z
UID:26631-1713798000-1713805200@miac.zdrav76.ru
SUMMARY:Медицинское освидетельствование иностранных граждан
DESCRIPTION:
URL:https://miac.zdrav76.ru/event/%d0%bc%d0%b5%d0%b4%d0%b8%d1%86%d0%b8%d0%bd%d1%81%d0%ba%d0%be%d0%b5-%d0%be%d1%81%d0%b2%d0%b8%d0%b4%d0%b5%d1%82%d0%b5%d0%bb%d1%8c%d1%81%d1%82%d0%b2%d0%be%d0%b2%d0%b0%d0%bd%d0%b8%d0%b5-%d0%b8%d0%bd%d0%be/
LOCATION:В режиме ВКС
END:VEVENT
BEGIN:VEVENT
DTSTART;TZID=Europe/Moscow:20240419T134500
DTEND;TZID=Europe/Moscow:20240419T150000
DTSTAMP:20260425T205938
CREATED:20240419T103216Z
LAST-MODIFIED:20240419T103216Z
UID:26602-1713534300-1713538800@miac.zdrav76.ru
SUMMARY:Подготовка отчетности
DESCRIPTION:
URL:https://miac.zdrav76.ru/event/%d0%bf%d0%be%d0%b4%d0%b3%d0%be%d1%82%d0%be%d0%b2%d0%ba%d0%b0-%d0%be%d1%82%d1%87%d0%b5%d1%82%d0%bd%d0%be%d1%81%d1%82%d0%b8/
LOCATION:В режиме ВКС
CATEGORIES:ДЗиФ
END:VEVENT
BEGIN:VEVENT
DTSTART;TZID=Europe/Moscow:20240418T164500
DTEND;TZID=Europe/Moscow:20240418T173000
DTSTAMP:20260425T205938
CREATED:20240418T115830Z
LAST-MODIFIED:20240418T120343Z
UID:26569-1713458700-1713461400@miac.zdrav76.ru
SUMMARY:Заполнение приложенных таблиц
DESCRIPTION:
URL:https://miac.zdrav76.ru/event/%d0%b7%d0%b0%d0%bf%d0%be%d0%bb%d0%bd%d0%b5%d0%bd%d0%b8%d0%b5-%d0%bf%d1%80%d0%b8%d0%bb%d0%be%d0%b6%d0%b5%d0%bd%d0%bd%d1%8b%d1%85-%d1%82%d0%b0%d0%b1%d0%bb%d0%b8%d1%86/
LOCATION:В режиме ВКС
END:VEVENT
END:VCALENDAR