BEGIN:VCALENDAR
VERSION:2.0
PRODID:-//ГБУЗ ЯО &quot;Медицинский информационно-аналитический центр&quot; - ECPv6.15.17.1//NONSGML v1.0//EN
CALSCALE:GREGORIAN
METHOD:PUBLISH
X-ORIGINAL-URL:https://miac.zdrav76.ru
X-WR-CALDESC:Мероприятия для ГБУЗ ЯО &quot;Медицинский информационно-аналитический центр&quot;
REFRESH-INTERVAL;VALUE=DURATION:PT1H
X-Robots-Tag:noindex
X-PUBLISHED-TTL:PT1H
BEGIN:VTIMEZONE
TZID:Europe/Moscow
BEGIN:STANDARD
TZOFFSETFROM:+0300
TZOFFSETTO:+0300
TZNAME:MSK
DTSTART:20230101T000000
END:STANDARD
END:VTIMEZONE
BEGIN:VEVENT
DTSTART;TZID=Europe/Moscow:20240910T150000
DTEND;TZID=Europe/Moscow:20240910T163000
DTSTAMP:20260425T152348
CREATED:20240903T052420Z
LAST-MODIFIED:20240903T052420Z
UID:29337-1725980400-1725985800@miac.zdrav76.ru
SUMMARY:Самара. Текущие проекты
DESCRIPTION:
URL:https://miac.zdrav76.ru/event/%d0%a1%d0%b0%d0%bc%d0%b0%d1%80%d0%b0-%d0%a2%d0%b5%d0%ba%d1%83%d1%89%d0%b8%d0%b5-%d0%bf%d1%80%d0%be%d0%b5%d0%ba%d1%82%d1%8b-8/
END:VEVENT
BEGIN:VEVENT
DTSTART;TZID=Europe/Moscow:20240911T090000
DTEND;TZID=Europe/Moscow:20240911T093000
DTSTAMP:20260425T152348
CREATED:20240903T052210Z
LAST-MODIFIED:20240903T052210Z
UID:29330-1726045200-1726047000@miac.zdrav76.ru
SUMMARY:Сдача дежурств за предыдущий день в стационаре
DESCRIPTION:
URL:https://miac.zdrav76.ru/event/%d0%a1%d0%b4%d0%b0%d1%87%d0%b0-%d0%b4%d0%b5%d0%b6%d1%83%d1%80%d1%81%d1%82%d0%b2-%d0%b7%d0%b0-%d0%bf%d1%80%d0%b5%d0%b4%d1%8b%d0%b4%d1%83%d1%89%d0%b8%d0%b9-%d0%b4%d0%b5%d0%bd%d1%8c-%d0%b2-%d1%81-38/
END:VEVENT
BEGIN:VEVENT
DTSTART;TZID=Europe/Moscow:20240911T130000
DTEND;TZID=Europe/Moscow:20240911T150000
DTSTAMP:20260425T152348
CREATED:20240911T081917Z
LAST-MODIFIED:20240911T081917Z
UID:29561-1726059600-1726066800@miac.zdrav76.ru
SUMMARY:Функционал РИС (радиологическая информационная система). Локальный просмотровщик
DESCRIPTION:
URL:https://miac.zdrav76.ru/event/%d0%a4%d1%83%d0%bd%d0%ba%d1%86%d0%b8%d0%be%d0%bd%d0%b0%d0%bb-%d0%a0%d0%98%d0%a1-%d1%80%d0%b0%d0%b4%d0%b8%d0%be%d0%bb%d0%be%d0%b3%d0%b8%d1%87%d0%b5%d1%81%d0%ba%d0%b0%d1%8f-%d0%b8%d0%bd%d1%84%d0%be/
LOCATION:В режиме ВКС
END:VEVENT
BEGIN:VEVENT
DTSTART;TZID=Europe/Moscow:20240912T093000
DTEND;TZID=Europe/Moscow:20240912T093000
DTSTAMP:20260425T152348
CREATED:20240903T052259Z
LAST-MODIFIED:20240903T052259Z
UID:29332-1726133400-1726133400@miac.zdrav76.ru
SUMMARY:Сдача дежурств за предыдущий день в стационаре
DESCRIPTION:
URL:https://miac.zdrav76.ru/event/%d0%a1%d0%b4%d0%b0%d1%87%d0%b0-%d0%b4%d0%b5%d0%b6%d1%83%d1%80%d1%81%d1%82%d0%b2-%d0%b7%d0%b0-%d0%bf%d1%80%d0%b5%d0%b4%d1%8b%d0%b4%d1%83%d1%89%d0%b8%d0%b9-%d0%b4%d0%b5%d0%bd%d1%8c-%d0%b2-%d1%81-39/
END:VEVENT
BEGIN:VEVENT
DTSTART;TZID=Europe/Moscow:20240912T130000
DTEND;TZID=Europe/Moscow:20240912T140000
DTSTAMP:20260425T152348
CREATED:20240912T050418Z
LAST-MODIFIED:20240912T050418Z
UID:29581-1726146000-1726149600@miac.zdrav76.ru
SUMMARY:АКРОСС
DESCRIPTION:
URL:https://miac.zdrav76.ru/event/%d0%90%d0%9a%d0%a0%d0%9e%d0%a1%d0%a1/
LOCATION:В режиме ВКС
END:VEVENT
BEGIN:VEVENT
DTSTART;TZID=Europe/Moscow:20240912T140000
DTEND;TZID=Europe/Moscow:20240912T153000
DTSTAMP:20260425T152348
CREATED:20240903T052513Z
LAST-MODIFIED:20240903T052513Z
UID:29339-1726149600-1726155000@miac.zdrav76.ru
SUMMARY:РТК. РИС/ЦАМИ\, СМП
DESCRIPTION:
URL:https://miac.zdrav76.ru/event/%d0%a0%d0%a2%d0%9a-%d0%a0%d0%98%d0%a1-%d0%a6%d0%90%d0%9c%d0%98-%d0%a1%d0%9c%d0%9f-8/
END:VEVENT
BEGIN:VEVENT
DTSTART;TZID=Europe/Moscow:20240913T090000
DTEND;TZID=Europe/Moscow:20240913T093000
DTSTAMP:20260425T152348
CREATED:20240903T052326Z
LAST-MODIFIED:20240903T052326Z
UID:29334-1726218000-1726219800@miac.zdrav76.ru
SUMMARY:Сдача дежурств за предыдущий день в стационаре
DESCRIPTION:
URL:https://miac.zdrav76.ru/event/%d0%a1%d0%b4%d0%b0%d1%87%d0%b0-%d0%b4%d0%b5%d0%b6%d1%83%d1%80%d1%81%d1%82%d0%b2-%d0%b7%d0%b0-%d0%bf%d1%80%d0%b5%d0%b4%d1%8b%d0%b4%d1%83%d1%89%d0%b8%d0%b9-%d0%b4%d0%b5%d0%bd%d1%8c-%d0%b2-%d1%81-40/
END:VEVENT
BEGIN:VEVENT
DTSTART;TZID=Europe/Moscow:20240913T100000
DTEND;TZID=Europe/Moscow:20240913T110000
DTSTAMP:20260425T152348
CREATED:20240912T121456Z
LAST-MODIFIED:20240912T121456Z
UID:29583-1726221600-1726225200@miac.zdrav76.ru
SUMMARY:Льготное лекарственное обеспечение
DESCRIPTION:
URL:https://miac.zdrav76.ru/event/%d0%9b%d1%8c%d0%b3%d0%be%d1%82%d0%bd%d0%be%d0%b5-%d0%bb%d0%b5%d0%ba%d0%b0%d1%80%d1%81%d1%82%d0%b2%d0%b5%d0%bd%d0%bd%d0%be%d0%b5-%d0%be%d0%b1%d0%b5%d1%81%d0%bf%d0%b5%d1%87%d0%b5%d0%bd%d0%b8%d0%b5/
END:VEVENT
BEGIN:VEVENT
DTSTART;TZID=Europe/Moscow:20240913T110000
DTEND;TZID=Europe/Moscow:20240913T133000
DTSTAMP:20260425T152348
CREATED:20240913T050437Z
LAST-MODIFIED:20240913T050437Z
UID:29591-1726225200-1726234200@miac.zdrav76.ru
SUMMARY:Интеграция РИС/ЦАМИ  и 1С
DESCRIPTION:
URL:https://miac.zdrav76.ru/event/%d0%98%d0%bd%d1%82%d0%b5%d0%b3%d1%80%d0%b0%d1%86%d0%b8%d1%8f-%d0%a0%d0%98%d0%a1-%d0%a6%d0%90%d0%9c%d0%98-%d0%b8-1%d0%a1/
LOCATION:В режиме ВКС
END:VEVENT
BEGIN:VEVENT
DTSTART;TZID=Europe/Moscow:20240913T120000
DTEND;TZID=Europe/Moscow:20240913T130000
DTSTAMP:20260425T152348
CREATED:20240906T094709Z
LAST-MODIFIED:20240906T094709Z
UID:29422-1726228800-1726232400@miac.zdrav76.ru
SUMMARY:Рабочее совещание с ЦАОП ЯО
DESCRIPTION:
URL:https://miac.zdrav76.ru/event/%d0%a0%d0%b0%d0%b1%d0%be%d1%87%d0%b5%d0%b5-%d1%81%d0%be%d0%b2%d0%b5%d1%89%d0%b0%d0%bd%d0%b8%d0%b5-%d1%81-%d0%a6%d0%90%d0%9e%d0%9f-%d0%af%d0%9e-4/
END:VEVENT
BEGIN:VEVENT
DTSTART;TZID=Europe/Moscow:20240916T090000
DTEND;TZID=Europe/Moscow:20240916T093000
DTSTAMP:20260425T152348
CREATED:20240911T082042Z
LAST-MODIFIED:20240911T082042Z
UID:29563-1726477200-1726479000@miac.zdrav76.ru
SUMMARY:Сдача дежурств за предыдущий день в стационаре
DESCRIPTION:
URL:https://miac.zdrav76.ru/event/%d0%a1%d0%b4%d0%b0%d1%87%d0%b0-%d0%b4%d0%b5%d0%b6%d1%83%d1%80%d1%81%d1%82%d0%b2-%d0%b7%d0%b0-%d0%bf%d1%80%d0%b5%d0%b4%d1%8b%d0%b4%d1%83%d1%89%d0%b8%d0%b9-%d0%b4%d0%b5%d0%bd%d1%8c-%d0%b2-%d1%81-41/
END:VEVENT
BEGIN:VEVENT
DTSTART;TZID=Europe/Moscow:20240916T130000
DTEND;TZID=Europe/Moscow:20240916T140000
DTSTAMP:20260425T152348
CREATED:20240916T100746Z
LAST-MODIFIED:20240916T100746Z
UID:29611-1726491600-1726495200@miac.zdrav76.ru
SUMMARY:Интеграция РИС/ЦАМИ и 1С на примерах ОНКО\, РГБ-1
DESCRIPTION:
URL:https://miac.zdrav76.ru/event/%d0%98%d0%bd%d1%82%d0%b5%d0%b3%d1%80%d0%b0%d1%86%d0%b8%d1%8f-%d0%a0%d0%98%d0%a1-%d0%a6%d0%90%d0%9c%d0%98-%d0%b8-1%d0%a1-%d0%bd%d0%b0-%d0%bf%d1%80%d0%b8%d0%bc%d0%b5%d1%80%d0%b0%d1%85-%d0%9e%d0%9d%d0%9a/
LOCATION:В режиме ВКС
END:VEVENT
BEGIN:VEVENT
DTSTART;TZID=Europe/Moscow:20240917T090000
DTEND;TZID=Europe/Moscow:20240917T093000
DTSTAMP:20260425T152348
CREATED:20240911T082117Z
LAST-MODIFIED:20240911T082117Z
UID:29565-1726563600-1726565400@miac.zdrav76.ru
SUMMARY:Сдача дежурств за предыдущий день в стационаре
DESCRIPTION:
URL:https://miac.zdrav76.ru/event/%d0%a1%d0%b4%d0%b0%d1%87%d0%b0-%d0%b4%d0%b5%d0%b6%d1%83%d1%80%d1%81%d1%82%d0%b2-%d0%b7%d0%b0-%d0%bf%d1%80%d0%b5%d0%b4%d1%8b%d0%b4%d1%83%d1%89%d0%b8%d0%b9-%d0%b4%d0%b5%d0%bd%d1%8c-%d0%b2-%d1%81-42/
END:VEVENT
BEGIN:VEVENT
DTSTART;TZID=Europe/Moscow:20240917T130000
DTEND;TZID=Europe/Moscow:20240917T140000
DTSTAMP:20260425T152348
CREATED:20240911T082348Z
LAST-MODIFIED:20240911T082348Z
UID:29573-1726578000-1726581600@miac.zdrav76.ru
SUMMARY:Организационное совещание по проекту “Наставничество” с главными внештатными специалистами МЗ ЯО
DESCRIPTION:
URL:https://miac.zdrav76.ru/event/%d0%9e%d1%80%d0%b3%d0%b0%d0%bd%d0%b8%d0%b7%d0%b0%d1%86%d0%b8%d0%be%d0%bd%d0%bd%d0%be%d0%b5-%d1%81%d0%be%d0%b2%d0%b5%d1%89%d0%b0%d0%bd%d0%b8%d0%b5-%d0%bf%d0%be-%d0%bf%d1%80%d0%be%d0%b5%d0%ba%d1%82-4/
END:VEVENT
BEGIN:VEVENT
DTSTART;TZID=Europe/Moscow:20240917T150000
DTEND;TZID=Europe/Moscow:20240917T163000
DTSTAMP:20260425T152348
CREATED:20240911T082504Z
LAST-MODIFIED:20240911T082504Z
UID:29575-1726585200-1726590600@miac.zdrav76.ru
SUMMARY:Самара. Текущие проекты
DESCRIPTION:
URL:https://miac.zdrav76.ru/event/%d0%a1%d0%b0%d0%bc%d0%b0%d1%80%d0%b0-%d0%a2%d0%b5%d0%ba%d1%83%d1%89%d0%b8%d0%b5-%d0%bf%d1%80%d0%be%d0%b5%d0%ba%d1%82%d1%8b-9/
END:VEVENT
BEGIN:VEVENT
DTSTART;TZID=Europe/Moscow:20240918T090000
DTEND;TZID=Europe/Moscow:20240918T093000
DTSTAMP:20260425T152348
CREATED:20240911T082151Z
LAST-MODIFIED:20240911T082151Z
UID:29567-1726650000-1726651800@miac.zdrav76.ru
SUMMARY:Сдача дежурств за предыдущий день в стационаре
DESCRIPTION:
URL:https://miac.zdrav76.ru/event/%d0%a1%d0%b4%d0%b0%d1%87%d0%b0-%d0%b4%d0%b5%d0%b6%d1%83%d1%80%d1%81%d1%82%d0%b2-%d0%b7%d0%b0-%d0%bf%d1%80%d0%b5%d0%b4%d1%8b%d0%b4%d1%83%d1%89%d0%b8%d0%b9-%d0%b4%d0%b5%d0%bd%d1%8c-%d0%b2-%d1%81-43/
END:VEVENT
BEGIN:VEVENT
DTSTART;TZID=Europe/Moscow:20240919T090000
DTEND;TZID=Europe/Moscow:20240919T093000
DTSTAMP:20260425T152348
CREATED:20240911T082223Z
LAST-MODIFIED:20240911T082223Z
UID:29569-1726736400-1726738200@miac.zdrav76.ru
SUMMARY:Сдача дежурств за предыдущий день в стационаре
DESCRIPTION:
URL:https://miac.zdrav76.ru/event/%d0%a1%d0%b4%d0%b0%d1%87%d0%b0-%d0%b4%d0%b5%d0%b6%d1%83%d1%80%d1%81%d1%82%d0%b2-%d0%b7%d0%b0-%d0%bf%d1%80%d0%b5%d0%b4%d1%8b%d0%b4%d1%83%d1%89%d0%b8%d0%b9-%d0%b4%d0%b5%d0%bd%d1%8c-%d0%b2-%d1%81-44/
END:VEVENT
BEGIN:VEVENT
DTSTART;TZID=Europe/Moscow:20240919T130000
DTEND;TZID=Europe/Moscow:20240919T140000
DTSTAMP:20260425T152348
CREATED:20240919T125715Z
LAST-MODIFIED:20240919T125715Z
UID:29620-1726750800-1726754400@miac.zdrav76.ru
SUMMARY:Перенос данных ОНКО (Элкор->1С)
DESCRIPTION:
URL:https://miac.zdrav76.ru/event/%d0%9f%d0%b5%d1%80%d0%b5%d0%bd%d0%be%d1%81-%d0%b4%d0%b0%d0%bd%d0%bd%d1%8b%d1%85-%d0%9e%d0%9d%d0%9a%d0%9e-%d0%ad%d0%bb%d0%ba%d0%be%d1%80-1%d0%a1/
LOCATION:В режиме ВКС
END:VEVENT
BEGIN:VEVENT
DTSTART;TZID=Europe/Moscow:20240919T140000
DTEND;TZID=Europe/Moscow:20240919T150000
DTSTAMP:20260425T152348
CREATED:20240919T125614Z
LAST-MODIFIED:20240919T125614Z
UID:29618-1726754400-1726758000@miac.zdrav76.ru
SUMMARY:Ожирение
DESCRIPTION:
URL:https://miac.zdrav76.ru/event/%d0%9e%d0%b6%d0%b8%d1%80%d0%b5%d0%bd%d0%b8%d0%b5/
LOCATION:В режиме ВКС
END:VEVENT
BEGIN:VEVENT
DTSTART;TZID=Europe/Moscow:20240919T140000
DTEND;TZID=Europe/Moscow:20240919T153000
DTSTAMP:20260425T152348
CREATED:20240911T082610Z
LAST-MODIFIED:20240911T082610Z
UID:29577-1726754400-1726759800@miac.zdrav76.ru
SUMMARY:РТК. РИС/ЦАМИ\, СМП
DESCRIPTION:
URL:https://miac.zdrav76.ru/event/%d0%a0%d0%a2%d0%9a-%d0%a0%d0%98%d0%a1-%d0%a6%d0%90%d0%9c%d0%98-%d0%a1%d0%9c%d0%9f-9/
END:VEVENT
BEGIN:VEVENT
DTSTART;TZID=Europe/Moscow:20240920T090000
DTEND;TZID=Europe/Moscow:20240920T093000
DTSTAMP:20260425T152348
CREATED:20240911T082250Z
LAST-MODIFIED:20240911T082250Z
UID:29571-1726822800-1726824600@miac.zdrav76.ru
SUMMARY:Сдача дежурств за предыдущий день в стационаре
DESCRIPTION:
URL:https://miac.zdrav76.ru/event/%d0%a1%d0%b4%d0%b0%d1%87%d0%b0-%d0%b4%d0%b5%d0%b6%d1%83%d1%80%d1%81%d1%82%d0%b2-%d0%b7%d0%b0-%d0%bf%d1%80%d0%b5%d0%b4%d1%8b%d0%b4%d1%83%d1%89%d0%b8%d0%b9-%d0%b4%d0%b5%d0%bd%d1%8c-%d0%b2-%d1%81-45/
END:VEVENT
BEGIN:VEVENT
DTSTART;TZID=Europe/Moscow:20240920T120000
DTEND;TZID=Europe/Moscow:20240920T130000
DTSTAMP:20260425T152348
CREATED:20240911T082709Z
LAST-MODIFIED:20240911T082709Z
UID:29579-1726833600-1726837200@miac.zdrav76.ru
SUMMARY:Рабочее совещание с ЦАОП ЯО
DESCRIPTION:
URL:https://miac.zdrav76.ru/event/%d0%a0%d0%b0%d0%b1%d0%be%d1%87%d0%b5%d0%b5-%d1%81%d0%be%d0%b2%d0%b5%d1%89%d0%b0%d0%bd%d0%b8%d0%b5-%d1%81-%d0%a6%d0%90%d0%9e%d0%9f-%d0%af%d0%9e-5/
END:VEVENT
BEGIN:VEVENT
DTSTART;TZID=Europe/Moscow:20240923T090000
DTEND;TZID=Europe/Moscow:20240923T093000
DTSTAMP:20260425T152348
CREATED:20240916T094901Z
LAST-MODIFIED:20240916T094901Z
UID:29593-1727082000-1727083800@miac.zdrav76.ru
SUMMARY:Сдача дежурств за предыдущий день в стационаре
DESCRIPTION:
URL:https://miac.zdrav76.ru/event/%d0%a1%d0%b4%d0%b0%d1%87%d0%b0-%d0%b4%d0%b5%d0%b6%d1%83%d1%80%d1%81%d1%82%d0%b2-%d0%b7%d0%b0-%d0%bf%d1%80%d0%b5%d0%b4%d1%8b%d0%b4%d1%83%d1%89%d0%b8%d0%b9-%d0%b4%d0%b5%d0%bd%d1%8c-%d0%b2-%d1%81-46/
END:VEVENT
BEGIN:VEVENT
DTSTART;TZID=Europe/Moscow:20240923T140000
DTEND;TZID=Europe/Moscow:20240923T150000
DTSTAMP:20260425T152348
CREATED:20240923T064530Z
LAST-MODIFIED:20240923T064627Z
UID:29665-1727100000-1727103600@miac.zdrav76.ru
SUMMARY:1С Поликлиника.  Готовность к переходу
DESCRIPTION:
URL:https://miac.zdrav76.ru/event/1%d0%a1-%d0%9f%d0%be%d0%bb%d0%b8%d0%ba%d0%bb%d0%b8%d0%bd%d0%b8%d0%ba%d0%b0-%d0%93%d0%be%d1%82%d0%be%d0%b2%d0%bd%d0%be%d1%81%d1%82%d1%8c-%d0%ba-%d0%bf%d0%b5%d1%80%d0%b5%d1%85%d0%be%d0%b4%d1%83/
LOCATION:В режиме ВКС
END:VEVENT
BEGIN:VEVENT
DTSTART;TZID=Europe/Moscow:20240923T150000
DTEND;TZID=Europe/Moscow:20240923T160000
DTSTAMP:20260425T152348
CREATED:20240923T064652Z
LAST-MODIFIED:20240923T064652Z
UID:29667-1727103600-1727107200@miac.zdrav76.ru
SUMMARY:1С Поликлиника. Показ  итогового функционала
DESCRIPTION:
URL:https://miac.zdrav76.ru/event/1%d0%a1-%d0%9f%d0%be%d0%bb%d0%b8%d0%ba%d0%bb%d0%b8%d0%bd%d0%b8%d0%ba%d0%b0-%d0%9f%d0%be%d0%ba%d0%b0%d0%b7-%d0%b8%d1%82%d0%be%d0%b3%d0%be%d0%b2%d0%be%d0%b3%d0%be-%d1%84%d1%83%d0%bd%d0%ba%d1%86%d0%b8/
LOCATION:В режиме ВКС
END:VEVENT
BEGIN:VEVENT
DTSTART;TZID=Europe/Moscow:20240924T090000
DTEND;TZID=Europe/Moscow:20240924T093000
DTSTAMP:20260425T152348
CREATED:20240916T094937Z
LAST-MODIFIED:20240916T094937Z
UID:29595-1727168400-1727170200@miac.zdrav76.ru
SUMMARY:Сдача дежурств за предыдущий день в стационаре
DESCRIPTION:
URL:https://miac.zdrav76.ru/event/%d0%a1%d0%b4%d0%b0%d1%87%d0%b0-%d0%b4%d0%b5%d0%b6%d1%83%d1%80%d1%81%d1%82%d0%b2-%d0%b7%d0%b0-%d0%bf%d1%80%d0%b5%d0%b4%d1%8b%d0%b4%d1%83%d1%89%d0%b8%d0%b9-%d0%b4%d0%b5%d0%bd%d1%8c-%d0%b2-%d1%81-47/
END:VEVENT
BEGIN:VEVENT
DTSTART;TZID=Europe/Moscow:20240924T130000
DTEND;TZID=Europe/Moscow:20240924T140000
DTSTAMP:20260425T152348
CREATED:20240916T095242Z
LAST-MODIFIED:20240916T095242Z
UID:29603-1727182800-1727186400@miac.zdrav76.ru
SUMMARY:Организационное совещание по проекту “Наставничество” с главными внештатными специалистами МЗ ЯО
DESCRIPTION:
URL:https://miac.zdrav76.ru/event/%d0%9e%d1%80%d0%b3%d0%b0%d0%bd%d0%b8%d0%b7%d0%b0%d1%86%d0%b8%d0%be%d0%bd%d0%bd%d0%be%d0%b5-%d1%81%d0%be%d0%b2%d0%b5%d1%89%d0%b0%d0%bd%d0%b8%d0%b5-%d0%bf%d0%be-%d0%bf%d1%80%d0%be%d0%b5%d0%ba%d1%82-5/
END:VEVENT
BEGIN:VEVENT
DTSTART;TZID=Europe/Moscow:20240924T130000
DTEND;TZID=Europe/Moscow:20240924T140000
DTSTAMP:20260425T152348
CREATED:20240924T121320Z
LAST-MODIFIED:20240924T121320Z
UID:29697-1727182800-1727186400@miac.zdrav76.ru
SUMMARY:МЗ ЯО. КИИ»
DESCRIPTION:
URL:https://miac.zdrav76.ru/event/%d0%9c%d0%97-%d0%af%d0%9e-%d0%9a%d0%98%d0%98/
LOCATION:В режиме ВКС
END:VEVENT
BEGIN:VEVENT
DTSTART;TZID=Europe/Moscow:20240924T140000
DTEND;TZID=Europe/Moscow:20240924T153000
DTSTAMP:20260425T152348
CREATED:20240924T050312Z
LAST-MODIFIED:20240924T050312Z
UID:29673-1727186400-1727191800@miac.zdrav76.ru
SUMMARY:1С Поликлиника. Показ итогового функционала
DESCRIPTION:
URL:https://miac.zdrav76.ru/event/1%d0%a1-%d0%9f%d0%be%d0%bb%d0%b8%d0%ba%d0%bb%d0%b8%d0%bd%d0%b8%d0%ba%d0%b0-%d0%9f%d0%be%d0%ba%d0%b0%d0%b7-%d0%b8%d1%82%d0%be%d0%b3%d0%be%d0%b2%d0%be%d0%b3%d0%be-%d1%84%d1%83%d0%bd%d0%ba%d1%86%d0%b8-2/
LOCATION:В режиме ВКС
END:VEVENT
BEGIN:VEVENT
DTSTART;TZID=Europe/Moscow:20240924T150000
DTEND;TZID=Europe/Moscow:20240924T163000
DTSTAMP:20260425T152348
CREATED:20240916T095340Z
LAST-MODIFIED:20240916T095340Z
UID:29605-1727190000-1727195400@miac.zdrav76.ru
SUMMARY:Самара. Текущие проекты
DESCRIPTION:
URL:https://miac.zdrav76.ru/event/%d0%a1%d0%b0%d0%bc%d0%b0%d1%80%d0%b0-%d0%a2%d0%b5%d0%ba%d1%83%d1%89%d0%b8%d0%b5-%d0%bf%d1%80%d0%be%d0%b5%d0%ba%d1%82%d1%8b-10/
END:VEVENT
END:VCALENDAR