BEGIN:VCALENDAR
VERSION:2.0
PRODID:-//ГБУЗ ЯО &quot;Медицинский информационно-аналитический центр&quot; - ECPv6.15.17.1//NONSGML v1.0//EN
CALSCALE:GREGORIAN
METHOD:PUBLISH
X-WR-CALNAME:ГБУЗ ЯО &quot;Медицинский информационно-аналитический центр&quot;
X-ORIGINAL-URL:https://miac.zdrav76.ru
X-WR-CALDESC:Мероприятия для ГБУЗ ЯО &quot;Медицинский информационно-аналитический центр&quot;
REFRESH-INTERVAL;VALUE=DURATION:PT1H
X-Robots-Tag:noindex
X-PUBLISHED-TTL:PT1H
BEGIN:VTIMEZONE
TZID:Europe/Moscow
BEGIN:STANDARD
TZOFFSETFROM:+0300
TZOFFSETTO:+0300
TZNAME:MSK
DTSTART:20230101T000000
END:STANDARD
END:VTIMEZONE
BEGIN:VEVENT
DTSTART;TZID=Europe/Moscow:20240618T150000
DTEND;TZID=Europe/Moscow:20240618T163000
DTSTAMP:20260425T152450
CREATED:20240618T083536Z
LAST-MODIFIED:20240618T083615Z
UID:27742-1718722800-1718728200@miac.zdrav76.ru
SUMMARY:Самара. Текущие проекты
DESCRIPTION:
URL:https://miac.zdrav76.ru/event/%d1%8d%d0%bb%d0%b5%d0%ba%d1%82%d1%80%d0%be%d0%bd%d0%bd%d1%8b%d0%b5-%d0%bc%d0%b5%d0%b4%d0%b8%d1%86%d0%b8%d0%bd%d1%81%d0%ba%d0%b8%d0%b5-%d0%ba%d0%bd%d0%b8%d0%b6%d0%ba%d0%b8-230-%d1%81%d1%8d%d0%bc-2/
LOCATION:В режиме ВКС
END:VEVENT
BEGIN:VEVENT
DTSTART;TZID=Europe/Moscow:20240618T130000
DTEND;TZID=Europe/Moscow:20240618T140000
DTSTAMP:20260425T152450
CREATED:20240618T083442Z
LAST-MODIFIED:20240618T083442Z
UID:27740-1718715600-1718719200@miac.zdrav76.ru
SUMMARY:Электронные медицинские книжки 230 СЭМД
DESCRIPTION:
URL:https://miac.zdrav76.ru/event/%d1%8d%d0%bb%d0%b5%d0%ba%d1%82%d1%80%d0%be%d0%bd%d0%bd%d1%8b%d0%b5-%d0%bc%d0%b5%d0%b4%d0%b8%d1%86%d0%b8%d0%bd%d1%81%d0%ba%d0%b8%d0%b5-%d0%ba%d0%bd%d0%b8%d0%b6%d0%ba%d0%b8-230-%d1%81%d1%8d%d0%bc%d0%b4/
LOCATION:В режиме ВКС
END:VEVENT
BEGIN:VEVENT
DTSTART;TZID=Europe/Moscow:20240618T090000
DTEND;TZID=Europe/Moscow:20240618T100000
DTSTAMP:20260425T152450
CREATED:20240617T090003Z
LAST-MODIFIED:20240617T090003Z
UID:27691-1718701200-1718704800@miac.zdrav76.ru
SUMMARY:Сдача дежурств за предыдущий день в стационаре
DESCRIPTION:
URL:https://miac.zdrav76.ru/event/%d1%81%d0%b4%d0%b0%d1%87%d0%b0-%d0%b4%d0%b5%d0%b6%d1%83%d1%80%d1%81%d1%82%d0%b2-%d0%b7%d0%b0-%d0%bf%d1%80%d0%b5%d0%b4%d1%8b%d0%b4%d1%83%d1%89%d0%b8%d0%b9-%d0%b4%d0%b5%d0%bd%d1%8c-%d0%b2-%d1%81-21/
LOCATION:В режиме ВКС
END:VEVENT
BEGIN:VEVENT
DTSTART;TZID=Europe/Moscow:20240617T140000
DTEND;TZID=Europe/Moscow:20240617T170000
DTSTAMP:20260425T152450
CREATED:20240617T085845Z
LAST-MODIFIED:20240617T085845Z
UID:27687-1718632800-1718643600@miac.zdrav76.ru
SUMMARY:Заполнение формы для расчета показателей нового федерального проекта «Медицинские кадры»
DESCRIPTION:‼️ ‼️ ‼️ Уважаемые руководители ‼️ ‼️ ‼️\n⚡️🔺 17 июня 2024 (Понедельник) в 14-00 🔺⚡️ состоится совещание под председательством заместителя начальника отдела Соколовой Т.В. с главными врачами и руководителями кадровой службы в режиме видеоконференцсвязи Trueconf.\n✅ Тема: Заполнение формы для расчета показателей нового федерального проекта «Медицинские кадры»\n✅ Доклады:\n1. Информация по заполнению таблиц (Соколова Т.В.)\n2. Краткая инструкция по формам (Родионова И.В.)\n✅ Участники:\n1) руководители и специалисты кадровых служб МО\, кроме организаций особого типа\n✅ Перед началом ВКС проверить звук и работу камер.\n‼️ ‼️ ‼️ МО не подключающие камеры будет зафиксированы как не явившиеся на ВКС.\n✅ Техническая поддержка: (4852)20-54-09\, support@zdrav.yar.ru.\n✅ Календарь всех проводимых видеоконференций размещен на сайте ГБУЗ ЯО «ЦОЗиМП» https://ocmp.zdrav76.ru/events/
URL:https://miac.zdrav76.ru/event/%d0%b7%d0%b0%d0%bf%d0%be%d0%bb%d0%bd%d0%b5%d0%bd%d0%b8%d0%b5-%d1%84%d0%be%d1%80%d0%bc%d1%8b-%d0%b4%d0%bb%d1%8f-%d1%80%d0%b0%d1%81%d1%87%d0%b5%d1%82%d0%b0-%d0%bf%d0%be%d0%ba%d0%b0%d0%b7%d0%b0%d1%82/
LOCATION:В режиме ВКС
END:VEVENT
BEGIN:VEVENT
DTSTART;TZID=Europe/Moscow:20240617T090000
DTEND;TZID=Europe/Moscow:20240617T100000
DTSTAMP:20260425T152450
CREATED:20240617T085929Z
LAST-MODIFIED:20240617T085929Z
UID:27689-1718614800-1718618400@miac.zdrav76.ru
SUMMARY:Сдача дежурств за предыдущий день в стационаре
DESCRIPTION:
URL:https://miac.zdrav76.ru/event/%d1%81%d0%b4%d0%b0%d1%87%d0%b0-%d0%b4%d0%b5%d0%b6%d1%83%d1%80%d1%81%d1%82%d0%b2-%d0%b7%d0%b0-%d0%bf%d1%80%d0%b5%d0%b4%d1%8b%d0%b4%d1%83%d1%89%d0%b8%d0%b9-%d0%b4%d0%b5%d0%bd%d1%8c-%d0%b2-%d1%81-20/
LOCATION:В режиме ВКС
END:VEVENT
BEGIN:VEVENT
DTSTART;TZID=Europe/Moscow:20240614T090000
DTEND;TZID=Europe/Moscow:20240614T093000
DTSTAMP:20260425T152450
CREATED:20240611T043925Z
LAST-MODIFIED:20240611T043925Z
UID:27610-1718355600-1718357400@miac.zdrav76.ru
SUMMARY:Сдача дежурств за предыдущий день в стационаре
DESCRIPTION:
URL:https://miac.zdrav76.ru/event/%d1%81%d0%b4%d0%b0%d1%87%d0%b0-%d0%b4%d0%b5%d0%b6%d1%83%d1%80%d1%81%d1%82%d0%b2-%d0%b7%d0%b0-%d0%bf%d1%80%d0%b5%d0%b4%d1%8b%d0%b4%d1%83%d1%89%d0%b8%d0%b9-%d0%b4%d0%b5%d0%bd%d1%8c-%d0%b2-%d1%81-19/
LOCATION:В режиме ВКС
END:VEVENT
BEGIN:VEVENT
DTSTART;TZID=Europe/Moscow:20240613T140000
DTEND;TZID=Europe/Moscow:20240613T163000
DTSTAMP:20260425T152450
CREATED:20240611T044015Z
LAST-MODIFIED:20240611T044015Z
UID:27612-1718287200-1718296200@miac.zdrav76.ru
SUMMARY:РТК. РИС/ЦАМИ
DESCRIPTION:
URL:https://miac.zdrav76.ru/event/%d1%80%d1%82%d0%ba-%d1%80%d0%b8%d1%81-%d1%86%d0%b0%d0%bc%d0%b8-11/
LOCATION:В режиме ВКС
END:VEVENT
BEGIN:VEVENT
DTSTART;TZID=Europe/Moscow:20240613T090000
DTEND;TZID=Europe/Moscow:20240613T093000
DTSTAMP:20260425T152450
CREATED:20240611T043903Z
LAST-MODIFIED:20240611T043903Z
UID:27608-1718269200-1718271000@miac.zdrav76.ru
SUMMARY:Сдача дежурств за предыдущий день в стационаре
DESCRIPTION:
URL:https://miac.zdrav76.ru/event/%d1%81%d0%b4%d0%b0%d1%87%d0%b0-%d0%b4%d0%b5%d0%b6%d1%83%d1%80%d1%81%d1%82%d0%b2-%d0%b7%d0%b0-%d0%bf%d1%80%d0%b5%d0%b4%d1%8b%d0%b4%d1%83%d1%89%d0%b8%d0%b9-%d0%b4%d0%b5%d0%bd%d1%8c-%d0%b2-%d1%81-18/
LOCATION:В режиме ВКС
END:VEVENT
BEGIN:VEVENT
DTSTART;TZID=Europe/Moscow:20240611T150000
DTEND;TZID=Europe/Moscow:20240611T170000
DTSTAMP:20260425T152450
CREATED:20240606T051757Z
LAST-MODIFIED:20240606T055059Z
UID:27513-1718118000-1718125200@miac.zdrav76.ru
SUMMARY:Самара. Текущие проекты
DESCRIPTION:
URL:https://miac.zdrav76.ru/event/%d1%81%d0%b0%d0%bc%d0%b0%d1%80%d0%b0-%d1%82%d0%b5%d0%ba%d1%83%d1%89%d0%b8%d0%b5-%d0%bf%d1%80%d0%be%d0%b5%d0%ba%d1%82%d1%8b-23/
LOCATION:В режиме ВКС
END:VEVENT
BEGIN:VEVENT
DTSTART;TZID=Europe/Moscow:20240611T090000
DTEND;TZID=Europe/Moscow:20240611T093000
DTSTAMP:20260425T152450
CREATED:20240611T043840Z
LAST-MODIFIED:20240611T043840Z
UID:27606-1718096400-1718098200@miac.zdrav76.ru
SUMMARY:Сдача дежурств за предыдущий день в стационаре
DESCRIPTION:
URL:https://miac.zdrav76.ru/event/%d1%81%d0%b4%d0%b0%d1%87%d0%b0-%d0%b4%d0%b5%d0%b6%d1%83%d1%80%d1%81%d1%82%d0%b2-%d0%b7%d0%b0-%d0%bf%d1%80%d0%b5%d0%b4%d1%8b%d0%b4%d1%83%d1%89%d0%b8%d0%b9-%d0%b4%d0%b5%d0%bd%d1%8c-%d0%b2-%d1%81-17/
LOCATION:В режиме ВКС
END:VEVENT
BEGIN:VEVENT
DTSTART;TZID=Europe/Moscow:20240610T090000
DTEND;TZID=Europe/Moscow:20240610T093000
DTSTAMP:20260425T152450
CREATED:20240611T043815Z
LAST-MODIFIED:20240611T043815Z
UID:27604-1718010000-1718011800@miac.zdrav76.ru
SUMMARY:Сдача дежурств за предыдущий день в стационаре
DESCRIPTION:
URL:https://miac.zdrav76.ru/event/%d1%81%d0%b4%d0%b0%d1%87%d0%b0-%d0%b4%d0%b5%d0%b6%d1%83%d1%80%d1%81%d1%82%d0%b2-%d0%b7%d0%b0-%d0%bf%d1%80%d0%b5%d0%b4%d1%8b%d0%b4%d1%83%d1%89%d0%b8%d0%b9-%d0%b4%d0%b5%d0%bd%d1%8c-%d0%b2-%d1%81-16/
LOCATION:В режиме ВКС
END:VEVENT
BEGIN:VEVENT
DTSTART;TZID=Europe/Moscow:20240607T100000
DTEND;TZID=Europe/Moscow:20240607T120000
DTSTAMP:20260425T152450
CREATED:20240605T135704Z
LAST-MODIFIED:20240605T135704Z
UID:27511-1717754400-1717761600@miac.zdrav76.ru
SUMMARY:Заявочная компания по ЛЛО на 2025 год
DESCRIPTION:✅ Доклады:\n1. Наблюдение пациентов с Гепатитом С принятых на амбулаторное обеспечение (Худоян З.Г.)\n2. Направление пациентов на ТМК по профилю пульмонология (Ивашечкин Е.Н.)\n3. Выявление НПР\, регистрация\, контроль (Иванчикова Е.В)\n✅ Участники:\n1) Областная инфекционная клиническая больница\n2) все МО\, оказывающие первичную медико-санитарную помощь.\n✅ Перед началом ВКС проверить звук и работу камер.\n‼️ ‼️ ‼️ МО не подключающие камеры будет зафиксированы как не явившиеся на ВКС.\n✅ Техническая поддержка: (4852)20-54-09\, support@zdrav.yar.ru.
URL:https://miac.zdrav76.ru/event/%d0%b7%d0%b0%d1%8f%d0%b2%d0%be%d1%87%d0%bd%d0%b0%d1%8f-%d0%ba%d0%be%d0%bc%d0%bf%d0%b0%d0%bd%d0%b8%d1%8f-%d0%bf%d0%be-%d0%bb%d0%bb%d0%be-%d0%bd%d0%b0-2025-%d0%b3%d0%be%d0%b4/
LOCATION:В режиме ВКС
END:VEVENT
BEGIN:VEVENT
DTSTART;TZID=Europe/Moscow:20240607T090000
DTEND;TZID=Europe/Moscow:20240607T093000
DTSTAMP:20260425T152450
CREATED:20240531T111512Z
LAST-MODIFIED:20240531T111512Z
UID:27424-1717750800-1717752600@miac.zdrav76.ru
SUMMARY:Сдача дежурств за предыдущий день в стационаре
DESCRIPTION:
URL:https://miac.zdrav76.ru/event/%d1%81%d0%b4%d0%b0%d1%87%d0%b0-%d0%b4%d0%b5%d0%b6%d1%83%d1%80%d1%81%d1%82%d0%b2-%d0%b7%d0%b0-%d0%bf%d1%80%d0%b5%d0%b4%d1%8b%d0%b4%d1%83%d1%89%d0%b8%d0%b9-%d0%b4%d0%b5%d0%bd%d1%8c-%d0%b2-%d1%81-15/
LOCATION:В режиме ВКС
END:VEVENT
BEGIN:VEVENT
DTSTART;TZID=Europe/Moscow:20240606T140000
DTEND;TZID=Europe/Moscow:20240606T170000
DTSTAMP:20260425T152450
CREATED:20240531T111250Z
LAST-MODIFIED:20240531T111250Z
UID:27414-1717682400-1717693200@miac.zdrav76.ru
SUMMARY:РТК. РИС/ЦАМИ
DESCRIPTION:
URL:https://miac.zdrav76.ru/event/%d1%80%d1%82%d0%ba-%d1%80%d0%b8%d1%81-%d1%86%d0%b0%d0%bc%d0%b8-10/
LOCATION:В режиме ВКС
END:VEVENT
BEGIN:VEVENT
DTSTART;TZID=Europe/Moscow:20240606T101000
DTEND;TZID=Europe/Moscow:20240606T120000
DTSTAMP:20260425T152450
CREATED:20240606T063606Z
LAST-MODIFIED:20240606T063606Z
UID:27515-1717668600-1717675200@miac.zdrav76.ru
SUMMARY:ЦТ. Организационные вопросы
DESCRIPTION:
URL:https://miac.zdrav76.ru/event/%d1%86%d1%82-%d0%be%d1%80%d0%b3%d0%b0%d0%bd%d0%b8%d0%b7%d0%b0%d1%86%d0%b8%d0%be%d0%bd%d0%bd%d1%8b%d0%b5-%d0%b2%d0%be%d0%bf%d1%80%d0%be%d1%81%d1%8b-58/
LOCATION:В режиме ВКС
END:VEVENT
BEGIN:VEVENT
DTSTART;TZID=Europe/Moscow:20240606T091500
DTEND;TZID=Europe/Moscow:20240606T121500
DTSTAMP:20260425T152450
CREATED:20240531T112906Z
LAST-MODIFIED:20240531T113304Z
UID:27428-1717665300-1717676100@miac.zdrav76.ru
SUMMARY:Функционал подсистемы «Скорая медицинская помощь»
DESCRIPTION:‼️ ‼️ ‼️ Уважаемые руководители ‼️ ‼️ ‼️\n⚡️🔺 6 июня 2024 (ЧЕТВЕРГ) в 9-15 🔺⚡️ состоится обучающий вебинар в режиме видеоконференцсвязи Trueconf.\n✅ Тема: Функционал подсистемы «Скорая медицинская помощь»\n✅ Участники: Все МО\, оказывающие скорую медицинскую помощь\n✅ Перед началом ВКС проверить звук и работу камер.\n‼️ ‼️ ‼️ В начале обучения в чат ВКС сообщите пожалуйста название МО и пофамильный список присутствующих на обучении сотрудников.\n✅ Техническая поддержка: (4852)20-54-09\, support@zdrav.yar.ru.\n✅ Календарь всех проводимых видеоконференций размещен на сайте ГБУЗ ЯО «ЦОЗиМП» https://ocmp.zdrav76.ru/events/
URL:https://miac.zdrav76.ru/event/%d1%84%d1%83%d0%bd%d0%ba%d1%86%d0%b8%d0%be%d0%bd%d0%b0%d0%bb-%d0%bf%d0%be%d0%b4%d1%81%d0%b8%d1%81%d1%82%d0%b5%d0%bc%d1%8b-%d1%81%d0%ba%d0%be%d1%80%d0%b0%d1%8f-%d0%bc%d0%b5%d0%b4%d0%b8%d1%86-2/
LOCATION:В режиме ВКС
END:VEVENT
BEGIN:VEVENT
DTSTART;TZID=Europe/Moscow:20240606T090000
DTEND;TZID=Europe/Moscow:20240606T093000
DTSTAMP:20260425T152450
CREATED:20240531T111451Z
LAST-MODIFIED:20240531T111451Z
UID:27422-1717664400-1717666200@miac.zdrav76.ru
SUMMARY:Сдача дежурств за предыдущий день в стационаре
DESCRIPTION:
URL:https://miac.zdrav76.ru/event/%d1%81%d0%b4%d0%b0%d1%87%d0%b0-%d0%b4%d0%b5%d0%b6%d1%83%d1%80%d1%81%d1%82%d0%b2-%d0%b7%d0%b0-%d0%bf%d1%80%d0%b5%d0%b4%d1%8b%d0%b4%d1%83%d1%89%d0%b8%d0%b9-%d0%b4%d0%b5%d0%bd%d1%8c-%d0%b2-%d1%81-14/
LOCATION:В режиме ВКС
END:VEVENT
BEGIN:VEVENT
DTSTART;TZID=Europe/Moscow:20240605T140000
DTEND;TZID=Europe/Moscow:20240605T170000
DTSTAMP:20260425T152450
CREATED:20240531T112808Z
LAST-MODIFIED:20240531T112808Z
UID:27426-1717596000-1717606800@miac.zdrav76.ru
SUMMARY:Функционал РИС (радиологическая информационная система).
DESCRIPTION:‼️ ‼️ ‼️ Уважаемые руководители ‼️ ‼️ ‼️\n⚡️🔺 5 июня 2024 (СРЕДА) в 14-00 🔺⚡️ состоится обучающий вебинар в режиме видеоконференцсвязи Trueconf.\n✅ Тема: Функционал РИС (радиологическая информационная система).\n✅ Участники: Врачи-рентгенологи\, рентгенологи-лаборанты\, ИТ-специалисты\, ответственные за внедрение подсистем РС ЕГИСЗ ЯО.\n✅ Перед началом ВКС проверить звук и работу камер.\n‼️ ‼️ ‼️ В начале обучения в чат ВКС сообщите пожалуйста название МО и пофамильный список присутствующих на обучении сотрудников.\n✅ Техническая поддержка: (4852)20-54-09\, support@zdrav.yar.ru.\n✅ Календарь всех проводимых видеоконференций размещен на сайте ГБУЗ ЯО «ЦОЗиМП» https://ocmp.zdrav76.ru/events/
URL:https://miac.zdrav76.ru/event/%d1%84%d1%83%d0%bd%d0%ba%d1%86%d0%b8%d0%be%d0%bd%d0%b0%d0%bb-%d1%80%d0%b8%d1%81-%d1%80%d0%b0%d0%b4%d0%b8%d0%be%d0%bb%d0%be%d0%b3%d0%b8%d1%87%d0%b5%d1%81%d0%ba%d0%b0%d1%8f-%d0%b8%d0%bd%d1%84%d0%be/
LOCATION:В режиме ВКС
END:VEVENT
BEGIN:VEVENT
DTSTART;TZID=Europe/Moscow:20240605T140000
DTEND;TZID=Europe/Moscow:20240605T150000
DTSTAMP:20260425T152450
CREATED:20240605T122120Z
LAST-MODIFIED:20240605T122120Z
UID:27499-1717596000-1717599600@miac.zdrav76.ru
SUMMARY:ТФОМС. Организационные вопросы
DESCRIPTION:
URL:https://miac.zdrav76.ru/event/%d1%82%d1%84%d0%be%d0%bc%d1%81-%d0%be%d1%80%d0%b3%d0%b0%d0%bd%d0%b8%d0%b7%d0%b0%d1%86%d0%b8%d0%be%d0%bd%d0%bd%d1%8b%d0%b5-%d0%b2%d0%be%d0%bf%d1%80%d0%be%d1%81%d1%8b/
LOCATION:В режиме ВКС
END:VEVENT
BEGIN:VEVENT
DTSTART;TZID=Europe/Moscow:20240605T090000
DTEND;TZID=Europe/Moscow:20240605T093000
DTSTAMP:20260425T152450
CREATED:20240531T111431Z
LAST-MODIFIED:20240531T111431Z
UID:27420-1717578000-1717579800@miac.zdrav76.ru
SUMMARY:Сдача дежурств за предыдущий день в стационаре
DESCRIPTION:
URL:https://miac.zdrav76.ru/event/%d1%81%d0%b4%d0%b0%d1%87%d0%b0-%d0%b4%d0%b5%d0%b6%d1%83%d1%80%d1%81%d1%82%d0%b2-%d0%b7%d0%b0-%d0%bf%d1%80%d0%b5%d0%b4%d1%8b%d0%b4%d1%83%d1%89%d0%b8%d0%b9-%d0%b4%d0%b5%d0%bd%d1%8c-%d0%b2-%d1%81-13/
LOCATION:В режиме ВКС
END:VEVENT
BEGIN:VEVENT
DTSTART;TZID=Europe/Moscow:20240604T150000
DTEND;TZID=Europe/Moscow:20240604T170000
DTSTAMP:20260425T152450
CREATED:20240529T052114Z
LAST-MODIFIED:20240529T052114Z
UID:27382-1717513200-1717520400@miac.zdrav76.ru
SUMMARY:Самара. Текущие проекты
DESCRIPTION:
URL:https://miac.zdrav76.ru/event/%d1%81%d0%b0%d0%bc%d0%b0%d1%80%d0%b0-%d1%82%d0%b5%d0%ba%d1%83%d1%89%d0%b8%d0%b5-%d0%bf%d1%80%d0%be%d0%b5%d0%ba%d1%82%d1%8b-22/
LOCATION:В режиме ВКС
END:VEVENT
BEGIN:VEVENT
DTSTART;TZID=Europe/Moscow:20240604T090000
DTEND;TZID=Europe/Moscow:20240604T093000
DTSTAMP:20260425T152450
CREATED:20240531T111410Z
LAST-MODIFIED:20240531T111410Z
UID:27418-1717491600-1717493400@miac.zdrav76.ru
SUMMARY:Сдача дежурств за предыдущий день в стационаре
DESCRIPTION:
URL:https://miac.zdrav76.ru/event/%d1%81%d0%b4%d0%b0%d1%87%d0%b0-%d0%b4%d0%b5%d0%b6%d1%83%d1%80%d1%81%d1%82%d0%b2-%d0%b7%d0%b0-%d0%bf%d1%80%d0%b5%d0%b4%d1%8b%d0%b4%d1%83%d1%89%d0%b8%d0%b9-%d0%b4%d0%b5%d0%bd%d1%8c-%d0%b2-%d1%81-12/
LOCATION:В режиме ВКС
END:VEVENT
BEGIN:VEVENT
DTSTART;TZID=Europe/Moscow:20240603T090000
DTEND;TZID=Europe/Moscow:20240603T093000
DTSTAMP:20260425T152450
CREATED:20240531T111323Z
LAST-MODIFIED:20240531T111323Z
UID:27416-1717405200-1717407000@miac.zdrav76.ru
SUMMARY:Сдача дежурств за предыдущий день в стационаре
DESCRIPTION:
URL:https://miac.zdrav76.ru/event/%d1%81%d0%b4%d0%b0%d1%87%d0%b0-%d0%b4%d0%b5%d0%b6%d1%83%d1%80%d1%81%d1%82%d0%b2-%d0%b7%d0%b0-%d0%bf%d1%80%d0%b5%d0%b4%d1%8b%d0%b4%d1%83%d1%89%d0%b8%d0%b9-%d0%b4%d0%b5%d0%bd%d1%8c-%d0%b2-%d1%81-11/
LOCATION:В режиме ВКС
END:VEVENT
BEGIN:VEVENT
DTSTART;TZID=Europe/Moscow:20240531T133000
DTEND;TZID=Europe/Moscow:20240531T153000
DTSTAMP:20260425T152450
CREATED:20240531T095824Z
LAST-MODIFIED:20240531T095833Z
UID:27412-1717162200-1717169400@miac.zdrav76.ru
SUMMARY:ТЗ ЛИС. ЭМСР
DESCRIPTION:
URL:https://miac.zdrav76.ru/event/%d1%82%d0%b7-%d0%bb%d0%b8%d1%81-%d1%8d%d0%bc%d1%81%d1%80/
LOCATION:В режиме ВКС
END:VEVENT
BEGIN:VEVENT
DTSTART;TZID=Europe/Moscow:20240531T090000
DTEND;TZID=Europe/Moscow:20240531T093000
DTSTAMP:20260425T152450
CREATED:20240527T061630Z
LAST-MODIFIED:20240527T061630Z
UID:27297-1717146000-1717147800@miac.zdrav76.ru
SUMMARY:Сдача дежурств за предыдущий день в стационаре
DESCRIPTION:
URL:https://miac.zdrav76.ru/event/%d1%81%d0%b4%d0%b0%d1%87%d0%b0-%d0%b4%d0%b5%d0%b6%d1%83%d1%80%d1%81%d1%82%d0%b2-%d0%b7%d0%b0-%d0%bf%d1%80%d0%b5%d0%b4%d1%8b%d0%b4%d1%83%d1%89%d0%b8%d0%b9-%d0%b4%d0%b5%d0%bd%d1%8c-%d0%b2-%d1%81-10/
LOCATION:В режиме ВКС
END:VEVENT
BEGIN:VEVENT
DTSTART;TZID=Europe/Moscow:20240530T140000
DTEND;TZID=Europe/Moscow:20240530T170000
DTSTAMP:20260425T152450
CREATED:20240527T061709Z
LAST-MODIFIED:20240527T061709Z
UID:27299-1717077600-1717088400@miac.zdrav76.ru
SUMMARY:РТК. РИС/ЦАМИ
DESCRIPTION:
URL:https://miac.zdrav76.ru/event/%d1%80%d1%82%d0%ba-%d1%80%d0%b8%d1%81-%d1%86%d0%b0%d0%bc%d0%b8-9/
LOCATION:В режиме ВКС
END:VEVENT
BEGIN:VEVENT
DTSTART;TZID=Europe/Moscow:20240530T120000
DTEND;TZID=Europe/Moscow:20240530T160000
DTSTAMP:20260425T152450
CREATED:20240529T052045Z
LAST-MODIFIED:20240529T052045Z
UID:27380-1717070400-1717084800@miac.zdrav76.ru
SUMMARY:Диспансерное наблюдение пациентов с онкологическими заболеваниями
DESCRIPTION:
URL:https://miac.zdrav76.ru/event/%d0%b4%d0%b8%d1%81%d0%bf%d0%b0%d0%bd%d1%81%d0%b5%d1%80%d0%bd%d0%be%d0%b5-%d0%bd%d0%b0%d0%b1%d0%bb%d1%8e%d0%b4%d0%b5%d0%bd%d0%b8%d0%b5-%d0%bf%d0%b0%d1%86%d0%b8%d0%b5%d0%bd%d1%82%d0%be%d0%b2-%d1%81-2/
LOCATION:В режиме ВКС
END:VEVENT
BEGIN:VEVENT
DTSTART;TZID=Europe/Moscow:20240530T110000
DTEND;TZID=Europe/Moscow:20240530T120000
DTSTAMP:20260425T152450
CREATED:20240530T122631Z
LAST-MODIFIED:20240530T122631Z
UID:27397-1717066800-1717070400@miac.zdrav76.ru
SUMMARY:МСР. МСС. МСПС
DESCRIPTION:
URL:https://miac.zdrav76.ru/event/%d0%bc%d1%81%d1%80-%d0%bc%d1%81%d1%81-%d0%bc%d1%81%d0%bf%d1%81/
LOCATION:В режиме ВКС
END:VEVENT
BEGIN:VEVENT
DTSTART;TZID=Europe/Moscow:20240530T090000
DTEND;TZID=Europe/Moscow:20240530T093000
DTSTAMP:20260425T152450
CREATED:20240527T061558Z
LAST-MODIFIED:20240527T061558Z
UID:27295-1717059600-1717061400@miac.zdrav76.ru
SUMMARY:Сдача дежурств за предыдущий день в стационаре
DESCRIPTION:
URL:https://miac.zdrav76.ru/event/%d1%81%d0%b4%d0%b0%d1%87%d0%b0-%d0%b4%d0%b5%d0%b6%d1%83%d1%80%d1%81%d1%82%d0%b2-%d0%b7%d0%b0-%d0%bf%d1%80%d0%b5%d0%b4%d1%8b%d0%b4%d1%83%d1%89%d0%b8%d0%b9-%d0%b4%d0%b5%d0%bd%d1%8c-%d0%b2-%d1%81%d1%82-9/
LOCATION:В режиме ВКС
END:VEVENT
BEGIN:VEVENT
DTSTART;TZID=Europe/Moscow:20240529T093000
DTEND;TZID=Europe/Moscow:20240529T120000
DTSTAMP:20260425T152450
CREATED:20240528T111445Z
LAST-MODIFIED:20240528T111445Z
UID:27348-1716975000-1716984000@miac.zdrav76.ru
SUMMARY:Планирование. Орг вопросы
DESCRIPTION:
URL:https://miac.zdrav76.ru/event/%d0%bf%d0%bb%d0%b0%d0%bd%d0%b8%d1%80%d0%be%d0%b2%d0%b0%d0%bd%d0%b8%d0%b5-%d0%be%d1%80%d0%b3-%d0%b2%d0%be%d0%bf%d1%80%d0%be%d1%81%d1%8b/
LOCATION:В режиме ВКС
END:VEVENT
END:VCALENDAR