BEGIN:VCALENDAR
VERSION:2.0
PRODID:-//ГБУЗ ЯО &quot;Медицинский информационно-аналитический центр&quot; - ECPv6.15.17.1//NONSGML v1.0//EN
CALSCALE:GREGORIAN
METHOD:PUBLISH
X-WR-CALNAME:ГБУЗ ЯО &quot;Медицинский информационно-аналитический центр&quot;
X-ORIGINAL-URL:https://miac.zdrav76.ru
X-WR-CALDESC:Мероприятия для ГБУЗ ЯО &quot;Медицинский информационно-аналитический центр&quot;
REFRESH-INTERVAL;VALUE=DURATION:PT1H
X-Robots-Tag:noindex
X-PUBLISHED-TTL:PT1H
BEGIN:VTIMEZONE
TZID:Europe/Moscow
BEGIN:STANDARD
TZOFFSETFROM:+0300
TZOFFSETTO:+0300
TZNAME:MSK
DTSTART:20230101T000000
END:STANDARD
END:VTIMEZONE
BEGIN:VEVENT
DTSTART;TZID=Europe/Moscow:20241025T120000
DTEND;TZID=Europe/Moscow:20241025T130000
DTSTAMP:20260421T201244
CREATED:20241021T130016Z
LAST-MODIFIED:20241021T130016Z
UID:30135-1729857600-1729861200@miac.zdrav76.ru
SUMMARY:Рабочее совещание с ЦАОП ЯО
DESCRIPTION:
URL:https://miac.zdrav76.ru/event/%d0%a0%d0%b0%d0%b1%d0%be%d1%87%d0%b5%d0%b5-%d1%81%d0%be%d0%b2%d0%b5%d1%89%d0%b0%d0%bd%d0%b8%d0%b5-%d1%81-%d0%a6%d0%90%d0%9e%d0%9f-%d0%af%d0%9e-9/
END:VEVENT
BEGIN:VEVENT
DTSTART;TZID=Europe/Moscow:20241025T090000
DTEND;TZID=Europe/Moscow:20241025T093000
DTSTAMP:20260421T201244
CREATED:20241021T125436Z
LAST-MODIFIED:20241021T125436Z
UID:30125-1729846800-1729848600@miac.zdrav76.ru
SUMMARY:Сдача дежурств за предыдущий день в стационаре
DESCRIPTION:
URL:https://miac.zdrav76.ru/event/%d0%a1%d0%b4%d0%b0%d1%87%d0%b0-%d0%b4%d0%b5%d0%b6%d1%83%d1%80%d1%81%d1%82%d0%b2-%d0%b7%d0%b0-%d0%bf%d1%80%d0%b5%d0%b4%d1%8b%d0%b4%d1%83%d1%89%d0%b8%d0%b9-%d0%b4%d0%b5%d0%bd%d1%8c-%d0%b2-%d1%81-70/
END:VEVENT
BEGIN:VEVENT
DTSTART;TZID=Europe/Moscow:20241025T083000
DTEND;TZID=Europe/Moscow:20241025T090000
DTSTAMP:20260421T201244
CREATED:20241023T113204Z
LAST-MODIFIED:20241023T113315Z
UID:30186-1729845000-1729846800@miac.zdrav76.ru
SUMMARY:ЛЛО. Исполнение судебных решений и закупка по ВК (итоги 2024\, план 2025)
DESCRIPTION:
URL:https://miac.zdrav76.ru/event/%d0%9b%d0%9b%d0%9e-%d0%98%d1%81%d0%bf%d0%be%d0%bb%d0%bd%d0%b5%d0%bd%d0%b8%d0%b5-%d1%81%d1%83%d0%b4%d0%b5%d0%b1%d0%bd%d1%8b%d1%85-%d1%80%d0%b5%d1%88%d0%b5%d0%bd%d0%b8%d0%b9-%d0%b8-%d0%b7%d0%b0%d0%ba/
END:VEVENT
BEGIN:VEVENT
DTSTART;TZID=Europe/Moscow:20241024T140000
DTEND;TZID=Europe/Moscow:20241024T150000
DTSTAMP:20260421T201244
CREATED:20241021T125559Z
LAST-MODIFIED:20241021T125651Z
UID:30129-1729778400-1729782000@miac.zdrav76.ru
SUMMARY:РТК. РИС/ЦАМИ\, СМП
DESCRIPTION:
URL:https://miac.zdrav76.ru/event/%d0%a1%d0%b0%d0%bc%d0%b0%d1%80%d0%b0-%d0%a2%d0%b5%d0%ba%d1%83%d1%89%d0%b8%d0%b5-%d0%bf%d1%80%d0%be%d0%b5%d0%ba%d1%82%d1%8b-15/
END:VEVENT
BEGIN:VEVENT
DTSTART;TZID=Europe/Moscow:20241024T133000
DTEND;TZID=Europe/Moscow:20241024T150000
DTSTAMP:20260421T201244
CREATED:20241021T125835Z
LAST-MODIFIED:20241021T125835Z
UID:30133-1729776600-1729782000@miac.zdrav76.ru
SUMMARY:Разговор главных внештатных специалистов МЗ ЯО с врачами-терапевтами муниципальных районов ЯО
DESCRIPTION:
URL:https://miac.zdrav76.ru/event/%d0%a0%d0%b0%d0%b7%d0%b3%d0%be%d0%b2%d0%be%d1%80-%d0%b3%d0%bb%d0%b0%d0%b2%d0%bd%d1%8b%d1%85-%d0%b2%d0%bd%d0%b5%d1%88%d1%82%d0%b0%d1%82%d0%bd%d1%8b%d1%85-%d1%81%d0%bf%d0%b5%d1%86%d0%b8%d0%b0%d0%bb-4/
END:VEVENT
BEGIN:VEVENT
DTSTART;TZID=Europe/Moscow:20241024T090000
DTEND;TZID=Europe/Moscow:20241024T093000
DTSTAMP:20260421T201244
CREATED:20241021T125410Z
LAST-MODIFIED:20241021T125410Z
UID:30123-1729760400-1729762200@miac.zdrav76.ru
SUMMARY:Сдача дежурств за предыдущий день в стационаре
DESCRIPTION:
URL:https://miac.zdrav76.ru/event/%d0%a1%d0%b4%d0%b0%d1%87%d0%b0-%d0%b4%d0%b5%d0%b6%d1%83%d1%80%d1%81%d1%82%d0%b2-%d0%b7%d0%b0-%d0%bf%d1%80%d0%b5%d0%b4%d1%8b%d0%b4%d1%83%d1%89%d0%b8%d0%b9-%d0%b4%d0%b5%d0%bd%d1%8c-%d0%b2-%d1%81-69/
END:VEVENT
BEGIN:VEVENT
DTSTART;TZID=Europe/Moscow:20241023T120000
DTEND;TZID=Europe/Moscow:20241023T133000
DTSTAMP:20260421T201244
CREATED:20241023T054911Z
LAST-MODIFIED:20241023T054911Z
UID:30155-1729684800-1729690200@miac.zdrav76.ru
SUMMARY:Выполнение показателей цифровизации
DESCRIPTION:
URL:https://miac.zdrav76.ru/event/%d0%92%d1%8b%d0%bf%d0%be%d0%bb%d0%bd%d0%b5%d0%bd%d0%b8%d0%b5-%d0%bf%d0%be%d0%ba%d0%b0%d0%b7%d0%b0%d1%82%d0%b5%d0%bb%d0%b5%d0%b9-%d1%86%d0%b8%d1%84%d1%80%d0%be%d0%b2%d0%b8%d0%b7%d0%b0%d1%86%d0%b8-2/
END:VEVENT
BEGIN:VEVENT
DTSTART;TZID=Europe/Moscow:20241023T090000
DTEND;TZID=Europe/Moscow:20241023T093000
DTSTAMP:20260421T201244
CREATED:20241021T125314Z
LAST-MODIFIED:20241021T125314Z
UID:30120-1729674000-1729675800@miac.zdrav76.ru
SUMMARY:Сдача дежурств за предыдущий день в стационаре
DESCRIPTION:
URL:https://miac.zdrav76.ru/event/%d0%a1%d0%b4%d0%b0%d1%87%d0%b0-%d0%b4%d0%b5%d0%b6%d1%83%d1%80%d1%81%d1%82%d0%b2-%d0%b7%d0%b0-%d0%bf%d1%80%d0%b5%d0%b4%d1%8b%d0%b4%d1%83%d1%89%d0%b8%d0%b9-%d0%b4%d0%b5%d0%bd%d1%8c-%d0%b2-%d1%81-68/
END:VEVENT
BEGIN:VEVENT
DTSTART;TZID=Europe/Moscow:20241022T150000
DTEND;TZID=Europe/Moscow:20241022T160000
DTSTAMP:20260421T201244
CREATED:20241021T125534Z
LAST-MODIFIED:20241021T125534Z
UID:30128-1729609200-1729612800@miac.zdrav76.ru
SUMMARY:Самара. Текущие проекты
DESCRIPTION:
URL:https://miac.zdrav76.ru/event/%d0%a1%d0%b0%d0%bc%d0%b0%d1%80%d0%b0-%d0%a2%d0%b5%d0%ba%d1%83%d1%89%d0%b8%d0%b5-%d0%bf%d1%80%d0%be%d0%b5%d0%ba%d1%82%d1%8b-14/
LOCATION:В режиме ВКС
END:VEVENT
BEGIN:VEVENT
DTSTART;TZID=Europe/Moscow:20241022T133000
DTEND;TZID=Europe/Moscow:20241022T150000
DTSTAMP:20260421T201244
CREATED:20241022T100219Z
LAST-MODIFIED:20241022T100219Z
UID:30146-1729603800-1729609200@miac.zdrav76.ru
SUMMARY:Выполнение показателей цифровизации
DESCRIPTION:
URL:https://miac.zdrav76.ru/event/%d0%92%d1%8b%d0%bf%d0%be%d0%bb%d0%bd%d0%b5%d0%bd%d0%b8%d0%b5-%d0%bf%d0%be%d0%ba%d0%b0%d0%b7%d0%b0%d1%82%d0%b5%d0%bb%d0%b5%d0%b9-%d1%86%d0%b8%d1%84%d1%80%d0%be%d0%b2%d0%b8%d0%b7%d0%b0%d1%86%d0%b8%d0%b8/
END:VEVENT
BEGIN:VEVENT
DTSTART;TZID=Europe/Moscow:20241022T093000
DTEND;TZID=Europe/Moscow:20241022T113000
DTSTAMP:20260421T201244
CREATED:20241021T125301Z
LAST-MODIFIED:20241021T125301Z
UID:30113-1729589400-1729596600@miac.zdrav76.ru
SUMMARY:Льготное лекарственное обеспечение
DESCRIPTION:✅  Тема:\n1. Подготовка к приезду НМИЦ эндокринологии\n2. ЛЛО общие вопросы\n3. ⁠Исполнение судебных решений и закупка по ВК (итоги 2024\, план 2025)\n✅ Перед началом ВКС проверить звук и работу камер.\n‼️ ‼️ ‼️ ПРИСУТСТВИЕ ГЛАВНЫХ ВРАЧЕЙ ОБЯЗАТЕЛЬНО\n‼️ ‼️ ‼️ МО не подключающие камеры будет зафиксированы как не явившиеся на ВКС.\n✅ Техническая поддержка: (4852)20-54-09\, support@zdrav.yar.ru.
URL:https://miac.zdrav76.ru/event/%d0%9b%d1%8c%d0%b3%d0%be%d1%82%d0%bd%d0%be%d0%b5-%d0%bb%d0%b5%d0%ba%d0%b0%d1%80%d1%81%d1%82%d0%b2%d0%b5%d0%bd%d0%bd%d0%be%d0%b5-%d0%be%d0%b1%d0%b5%d1%81%d0%bf%d0%b5%d1%87%d0%b5%d0%bd%d0%b8%d0%b5-2/
LOCATION:В режиме ВКС
CATEGORIES:ДЗиФ
END:VEVENT
BEGIN:VEVENT
DTSTART;TZID=Europe/Moscow:20241022T090000
DTEND;TZID=Europe/Moscow:20241022T093000
DTSTAMP:20260421T201244
CREATED:20241021T125249Z
LAST-MODIFIED:20241021T125249Z
UID:30118-1729587600-1729589400@miac.zdrav76.ru
SUMMARY:Сдача дежурств за предыдущий день в стационаре
DESCRIPTION:
URL:https://miac.zdrav76.ru/event/%d0%a1%d0%b4%d0%b0%d1%87%d0%b0-%d0%b4%d0%b5%d0%b6%d1%83%d1%80%d1%81%d1%82%d0%b2-%d0%b7%d0%b0-%d0%bf%d1%80%d0%b5%d0%b4%d1%8b%d0%b4%d1%83%d1%89%d0%b8%d0%b9-%d0%b4%d0%b5%d0%bd%d1%8c-%d0%b2-%d1%81-67/
END:VEVENT
BEGIN:VEVENT
DTSTART;TZID=Europe/Moscow:20241021T151000
DTEND;TZID=Europe/Moscow:20241021T163000
DTSTAMP:20260421T201244
CREATED:20241021T123030Z
LAST-MODIFIED:20241021T123030Z
UID:30111-1729523400-1729528200@miac.zdrav76.ru
SUMMARY:ЛЛО. Техническая поддержка 2025
DESCRIPTION:
URL:https://miac.zdrav76.ru/event/%d0%9b%d0%9b%d0%9e-%d0%a2%d0%b5%d1%85%d0%bd%d0%b8%d1%87%d0%b5%d1%81%d0%ba%d0%b0%d1%8f-%d0%bf%d0%be%d0%b4%d0%b4%d0%b5%d1%80%d0%b6%d0%ba%d0%b0-2025/
LOCATION:В режиме ВКС
END:VEVENT
BEGIN:VEVENT
DTSTART;TZID=Europe/Moscow:20241021T120000
DTEND;TZID=Europe/Moscow:20241021T133000
DTSTAMP:20260421T201244
CREATED:20241021T122924Z
LAST-MODIFIED:20241021T122938Z
UID:30109-1729512000-1729517400@miac.zdrav76.ru
SUMMARY:ЦТ. Организационные вопросы
DESCRIPTION:
URL:https://miac.zdrav76.ru/event/%d0%a6%d0%a2-%d0%9e%d1%80%d0%b3%d0%b0%d0%bd%d0%b8%d0%b7%d0%b0%d1%86%d0%b8%d0%be%d0%bd%d0%bd%d1%8b%d0%b5-%d0%b2%d0%be%d0%bf%d1%80%d0%be%d1%81%d1%8b-6/
LOCATION:В режиме ВКС
END:VEVENT
BEGIN:VEVENT
DTSTART;TZID=Europe/Moscow:20241021T090000
DTEND;TZID=Europe/Moscow:20241021T093000
DTSTAMP:20260421T201244
CREATED:20241021T125205Z
LAST-MODIFIED:20241021T125205Z
UID:30116-1729501200-1729503000@miac.zdrav76.ru
SUMMARY:Сдача дежурств за предыдущий день в стационаре
DESCRIPTION:
URL:https://miac.zdrav76.ru/event/%d0%a1%d0%b4%d0%b0%d1%87%d0%b0-%d0%b4%d0%b5%d0%b6%d1%83%d1%80%d1%81%d1%82%d0%b2-%d0%b7%d0%b0-%d0%bf%d1%80%d0%b5%d0%b4%d1%8b%d0%b4%d1%83%d1%89%d0%b8%d0%b9-%d0%b4%d0%b5%d0%bd%d1%8c-%d0%b2-%d1%81-66/
END:VEVENT
BEGIN:VEVENT
DTSTART;TZID=Europe/Moscow:20241018T140000
DTEND;TZID=Europe/Moscow:20241018T150000
DTSTAMP:20260421T201244
CREATED:20241018T065448Z
LAST-MODIFIED:20241018T065504Z
UID:30068-1729260000-1729263600@miac.zdrav76.ru
SUMMARY:1С Поликлиника. Показ нового функционала
DESCRIPTION:
URL:https://miac.zdrav76.ru/event/1%d0%a1-%d0%9f%d0%be%d0%bb%d0%b8%d0%ba%d0%bb%d0%b8%d0%bd%d0%b8%d0%ba%d0%b0-%d0%9f%d0%be%d0%ba%d0%b0%d0%b7-%d0%bd%d0%be%d0%b2%d0%be%d0%b3%d0%be-%d1%84%d1%83%d0%bd%d0%ba%d1%86%d0%b8%d0%be%d0%bd%d0%b0/
LOCATION:В режиме ВКС
END:VEVENT
BEGIN:VEVENT
DTSTART;TZID=Europe/Moscow:20241018T130000
DTEND;TZID=Europe/Moscow:20241018T140000
DTSTAMP:20260421T201244
CREATED:20241018T065609Z
LAST-MODIFIED:20241018T065609Z
UID:30074-1729256400-1729260000@miac.zdrav76.ru
SUMMARY:1С Аналитика
DESCRIPTION:
URL:https://miac.zdrav76.ru/event/1%d0%a1-%d0%90%d0%bd%d0%b0%d0%bb%d0%b8%d1%82%d0%b8%d0%ba%d0%b0/
LOCATION:В режиме ВКС
END:VEVENT
BEGIN:VEVENT
DTSTART;TZID=Europe/Moscow:20241018T120000
DTEND;TZID=Europe/Moscow:20241018T130000
DTSTAMP:20260421T201244
CREATED:20241018T065547Z
LAST-MODIFIED:20241018T065547Z
UID:30072-1729252800-1729256400@miac.zdrav76.ru
SUMMARY:1С Поликлиника ОНКО
DESCRIPTION:
URL:https://miac.zdrav76.ru/event/1%d0%a1-%d0%9f%d0%be%d0%bb%d0%b8%d0%ba%d0%bb%d0%b8%d0%bd%d0%b8%d0%ba%d0%b0-%d0%9e%d0%9d%d0%9a%d0%9e/
LOCATION:В режиме ВКС
END:VEVENT
BEGIN:VEVENT
DTSTART;TZID=Europe/Moscow:20241018T120000
DTEND;TZID=Europe/Moscow:20241018T130000
DTSTAMP:20260421T201244
CREATED:20241014T130913Z
LAST-MODIFIED:20241014T131019Z
UID:29983-1729252800-1729256400@miac.zdrav76.ru
SUMMARY:Рабочее совещание с ЦАОП ЯО
DESCRIPTION:
URL:https://miac.zdrav76.ru/event/%d0%9e%d0%b1%d1%83%d1%87%d0%b0%d1%8e%d1%89%d0%b8%d0%b9-%d1%81%d0%b5%d0%bc%d0%b8%d0%bd%d0%b0%d1%80-%d0%bf%d0%be-%d0%bf%d1%80%d0%be%d1%84%d0%b8%d0%bb%d0%b0%d0%ba%d1%82%d0%b8%d0%ba%d0%b5-%d0%b8%d0%bd-2/
LOCATION:В режиме ВКС
END:VEVENT
BEGIN:VEVENT
DTSTART;TZID=Europe/Moscow:20241018T103000
DTEND;TZID=Europe/Moscow:20241018T110000
DTSTAMP:20260421T201244
CREATED:20241018T065520Z
LAST-MODIFIED:20241018T065520Z
UID:30070-1729247400-1729249200@miac.zdrav76.ru
SUMMARY:Стационар. Критические замечания
DESCRIPTION:
URL:https://miac.zdrav76.ru/event/%d0%a1%d1%82%d0%b0%d1%86%d0%b8%d0%be%d0%bd%d0%b0%d1%80-%d0%9a%d1%80%d0%b8%d1%82%d0%b8%d1%87%d0%b5%d1%81%d0%ba%d0%b8%d0%b5-%d0%b7%d0%b0%d0%bc%d0%b5%d1%87%d0%b0%d0%bd%d0%b8%d1%8f/
LOCATION:В режиме ВКС
END:VEVENT
BEGIN:VEVENT
DTSTART;TZID=Europe/Moscow:20241018T090000
DTEND;TZID=Europe/Moscow:20241018T093000
DTSTAMP:20260421T201244
CREATED:20241014T130701Z
LAST-MODIFIED:20241014T130701Z
UID:29977-1729242000-1729243800@miac.zdrav76.ru
SUMMARY:Сдача дежурств за предыдущий день в стационаре
DESCRIPTION:
URL:https://miac.zdrav76.ru/event/%d0%a1%d0%b4%d0%b0%d1%87%d0%b0-%d0%b4%d0%b5%d0%b6%d1%83%d1%80%d1%81%d1%82%d0%b2-%d0%b7%d0%b0-%d0%bf%d1%80%d0%b5%d0%b4%d1%8b%d0%b4%d1%83%d1%89%d0%b8%d0%b9-%d0%b4%d0%b5%d0%bd%d1%8c-%d0%b2-%d1%81-65/
LOCATION:В режиме ВКС
END:VEVENT
BEGIN:VEVENT
DTSTART;TZID=Europe/Moscow:20241017T140000
DTEND;TZID=Europe/Moscow:20241017T153000
DTSTAMP:20260421T201244
CREATED:20241014T130945Z
LAST-MODIFIED:20241014T130945Z
UID:29985-1729173600-1729179000@miac.zdrav76.ru
SUMMARY:РТК. РИС/ЦАМИ\, СМП
DESCRIPTION:
URL:https://miac.zdrav76.ru/event/%d0%a0%d0%a2%d0%9a-%d0%a0%d0%98%d0%a1-%d0%a6%d0%90%d0%9c%d0%98-%d0%a1%d0%9c%d0%9f-13/
LOCATION:В режиме ВКС
END:VEVENT
BEGIN:VEVENT
DTSTART;TZID=Europe/Moscow:20241017T133000
DTEND;TZID=Europe/Moscow:20241017T150000
DTSTAMP:20260421T201244
CREATED:20241014T131200Z
LAST-MODIFIED:20241014T131200Z
UID:29990-1729171800-1729177200@miac.zdrav76.ru
SUMMARY:Разговор главных внештатных специалистов МЗ ЯО с врачами-терапевтами муниципальных районов ЯО
DESCRIPTION:
URL:https://miac.zdrav76.ru/event/%d0%a0%d0%b0%d0%b7%d0%b3%d0%be%d0%b2%d0%be%d1%80-%d0%b3%d0%bb%d0%b0%d0%b2%d0%bd%d1%8b%d1%85-%d0%b2%d0%bd%d0%b5%d1%88%d1%82%d0%b0%d1%82%d0%bd%d1%8b%d1%85-%d1%81%d0%bf%d0%b5%d1%86%d0%b8%d0%b0%d0%bb-3/
LOCATION:В режиме ВКС
END:VEVENT
BEGIN:VEVENT
DTSTART;TZID=Europe/Moscow:20241017T090000
DTEND;TZID=Europe/Moscow:20241017T093000
DTSTAMP:20260421T201244
CREATED:20241014T130643Z
LAST-MODIFIED:20241014T130643Z
UID:29975-1729155600-1729157400@miac.zdrav76.ru
SUMMARY:Сдача дежурств за предыдущий день в стационаре
DESCRIPTION:
URL:https://miac.zdrav76.ru/event/%d0%a1%d0%b4%d0%b0%d1%87%d0%b0-%d0%b4%d0%b5%d0%b6%d1%83%d1%80%d1%81%d1%82%d0%b2-%d0%b7%d0%b0-%d0%bf%d1%80%d0%b5%d0%b4%d1%8b%d0%b4%d1%83%d1%89%d0%b8%d0%b9-%d0%b4%d0%b5%d0%bd%d1%8c-%d0%b2-%d1%81-64/
LOCATION:В режиме ВКС
END:VEVENT
BEGIN:VEVENT
DTSTART;TZID=Europe/Moscow:20241016T093000
DTEND;TZID=Europe/Moscow:20241016T100000
DTSTAMP:20260421T201244
CREATED:20241014T130624Z
LAST-MODIFIED:20241014T130624Z
UID:29973-1729071000-1729072800@miac.zdrav76.ru
SUMMARY:Сдача дежурств за предыдущий день в стационаре
DESCRIPTION:
URL:https://miac.zdrav76.ru/event/%d0%a1%d0%b4%d0%b0%d1%87%d0%b0-%d0%b4%d0%b5%d0%b6%d1%83%d1%80%d1%81%d1%82%d0%b2-%d0%b7%d0%b0-%d0%bf%d1%80%d0%b5%d0%b4%d1%8b%d0%b4%d1%83%d1%89%d0%b8%d0%b9-%d0%b4%d0%b5%d0%bd%d1%8c-%d0%b2-%d1%81-63/
LOCATION:В режиме ВКС
END:VEVENT
BEGIN:VEVENT
DTSTART;TZID=Europe/Moscow:20241015T150000
DTEND;TZID=Europe/Moscow:20241015T163000
DTSTAMP:20260421T201244
CREATED:20241014T130833Z
LAST-MODIFIED:20241014T130833Z
UID:29981-1729004400-1729009800@miac.zdrav76.ru
SUMMARY:Самара. Текущие проекты
DESCRIPTION:
URL:https://miac.zdrav76.ru/event/%d0%a1%d0%b0%d0%bc%d0%b0%d1%80%d0%b0-%d0%a2%d0%b5%d0%ba%d1%83%d1%89%d0%b8%d0%b5-%d0%bf%d1%80%d0%be%d0%b5%d0%ba%d1%82%d1%8b-13/
LOCATION:В режиме ВКС
END:VEVENT
BEGIN:VEVENT
DTSTART;TZID=Europe/Moscow:20241015T130000
DTEND;TZID=Europe/Moscow:20241015T140000
DTSTAMP:20260421T201244
CREATED:20241014T130738Z
LAST-MODIFIED:20241014T130738Z
UID:29979-1728997200-1729000800@miac.zdrav76.ru
SUMMARY:Организационное совещание по проекту “Наставничество” с главными внештатными специалистами МЗ ЯО
DESCRIPTION:
URL:https://miac.zdrav76.ru/event/%d0%9e%d1%80%d0%b3%d0%b0%d0%bd%d0%b8%d0%b7%d0%b0%d1%86%d0%b8%d0%be%d0%bd%d0%bd%d0%be%d0%b5-%d1%81%d0%be%d0%b2%d0%b5%d1%89%d0%b0%d0%bd%d0%b8%d0%b5-%d0%bf%d0%be-%d0%bf%d1%80%d0%be%d0%b5%d0%ba%d1%82-8/
LOCATION:В режиме ВКС
END:VEVENT
BEGIN:VEVENT
DTSTART;TZID=Europe/Moscow:20241015T090000
DTEND;TZID=Europe/Moscow:20241015T093000
DTSTAMP:20260421T201244
CREATED:20241014T130606Z
LAST-MODIFIED:20241014T130606Z
UID:29971-1728982800-1728984600@miac.zdrav76.ru
SUMMARY:Сдача дежурств за предыдущий день в стационаре
DESCRIPTION:
URL:https://miac.zdrav76.ru/event/%d0%a1%d0%b4%d0%b0%d1%87%d0%b0-%d0%b4%d0%b5%d0%b6%d1%83%d1%80%d1%81%d1%82%d0%b2-%d0%b7%d0%b0-%d0%bf%d1%80%d0%b5%d0%b4%d1%8b%d0%b4%d1%83%d1%89%d0%b8%d0%b9-%d0%b4%d0%b5%d0%bd%d1%8c-%d0%b2-%d1%81-62/
LOCATION:В режиме ВКС
END:VEVENT
BEGIN:VEVENT
DTSTART;TZID=Europe/Moscow:20241014T090000
DTEND;TZID=Europe/Moscow:20241014T093000
DTSTAMP:20260421T201244
CREATED:20241014T130547Z
LAST-MODIFIED:20241014T130547Z
UID:29969-1728896400-1728898200@miac.zdrav76.ru
SUMMARY:Сдача дежурств за предыдущий день в стационаре
DESCRIPTION:
URL:https://miac.zdrav76.ru/event/%d0%a1%d0%b4%d0%b0%d1%87%d0%b0-%d0%b4%d0%b5%d0%b6%d1%83%d1%80%d1%81%d1%82%d0%b2-%d0%b7%d0%b0-%d0%bf%d1%80%d0%b5%d0%b4%d1%8b%d0%b4%d1%83%d1%89%d0%b8%d0%b9-%d0%b4%d0%b5%d0%bd%d1%8c-%d0%b2-%d1%81-61/
LOCATION:В режиме ВКС
END:VEVENT
BEGIN:VEVENT
DTSTART;TZID=Europe/Moscow:20241011T120000
DTEND;TZID=Europe/Moscow:20241011T130000
DTSTAMP:20260421T201244
CREATED:20241004T045752Z
LAST-MODIFIED:20241004T045752Z
UID:29857-1728648000-1728651600@miac.zdrav76.ru
SUMMARY:Рабочее совещание с ЦАОП ЯО
DESCRIPTION:
URL:https://miac.zdrav76.ru/event/%d0%a0%d0%b0%d0%b1%d0%be%d1%87%d0%b5%d0%b5-%d1%81%d0%be%d0%b2%d0%b5%d1%89%d0%b0%d0%bd%d0%b8%d0%b5-%d1%81-%d0%a6%d0%90%d0%9e%d0%9f-%d0%af%d0%9e-8/
LOCATION:В режиме ВКС
END:VEVENT
END:VCALENDAR