BEGIN:VCALENDAR
VERSION:2.0
PRODID:-//ГБУЗ ЯО &quot;Медицинский информационно-аналитический центр&quot; - ECPv6.15.17.1//NONSGML v1.0//EN
CALSCALE:GREGORIAN
METHOD:PUBLISH
X-WR-CALNAME:ГБУЗ ЯО &quot;Медицинский информационно-аналитический центр&quot;
X-ORIGINAL-URL:https://miac.zdrav76.ru
X-WR-CALDESC:Мероприятия для ГБУЗ ЯО &quot;Медицинский информационно-аналитический центр&quot;
REFRESH-INTERVAL;VALUE=DURATION:PT1H
X-Robots-Tag:noindex
X-PUBLISHED-TTL:PT1H
BEGIN:VTIMEZONE
TZID:Europe/Moscow
BEGIN:STANDARD
TZOFFSETFROM:+0300
TZOFFSETTO:+0300
TZNAME:MSK
DTSTART:20230101T000000
END:STANDARD
END:VTIMEZONE
BEGIN:VEVENT
DTSTART;TZID=Europe/Moscow:20241114T150000
DTEND;TZID=Europe/Moscow:20241114T160000
DTSTAMP:20260421T162747
CREATED:20241107T083219Z
LAST-MODIFIED:20241107T083219Z
UID:30450-1731596400-1731600000@miac.zdrav76.ru
SUMMARY:РТК. РИС/ЦАМИ\, СМП
DESCRIPTION:
URL:https://miac.zdrav76.ru/event/%d0%a0%d0%a2%d0%9a-%d0%a0%d0%98%d0%a1-%d0%a6%d0%90%d0%9c%d0%98-%d0%a1%d0%9c%d0%9f-16/
END:VEVENT
BEGIN:VEVENT
DTSTART;TZID=Europe/Moscow:20241114T133000
DTEND;TZID=Europe/Moscow:20241114T150000
DTSTAMP:20260421T162747
CREATED:20241107T083304Z
LAST-MODIFIED:20241107T083304Z
UID:30452-1731591000-1731596400@miac.zdrav76.ru
SUMMARY:Разговор гл. внеш. спец. МЗ ЯО с врачами-терапевтами МР ЯО
DESCRIPTION:
URL:https://miac.zdrav76.ru/event/%d0%a0%d0%b0%d0%b7%d0%b3%d0%be%d0%b2%d0%be%d1%80-%d0%b3%d0%bb-%d0%b2%d0%bd%d0%b5%d1%88-%d1%81%d0%bf%d0%b5%d1%86-%d0%9c%d0%97-%d0%af%d0%9e-%d1%81-%d0%b2%d1%80%d0%b0%d1%87%d0%b0%d0%bc%d0%b8-%d1%82-2/
END:VEVENT
BEGIN:VEVENT
DTSTART;TZID=Europe/Moscow:20241114T130000
DTEND;TZID=Europe/Moscow:20241114T140000
DTSTAMP:20260421T162747
CREATED:20241118T104243Z
LAST-MODIFIED:20241118T104243Z
UID:30675-1731589200-1731592800@miac.zdrav76.ru
SUMMARY:Тестирование и обучение мед.работников
DESCRIPTION:
URL:https://miac.zdrav76.ru/event/%d0%a2%d0%b5%d1%81%d1%82%d0%b8%d1%80%d0%be%d0%b2%d0%b0%d0%bd%d0%b8%d0%b5-%d0%b8-%d0%be%d0%b1%d1%83%d1%87%d0%b5%d0%bd%d0%b8%d0%b5-%d0%bc%d0%b5%d0%b4-%d1%80%d0%b0%d0%b1%d0%be%d1%82%d0%bd%d0%b8%d0%ba/
LOCATION:В режиме ВКС
END:VEVENT
BEGIN:VEVENT
DTSTART;TZID=Europe/Moscow:20241114T090000
DTEND;TZID=Europe/Moscow:20241114T093000
DTSTAMP:20260421T162747
CREATED:20241107T083131Z
LAST-MODIFIED:20241107T083131Z
UID:30448-1731574800-1731576600@miac.zdrav76.ru
SUMMARY:Сдача дежурств за предыдущий день в стационаре
DESCRIPTION:
URL:https://miac.zdrav76.ru/event/%d0%a1%d0%b4%d0%b0%d1%87%d0%b0-%d0%b4%d0%b5%d0%b6%d1%83%d1%80%d1%81%d1%82%d0%b2-%d0%b7%d0%b0-%d0%bf%d1%80%d0%b5%d0%b4%d1%8b%d0%b4%d1%83%d1%89%d0%b8%d0%b9-%d0%b4%d0%b5%d0%bd%d1%8c-%d0%b2-%d1%81-85/
END:VEVENT
BEGIN:VEVENT
DTSTART;TZID=Europe/Moscow:20241113T130000
DTEND;TZID=Europe/Moscow:20241113T150000
DTSTAMP:20260421T162747
CREATED:20241113T051826Z
LAST-MODIFIED:20241113T051852Z
UID:30541-1731502800-1731510000@miac.zdrav76.ru
SUMMARY:Совещание бюро МСЭ с руководителями и зам. руководителей МО и отв. за КЭР
DESCRIPTION:
URL:https://miac.zdrav76.ru/event/%d0%a1%d0%be%d0%b2%d0%b5%d1%89%d0%b0%d0%bd%d0%b8%d0%b5-%d0%b1%d1%8e%d1%80%d0%be-%d0%9c%d0%a1%d0%ad-%d1%81-%d1%80%d1%83%d0%ba%d0%be%d0%b2%d0%be%d0%b4%d0%b8%d1%82%d0%b5%d0%bb%d1%8f%d0%bc%d0%b8-%d0%b8/
END:VEVENT
BEGIN:VEVENT
DTSTART;TZID=Europe/Moscow:20241113T110000
DTEND;TZID=Europe/Moscow:20241113T123000
DTSTAMP:20260421T162747
CREATED:20241113T071848Z
LAST-MODIFIED:20241113T071848Z
UID:30561-1731495600-1731501000@miac.zdrav76.ru
SUMMARY:Переход на единую МИС
DESCRIPTION:
URL:https://miac.zdrav76.ru/event/%d0%9f%d0%b5%d1%80%d0%b5%d1%85%d0%be%d0%b4-%d0%bd%d0%b0-%d0%b5%d0%b4%d0%b8%d0%bd%d1%83%d1%8e-%d0%9c%d0%98%d0%a1/
LOCATION:В режиме ВКС
END:VEVENT
BEGIN:VEVENT
DTSTART;TZID=Europe/Moscow:20241113T090000
DTEND;TZID=Europe/Moscow:20241113T100000
DTSTAMP:20260421T162747
CREATED:20241112T125352Z
LAST-MODIFIED:20241112T125352Z
UID:30533-1731488400-1731492000@miac.zdrav76.ru
SUMMARY:Совещание ССМП с ЦРБ "Головокружение. Этиология и патогенез..."
DESCRIPTION:
URL:https://miac.zdrav76.ru/event/%d0%a1%d0%be%d0%b2%d0%b5%d1%89%d0%b0%d0%bd%d0%b8%d0%b5-%d0%a1%d0%a1%d0%9c%d0%9f-%d1%81-%d0%a6%d0%a0%d0%91-%d0%93%d0%be%d0%bb%d0%be%d0%b2%d0%be%d0%ba%d1%80%d1%83%d0%b6%d0%b5%d0%bd%d0%b8%d0%b5-%d0%ad/
END:VEVENT
BEGIN:VEVENT
DTSTART;TZID=Europe/Moscow:20241113T090000
DTEND;TZID=Europe/Moscow:20241113T093000
DTSTAMP:20260421T162747
CREATED:20241107T083047Z
LAST-MODIFIED:20241107T083047Z
UID:30444-1731488400-1731490200@miac.zdrav76.ru
SUMMARY:Сдача дежурств за предыдущий день в стационаре
DESCRIPTION:
URL:https://miac.zdrav76.ru/event/%d0%a1%d0%b4%d0%b0%d1%87%d0%b0-%d0%b4%d0%b5%d0%b6%d1%83%d1%80%d1%81%d1%82%d0%b2-%d0%b7%d0%b0-%d0%bf%d1%80%d0%b5%d0%b4%d1%8b%d0%b4%d1%83%d1%89%d0%b8%d0%b9-%d0%b4%d0%b5%d0%bd%d1%8c-%d0%b2-%d1%81-83/
END:VEVENT
BEGIN:VEVENT
DTSTART;TZID=Europe/Moscow:20241112T150000
DTEND;TZID=Europe/Moscow:20241112T163000
DTSTAMP:20260421T162747
CREATED:20241107T083437Z
LAST-MODIFIED:20241107T083437Z
UID:30456-1731423600-1731429000@miac.zdrav76.ru
SUMMARY:Самара. Текущие проекты
DESCRIPTION:
URL:https://miac.zdrav76.ru/event/%d0%a1%d0%b0%d0%bc%d0%b0%d1%80%d0%b0-%d0%a2%d0%b5%d0%ba%d1%83%d1%89%d0%b8%d0%b5-%d0%bf%d1%80%d0%be%d0%b5%d0%ba%d1%82%d1%8b-17/
END:VEVENT
BEGIN:VEVENT
DTSTART;TZID=Europe/Moscow:20241112T130000
DTEND;TZID=Europe/Moscow:20241112T140000
DTSTAMP:20260421T162747
CREATED:20241107T083351Z
LAST-MODIFIED:20241107T083351Z
UID:30454-1731416400-1731420000@miac.zdrav76.ru
SUMMARY:Орг. совещание по проекту “Наставничество” с гл. внеш. специалистами МЗ ЯО
DESCRIPTION:
URL:https://miac.zdrav76.ru/event/%d0%9e%d1%80%d0%b3-%d1%81%d0%be%d0%b2%d0%b5%d1%89%d0%b0%d0%bd%d0%b8%d0%b5-%d0%bf%d0%be-%d0%bf%d1%80%d0%be%d0%b5%d0%ba%d1%82%d1%83-%d0%9d%d0%b0%d1%81%d1%82%d0%b0%d0%b2%d0%bd%d0%b8%d1%87%d0%b5-2/
END:VEVENT
BEGIN:VEVENT
DTSTART;TZID=Europe/Moscow:20241112T100000
DTEND;TZID=Europe/Moscow:20241112T103000
DTSTAMP:20260421T162747
CREATED:20241118T124503Z
LAST-MODIFIED:20241118T124503Z
UID:30682-1731405600-1731407400@miac.zdrav76.ru
SUMMARY:Приглашение на конференцию «ТЗ на ТП ИИ
DESCRIPTION:
URL:https://miac.zdrav76.ru/event/%d0%9f%d1%80%d0%b8%d0%b3%d0%bb%d0%b0%d1%88%d0%b5%d0%bd%d0%b8%d0%b5-%d0%bd%d0%b0-%d0%ba%d0%be%d0%bd%d1%84%d0%b5%d1%80%d0%b5%d0%bd%d1%86%d0%b8%d1%8e-%d0%a2%d0%97-%d0%bd%d0%b0-%d0%a2%d0%9f-%d0%98/
LOCATION:В режиме ВКС
END:VEVENT
BEGIN:VEVENT
DTSTART;TZID=Europe/Moscow:20241112T090000
DTEND;TZID=Europe/Moscow:20241112T093000
DTSTAMP:20260421T162747
CREATED:20241107T082956Z
LAST-MODIFIED:20241107T082956Z
UID:30442-1731402000-1731403800@miac.zdrav76.ru
SUMMARY:Сдача дежурств за предыдущий день в стационаре
DESCRIPTION:
URL:https://miac.zdrav76.ru/event/%d0%a1%d0%b4%d0%b0%d1%87%d0%b0-%d0%b4%d0%b5%d0%b6%d1%83%d1%80%d1%81%d1%82%d0%b2-%d0%b7%d0%b0-%d0%bf%d1%80%d0%b5%d0%b4%d1%8b%d0%b4%d1%83%d1%89%d0%b8%d0%b9-%d0%b4%d0%b5%d0%bd%d1%8c-%d0%b2-%d1%81-82/
END:VEVENT
BEGIN:VEVENT
DTSTART;TZID=Europe/Moscow:20241111T110000
DTEND;TZID=Europe/Moscow:20241111T123000
DTSTAMP:20260421T162747
CREATED:20241118T123903Z
LAST-MODIFIED:20241118T123903Z
UID:30680-1731322800-1731328200@miac.zdrav76.ru
SUMMARY:Мышкин. Выполнение показателей цифровизации
DESCRIPTION:
URL:https://miac.zdrav76.ru/event/%d0%9c%d1%8b%d1%88%d0%ba%d0%b8%d0%bd-%d0%92%d1%8b%d0%bf%d0%be%d0%bb%d0%bd%d0%b5%d0%bd%d0%b8%d0%b5-%d0%bf%d0%be%d0%ba%d0%b0%d0%b7%d0%b0%d1%82%d0%b5%d0%bb%d0%b5%d0%b9-%d1%86%d0%b8%d1%84%d1%80%d0%be/
LOCATION:В режиме ВКС
END:VEVENT
BEGIN:VEVENT
DTSTART;TZID=Europe/Moscow:20241111T090000
DTEND;TZID=Europe/Moscow:20241111T093000
DTSTAMP:20260421T162747
CREATED:20241107T082937Z
LAST-MODIFIED:20241107T082937Z
UID:30440-1731315600-1731317400@miac.zdrav76.ru
SUMMARY:Сдача дежурств за предыдущий день в стационаре
DESCRIPTION:
URL:https://miac.zdrav76.ru/event/%d0%a1%d0%b4%d0%b0%d1%87%d0%b0-%d0%b4%d0%b5%d0%b6%d1%83%d1%80%d1%81%d1%82%d0%b2-%d0%b7%d0%b0-%d0%bf%d1%80%d0%b5%d0%b4%d1%8b%d0%b4%d1%83%d1%89%d0%b8%d0%b9-%d0%b4%d0%b5%d0%bd%d1%8c-%d0%b2-%d1%81-81/
END:VEVENT
BEGIN:VEVENT
DTSTART;TZID=Europe/Moscow:20241108T090000
DTEND;TZID=Europe/Moscow:20241108T093000
DTSTAMP:20260421T162747
CREATED:20241101T124128Z
LAST-MODIFIED:20241101T124128Z
UID:30382-1731056400-1731058200@miac.zdrav76.ru
SUMMARY:Сдача дежурств за предыдущий день в стационаре
DESCRIPTION:
URL:https://miac.zdrav76.ru/event/%d0%a1%d0%b4%d0%b0%d1%87%d0%b0-%d0%b4%d0%b5%d0%b6%d1%83%d1%80%d1%81%d1%82%d0%b2-%d0%b7%d0%b0-%d0%bf%d1%80%d0%b5%d0%b4%d1%8b%d0%b4%d1%83%d1%89%d0%b8%d0%b9-%d0%b4%d0%b5%d0%bd%d1%8c-%d0%b2-%d1%81-80/
END:VEVENT
BEGIN:VEVENT
DTSTART;TZID=Europe/Moscow:20241107T150000
DTEND;TZID=Europe/Moscow:20241107T160000
DTSTAMP:20260421T162747
CREATED:20241102T052317Z
LAST-MODIFIED:20241102T052317Z
UID:30396-1730991600-1730995200@miac.zdrav76.ru
SUMMARY:РТК. РИС/ЦАМИ\, СМП
DESCRIPTION:
URL:https://miac.zdrav76.ru/event/%d0%a0%d0%a2%d0%9a-%d0%a0%d0%98%d0%a1-%d0%a6%d0%90%d0%9c%d0%98-%d0%a1%d0%9c%d0%9f-15/
END:VEVENT
BEGIN:VEVENT
DTSTART;TZID=Europe/Moscow:20241107T133000
DTEND;TZID=Europe/Moscow:20241107T150000
DTSTAMP:20260421T162747
CREATED:20241102T052048Z
LAST-MODIFIED:20241102T052048Z
UID:30393-1730986200-1730991600@miac.zdrav76.ru
SUMMARY:Разговор гл. внеш. спец. МЗ ЯО с врачами-терапевтами МР ЯО
DESCRIPTION:
URL:https://miac.zdrav76.ru/event/%d0%a0%d0%b0%d0%b7%d0%b3%d0%be%d0%b2%d0%be%d1%80-%d0%b3%d0%bb-%d0%b2%d0%bd%d0%b5%d1%88-%d1%81%d0%bf%d0%b5%d1%86-%d0%9c%d0%97-%d0%af%d0%9e-%d1%81-%d0%b2%d1%80%d0%b0%d1%87%d0%b0%d0%bc%d0%b8-%d1%82/
END:VEVENT
BEGIN:VEVENT
DTSTART;TZID=Europe/Moscow:20241107T130000
DTEND;TZID=Europe/Moscow:20241107T150000
DTSTAMP:20260421T162747
CREATED:20241107T082747Z
LAST-MODIFIED:20241107T082747Z
UID:30437-1730984400-1730991600@miac.zdrav76.ru
SUMMARY:ЛЛО. Подготовка док. на КЭК\, заявки на 2025
DESCRIPTION:
URL:https://miac.zdrav76.ru/event/%d0%9b%d0%9b%d0%9e-%d0%9f%d0%be%d0%b4%d0%b3%d0%be%d1%82%d0%be%d0%b2%d0%ba%d0%b0-%d0%b4%d0%be%d0%ba-%d0%bd%d0%b0-%d0%9a%d0%ad%d0%9a-%d0%b7%d0%b0%d1%8f%d0%b2%d0%ba%d0%b8-%d0%bd%d0%b0-2025/
END:VEVENT
BEGIN:VEVENT
DTSTART;TZID=Europe/Moscow:20241107T090000
DTEND;TZID=Europe/Moscow:20241107T093000
DTSTAMP:20260421T162747
CREATED:20241101T124108Z
LAST-MODIFIED:20241101T124108Z
UID:30380-1730970000-1730971800@miac.zdrav76.ru
SUMMARY:Сдача дежурств за предыдущий день в стационаре
DESCRIPTION:
URL:https://miac.zdrav76.ru/event/%d0%a1%d0%b4%d0%b0%d1%87%d0%b0-%d0%b4%d0%b5%d0%b6%d1%83%d1%80%d1%81%d1%82%d0%b2-%d0%b7%d0%b0-%d0%bf%d1%80%d0%b5%d0%b4%d1%8b%d0%b4%d1%83%d1%89%d0%b8%d0%b9-%d0%b4%d0%b5%d0%bd%d1%8c-%d0%b2-%d1%81-79/
END:VEVENT
BEGIN:VEVENT
DTSTART;TZID=Europe/Moscow:20241106T113000
DTEND;TZID=Europe/Moscow:20241106T123000
DTSTAMP:20260421T162747
CREATED:20241106T123050Z
LAST-MODIFIED:20241106T123050Z
UID:30426-1730892600-1730896200@miac.zdrav76.ru
SUMMARY:1С. Техническая поддержка
DESCRIPTION:
URL:https://miac.zdrav76.ru/event/1%d0%a1-%d0%a2%d0%b5%d1%85%d0%bd%d0%b8%d1%87%d0%b5%d1%81%d0%ba%d0%b0%d1%8f-%d0%bf%d0%be%d0%b4%d0%b4%d0%b5%d1%80%d0%b6%d0%ba%d0%b0/
LOCATION:В режиме ВКС
END:VEVENT
BEGIN:VEVENT
DTSTART;TZID=Europe/Moscow:20241106T090000
DTEND;TZID=Europe/Moscow:20241106T093000
DTSTAMP:20260421T162747
CREATED:20241101T124045Z
LAST-MODIFIED:20241101T124045Z
UID:30378-1730883600-1730885400@miac.zdrav76.ru
SUMMARY:Сдача дежурств за предыдущий день в стационаре
DESCRIPTION:
URL:https://miac.zdrav76.ru/event/%d0%a1%d0%b4%d0%b0%d1%87%d0%b0-%d0%b4%d0%b5%d0%b6%d1%83%d1%80%d1%81%d1%82%d0%b2-%d0%b7%d0%b0-%d0%bf%d1%80%d0%b5%d0%b4%d1%8b%d0%b4%d1%83%d1%89%d0%b8%d0%b9-%d0%b4%d0%b5%d0%bd%d1%8c-%d0%b2-%d1%81-78/
END:VEVENT
BEGIN:VEVENT
DTSTART;TZID=Europe/Moscow:20241105T150000
DTEND;TZID=Europe/Moscow:20241105T163000
DTSTAMP:20260421T162747
CREATED:20241102T051800Z
LAST-MODIFIED:20241102T051851Z
UID:30390-1730818800-1730824200@miac.zdrav76.ru
SUMMARY:Самара. Текущие проекты
DESCRIPTION:
URL:https://miac.zdrav76.ru/event/%d0%9e%d1%80%d0%b3%d0%b0%d0%bd%d0%b8%d0%b7%d0%b0%d1%86%d0%b8%d0%be%d0%bd%d0%bd%d0%be%d0%b5-%d1%81%d0%be%d0%b2%d0%b5%d1%89%d0%b0%d0%bd%d0%b8%d0%b5-%d0%bf%d0%be-%d0%bf%d1%80%d0%be%d0%b5%d0%ba%d1%82-10/
END:VEVENT
BEGIN:VEVENT
DTSTART;TZID=Europe/Moscow:20241105T130000
DTEND;TZID=Europe/Moscow:20241105T140000
DTSTAMP:20260421T162747
CREATED:20241102T051642Z
LAST-MODIFIED:20241102T052136Z
UID:30388-1730811600-1730815200@miac.zdrav76.ru
SUMMARY:Орг. совещание по проекту “Наставничество” с гл. внеш. специалистами МЗ ЯО
DESCRIPTION:
URL:https://miac.zdrav76.ru/event/%d0%9e%d1%80%d0%b3-%d1%81%d0%be%d0%b2%d0%b5%d1%89%d0%b0%d0%bd%d0%b8%d0%b5-%d0%bf%d0%be-%d0%bf%d1%80%d0%be%d0%b5%d0%ba%d1%82%d1%83-%d0%9d%d0%b0%d1%81%d1%82%d0%b0%d0%b2%d0%bd%d0%b8%d1%87%d0%b5/
END:VEVENT
BEGIN:VEVENT
DTSTART;TZID=Europe/Moscow:20241105T090000
DTEND;TZID=Europe/Moscow:20241105T093000
DTSTAMP:20260421T162747
CREATED:20241101T124026Z
LAST-MODIFIED:20241101T124026Z
UID:30376-1730797200-1730799000@miac.zdrav76.ru
SUMMARY:Сдача дежурств за предыдущий день в стационаре
DESCRIPTION:
URL:https://miac.zdrav76.ru/event/%d0%a1%d0%b4%d0%b0%d1%87%d0%b0-%d0%b4%d0%b5%d0%b6%d1%83%d1%80%d1%81%d1%82%d0%b2-%d0%b7%d0%b0-%d0%bf%d1%80%d0%b5%d0%b4%d1%8b%d0%b4%d1%83%d1%89%d0%b8%d0%b9-%d0%b4%d0%b5%d0%bd%d1%8c-%d0%b2-%d1%81-77/
END:VEVENT
BEGIN:VEVENT
DTSTART;TZID=Europe/Moscow:20241102T161000
DTEND;TZID=Europe/Moscow:20241102T173000
DTSTAMP:20260421T162747
CREATED:20241105T045616Z
LAST-MODIFIED:20241105T045616Z
UID:30400-1730563800-1730568600@miac.zdrav76.ru
SUMMARY:ЦТ. Организационные вопросы
DESCRIPTION:
URL:https://miac.zdrav76.ru/event/%d0%a6%d0%a2-%d0%9e%d1%80%d0%b3%d0%b0%d0%bd%d0%b8%d0%b7%d0%b0%d1%86%d0%b8%d0%be%d0%bd%d0%bd%d1%8b%d0%b5-%d0%b2%d0%be%d0%bf%d1%80%d0%be%d1%81%d1%8b-7/
LOCATION:В режиме ВКС
END:VEVENT
BEGIN:VEVENT
DTSTART;TZID=Europe/Moscow:20241102T100000
DTEND;TZID=Europe/Moscow:20241102T113000
DTSTAMP:20260421T162747
CREATED:20241101T123914Z
LAST-MODIFIED:20241101T123914Z
UID:30373-1730541600-1730547000@miac.zdrav76.ru
SUMMARY:ЛЛО. Совещание заместителя министра Корзиной Н.С.  с  главными врачами
DESCRIPTION:
URL:https://miac.zdrav76.ru/event/%d0%9b%d0%9b%d0%9e-%d0%a1%d0%be%d0%b2%d0%b5%d1%89%d0%b0%d0%bd%d0%b8%d0%b5-%d0%b7%d0%b0%d0%bc%d0%b5%d1%81%d1%82%d0%b8%d1%82%d0%b5%d0%bb%d1%8f-%d0%bc%d0%b8%d0%bd%d0%b8%d1%81%d1%82%d1%80%d0%b0-%d0%9a/
END:VEVENT
BEGIN:VEVENT
DTSTART;TZID=Europe/Moscow:20241102T090000
DTEND;TZID=Europe/Moscow:20241102T093000
DTSTAMP:20260421T162747
CREATED:20241029T072802Z
LAST-MODIFIED:20241029T072802Z
UID:30296-1730538000-1730539800@miac.zdrav76.ru
SUMMARY:Сдача дежурств за предыдущий день в стационаре
DESCRIPTION:
URL:https://miac.zdrav76.ru/event/%d0%a1%d0%b4%d0%b0%d1%87%d0%b0-%d0%b4%d0%b5%d0%b6%d1%83%d1%80%d1%81%d1%82%d0%b2-%d0%b7%d0%b0-%d0%bf%d1%80%d0%b5%d0%b4%d1%8b%d0%b4%d1%83%d1%89%d0%b8%d0%b9-%d0%b4%d0%b5%d0%bd%d1%8c-%d0%b2-%d1%81-76/
END:VEVENT
BEGIN:VEVENT
DTSTART;TZID=Europe/Moscow:20241101T120000
DTEND;TZID=Europe/Moscow:20241101T130000
DTSTAMP:20260421T162747
CREATED:20241024T105603Z
LAST-MODIFIED:20241024T105603Z
UID:30205-1730462400-1730466000@miac.zdrav76.ru
SUMMARY:Рабочее совещание с ЦАОП ЯО
DESCRIPTION:
URL:https://miac.zdrav76.ru/event/%d0%a0%d0%b0%d0%b1%d0%be%d1%87%d0%b5%d0%b5-%d1%81%d0%be%d0%b2%d0%b5%d1%89%d0%b0%d0%bd%d0%b8%d0%b5-%d1%81-%d0%a6%d0%90%d0%9e%d0%9f-%d0%af%d0%9e-10/
END:VEVENT
BEGIN:VEVENT
DTSTART;TZID=Europe/Moscow:20241101T090000
DTEND;TZID=Europe/Moscow:20241101T093000
DTSTAMP:20260421T162747
CREATED:20241024T105346Z
LAST-MODIFIED:20241024T105346Z
UID:30199-1730451600-1730453400@miac.zdrav76.ru
SUMMARY:Сдача дежурств за предыдущий день в стационаре
DESCRIPTION:
URL:https://miac.zdrav76.ru/event/%d0%a1%d0%b4%d0%b0%d1%87%d0%b0-%d0%b4%d0%b5%d0%b6%d1%83%d1%80%d1%81%d1%82%d0%b2-%d0%b7%d0%b0-%d0%bf%d1%80%d0%b5%d0%b4%d1%8b%d0%b4%d1%83%d1%89%d0%b8%d0%b9-%d0%b4%d0%b5%d0%bd%d1%8c-%d0%b2-%d1%81-75/
END:VEVENT
BEGIN:VEVENT
DTSTART;TZID=Europe/Moscow:20241031T150000
DTEND;TZID=Europe/Moscow:20241031T160000
DTSTAMP:20260421T162747
CREATED:20241024T105525Z
LAST-MODIFIED:20241031T063522Z
UID:30203-1730386800-1730390400@miac.zdrav76.ru
SUMMARY:РТК. РИС/ЦАМИ\, СМП
DESCRIPTION:
URL:https://miac.zdrav76.ru/event/%d0%a0%d0%a2%d0%9a-%d0%a0%d0%98%d0%a1-%d0%a6%d0%90%d0%9c%d0%98-%d0%a1%d0%9c%d0%9f-14/
END:VEVENT
END:VCALENDAR