BEGIN:VCALENDAR
VERSION:2.0
PRODID:-//ГБУЗ ЯО &quot;Медицинский информационно-аналитический центр&quot; - ECPv6.15.17.1//NONSGML v1.0//EN
CALSCALE:GREGORIAN
METHOD:PUBLISH
X-ORIGINAL-URL:https://miac.zdrav76.ru
X-WR-CALDESC:Мероприятия для ГБУЗ ЯО &quot;Медицинский информационно-аналитический центр&quot;
REFRESH-INTERVAL;VALUE=DURATION:PT1H
X-Robots-Tag:noindex
X-PUBLISHED-TTL:PT1H
BEGIN:VTIMEZONE
TZID:Europe/Moscow
BEGIN:STANDARD
TZOFFSETFROM:+0300
TZOFFSETTO:+0300
TZNAME:MSK
DTSTART:20240101T000000
END:STANDARD
END:VTIMEZONE
BEGIN:VEVENT
DTSTART;TZID=Europe/Moscow:20250326T090000
DTEND;TZID=Europe/Moscow:20250326T093000
DTSTAMP:20260421T032223
CREATED:20250320T121742Z
LAST-MODIFIED:20250320T121742Z
UID:33238-1742979600-1742981400@miac.zdrav76.ru
SUMMARY:Сдача дежурств за предыдущий день в стационаре
DESCRIPTION:
URL:https://miac.zdrav76.ru/event/%d0%a1%d0%b4%d0%b0%d1%87%d0%b0-%d0%b4%d0%b5%d0%b6%d1%83%d1%80%d1%81%d1%82%d0%b2-%d0%b7%d0%b0-%d0%bf%d1%80%d0%b5%d0%b4%d1%8b%d0%b4%d1%83%d1%89%d0%b8%d0%b9-%d0%b4%d0%b5%d0%bd%d1%8c-%d0%b2-%d1%81-171/
END:VEVENT
BEGIN:VEVENT
DTSTART;TZID=Europe/Moscow:20250326T100000
DTEND;TZID=Europe/Moscow:20250326T113000
DTSTAMP:20260421T032223
CREATED:20250325T112902Z
LAST-MODIFIED:20250325T112902Z
UID:33353-1742983200-1742988600@miac.zdrav76.ru
SUMMARY:МЗ ЯО_МЦР ЯО ТЗ и разм-е процедуры на ТП
DESCRIPTION:
URL:https://miac.zdrav76.ru/event/%d0%9c%d0%97-%d0%af%d0%9e_%d0%9c%d0%a6%d0%a0-%d0%af%d0%9e-%d0%a2%d0%97-%d0%b8-%d1%80%d0%b0%d0%b7%d0%bc-%d0%b5-%d0%bf%d1%80%d0%be%d1%86%d0%b5%d0%b4%d1%83%d1%80%d1%8b-%d0%bd%d0%b0-%d0%a2%d0%9f/
END:VEVENT
BEGIN:VEVENT
DTSTART;TZID=Europe/Moscow:20250326T140000
DTEND;TZID=Europe/Moscow:20250326T170000
DTSTAMP:20260421T032223
CREATED:20250324T110537Z
LAST-MODIFIED:20250324T110537Z
UID:33300-1742997600-1743008400@miac.zdrav76.ru
SUMMARY:1С Поликлиника. Показ функционала
DESCRIPTION:
URL:https://miac.zdrav76.ru/event/1%d0%a1-%d0%9f%d0%be%d0%bb%d0%b8%d0%ba%d0%bb%d0%b8%d0%bd%d0%b8%d0%ba%d0%b0-%d0%9f%d0%be%d0%ba%d0%b0%d0%b7-%d1%84%d1%83%d0%bd%d0%ba%d1%86%d0%b8%d0%be%d0%bd%d0%b0%d0%bb%d0%b0-7/
END:VEVENT
BEGIN:VEVENT
DTSTART;TZID=Europe/Moscow:20250327T090000
DTEND;TZID=Europe/Moscow:20250327T093000
DTSTAMP:20260421T032223
CREATED:20250320T121809Z
LAST-MODIFIED:20250320T121809Z
UID:33240-1743066000-1743067800@miac.zdrav76.ru
SUMMARY:Сдача дежурств за предыдущий день в стационаре
DESCRIPTION:
URL:https://miac.zdrav76.ru/event/%d0%a1%d0%b4%d0%b0%d1%87%d0%b0-%d0%b4%d0%b5%d0%b6%d1%83%d1%80%d1%81%d1%82%d0%b2-%d0%b7%d0%b0-%d0%bf%d1%80%d0%b5%d0%b4%d1%8b%d0%b4%d1%83%d1%89%d0%b8%d0%b9-%d0%b4%d0%b5%d0%bd%d1%8c-%d0%b2-%d1%81-172/
END:VEVENT
BEGIN:VEVENT
DTSTART;TZID=Europe/Moscow:20250327T093000
DTEND;TZID=Europe/Moscow:20250327T103000
DTSTAMP:20260421T032223
CREATED:20250325T120108Z
LAST-MODIFIED:20250325T120228Z
UID:33355-1743067800-1743071400@miac.zdrav76.ru
SUMMARY:Неотложные состояния у детей. СМП
DESCRIPTION:
URL:https://miac.zdrav76.ru/event/%d0%9d%d0%b5%d0%be%d1%82%d0%bb%d0%be%d0%b6%d0%bd%d1%8b%d0%b5-%d1%81%d0%be%d1%81%d1%82%d0%be%d1%8f%d0%bd%d0%b8%d1%8f-%d1%83-%d0%b4%d0%b5%d1%82%d0%b5%d0%b9-%d0%94%d0%b8%d0%b0%d0%b3%d0%bd%d0%be%d1%81/
END:VEVENT
BEGIN:VEVENT
DTSTART;TZID=Europe/Moscow:20250327T120000
DTEND;TZID=Europe/Moscow:20250327T133000
DTSTAMP:20260421T032223
CREATED:20250325T110715Z
LAST-MODIFIED:20250325T110715Z
UID:33351-1743076800-1743082200@miac.zdrav76.ru
SUMMARY:Совещание МЗ ЯО и ФКУ "ГБ МСЭ по ЯО"
DESCRIPTION:
URL:https://miac.zdrav76.ru/event/%d0%a1%d0%be%d0%b2%d0%b5%d1%89%d0%b0%d0%bd%d0%b8%d0%b5-%d0%9c%d0%97-%d0%af%d0%9e-%d0%b8-%d0%a4%d0%9a%d0%a3-%d0%93%d0%91-%d0%9c%d0%a1%d0%ad-%d0%bf%d0%be-%d0%af%d0%9e/
END:VEVENT
BEGIN:VEVENT
DTSTART;TZID=Europe/Moscow:20250327T133000
DTEND;TZID=Europe/Moscow:20250327T150000
DTSTAMP:20260421T032223
CREATED:20250320T122141Z
LAST-MODIFIED:20250320T122141Z
UID:33248-1743082200-1743087600@miac.zdrav76.ru
SUMMARY:Разговор гл. внеш. спец-ов МЗ ЯО с терапевтами МР ЯО
DESCRIPTION:
URL:https://miac.zdrav76.ru/event/%d0%a0%d0%b0%d0%b7%d0%b3%d0%be%d0%b2%d0%be%d1%80-%d0%b3%d0%bb-%d0%b2%d0%bd%d0%b5%d1%88-%d1%81%d0%bf%d0%b5%d1%86-%d0%be%d0%b2-%d0%9c%d0%97-%d0%af%d0%9e-%d1%81-%d1%82%d0%b5%d1%80%d0%b0%d0%bf%d0%b5-7/
END:VEVENT
BEGIN:VEVENT
DTSTART;TZID=Europe/Moscow:20250327T140000
DTEND;TZID=Europe/Moscow:20250327T170000
DTSTAMP:20260421T032223
CREATED:20250324T110805Z
LAST-MODIFIED:20250324T110805Z
UID:33307-1743084000-1743094800@miac.zdrav76.ru
SUMMARY:1С Поликлиника. Показ функционала
DESCRIPTION:
URL:https://miac.zdrav76.ru/event/1%d0%a1-%d0%9f%d0%be%d0%bb%d0%b8%d0%ba%d0%bb%d0%b8%d0%bd%d0%b8%d0%ba%d0%b0-%d0%9f%d0%be%d0%ba%d0%b0%d0%b7-%d1%84%d1%83%d0%bd%d0%ba%d1%86%d0%b8%d0%be%d0%bd%d0%b0%d0%bb%d0%b0-8/
END:VEVENT
BEGIN:VEVENT
DTSTART;TZID=Europe/Moscow:20250327T150000
DTEND;TZID=Europe/Moscow:20250327T160000
DTSTAMP:20260421T032223
CREATED:20250320T122314Z
LAST-MODIFIED:20250320T122314Z
UID:33250-1743087600-1743091200@miac.zdrav76.ru
SUMMARY:РТК. РИС/ЦАМИ\, СМП
DESCRIPTION:
URL:https://miac.zdrav76.ru/event/%d0%a0%d0%a2%d0%9a-%d0%a0%d0%98%d0%a1-%d0%a6%d0%90%d0%9c%d0%98-%d0%a1%d0%9c%d0%9f-34/
END:VEVENT
BEGIN:VEVENT
DTSTART;TZID=Europe/Moscow:20250328T090000
DTEND;TZID=Europe/Moscow:20250328T093000
DTSTAMP:20260421T032223
CREATED:20250320T121832Z
LAST-MODIFIED:20250320T121832Z
UID:33242-1743152400-1743154200@miac.zdrav76.ru
SUMMARY:Сдача дежурств за предыдущий день в стационаре
DESCRIPTION:
URL:https://miac.zdrav76.ru/event/%d0%a1%d0%b4%d0%b0%d1%87%d0%b0-%d0%b4%d0%b5%d0%b6%d1%83%d1%80%d1%81%d1%82%d0%b2-%d0%b7%d0%b0-%d0%bf%d1%80%d0%b5%d0%b4%d1%8b%d0%b4%d1%83%d1%89%d0%b8%d0%b9-%d0%b4%d0%b5%d0%bd%d1%8c-%d0%b2-%d1%81-173/
END:VEVENT
BEGIN:VEVENT
DTSTART;TZID=Europe/Moscow:20250328T140000
DTEND;TZID=Europe/Moscow:20250328T170000
DTSTAMP:20260421T032223
CREATED:20250324T110909Z
LAST-MODIFIED:20250324T110909Z
UID:33309-1743170400-1743181200@miac.zdrav76.ru
SUMMARY:1С Поликлиника. Показ функционала
DESCRIPTION:
URL:https://miac.zdrav76.ru/event/1%d0%a1-%d0%9f%d0%be%d0%bb%d0%b8%d0%ba%d0%bb%d0%b8%d0%bd%d0%b8%d0%ba%d0%b0-%d0%9f%d0%be%d0%ba%d0%b0%d0%b7-%d1%84%d1%83%d0%bd%d0%ba%d1%86%d0%b8%d0%be%d0%bd%d0%b0%d0%bb%d0%b0-9/
END:VEVENT
BEGIN:VEVENT
DTSTART;TZID=Europe/Moscow:20250328T150000
DTEND;TZID=Europe/Moscow:20250328T163000
DTSTAMP:20260421T032223
CREATED:20250331T051857Z
LAST-MODIFIED:20250331T051857Z
UID:33485-1743174000-1743179400@miac.zdrav76.ru
SUMMARY:Текущие вопросы
DESCRIPTION:
URL:https://miac.zdrav76.ru/event/%d0%a2%d0%b5%d0%ba%d1%83%d1%89%d0%b8%d0%b5-%d0%b2%d0%be%d0%bf%d1%80%d0%be%d1%81%d1%8b/
END:VEVENT
BEGIN:VEVENT
DTSTART;TZID=Europe/Moscow:20250331T090000
DTEND;TZID=Europe/Moscow:20250331T093000
DTSTAMP:20260421T032223
CREATED:20250327T114829Z
LAST-MODIFIED:20250327T114829Z
UID:33403-1743411600-1743413400@miac.zdrav76.ru
SUMMARY:Сдача дежурств за предыдущий день в стационаре
DESCRIPTION:
URL:https://miac.zdrav76.ru/event/%d0%a1%d0%b4%d0%b0%d1%87%d0%b0-%d0%b4%d0%b5%d0%b6%d1%83%d1%80%d1%81%d1%82%d0%b2-%d0%b7%d0%b0-%d0%bf%d1%80%d0%b5%d0%b4%d1%8b%d0%b4%d1%83%d1%89%d0%b8%d0%b9-%d0%b4%d0%b5%d0%bd%d1%8c-%d0%b2-%d1%81-174/
END:VEVENT
BEGIN:VEVENT
DTSTART;TZID=Europe/Moscow:20250331T140000
DTEND;TZID=Europe/Moscow:20250331T170000
DTSTAMP:20260421T032223
CREATED:20250327T115223Z
LAST-MODIFIED:20250327T115223Z
UID:33413-1743429600-1743440400@miac.zdrav76.ru
SUMMARY:1С Поликлиника. Показ функционала
DESCRIPTION:
URL:https://miac.zdrav76.ru/event/1%d0%a1-%d0%9f%d0%be%d0%bb%d0%b8%d0%ba%d0%bb%d0%b8%d0%bd%d0%b8%d0%ba%d0%b0-%d0%9f%d0%be%d0%ba%d0%b0%d0%b7-%d1%84%d1%83%d0%bd%d0%ba%d1%86%d0%b8%d0%be%d0%bd%d0%b0%d0%bb%d0%b0-10/
END:VEVENT
BEGIN:VEVENT
DTSTART;TZID=Europe/Moscow:20250401T090000
DTEND;TZID=Europe/Moscow:20250401T093000
DTSTAMP:20260421T032223
CREATED:20250327T114855Z
LAST-MODIFIED:20250327T114855Z
UID:33405-1743498000-1743499800@miac.zdrav76.ru
SUMMARY:Сдача дежурств за предыдущий день в стационаре
DESCRIPTION:
URL:https://miac.zdrav76.ru/event/%d0%a1%d0%b4%d0%b0%d1%87%d0%b0-%d0%b4%d0%b5%d0%b6%d1%83%d1%80%d1%81%d1%82%d0%b2-%d0%b7%d0%b0-%d0%bf%d1%80%d0%b5%d0%b4%d1%8b%d0%b4%d1%83%d1%89%d0%b8%d0%b9-%d0%b4%d0%b5%d0%bd%d1%8c-%d0%b2-%d1%81-175/
END:VEVENT
BEGIN:VEVENT
DTSTART;TZID=Europe/Moscow:20250401T130000
DTEND;TZID=Europe/Moscow:20250401T143000
DTSTAMP:20260421T032223
CREATED:20250327T115449Z
LAST-MODIFIED:20250327T115449Z
UID:33423-1743512400-1743517800@miac.zdrav76.ru
SUMMARY:“Наставничество” с гл. внеш. специалистами МЗ ЯО
DESCRIPTION:
URL:https://miac.zdrav76.ru/event/%d0%9d%d0%b0%d1%81%d1%82%d0%b0%d0%b2%d0%bd%d0%b8%d1%87%d0%b5%d1%81%d1%82%d0%b2%d0%be-%d1%81-%d0%b3%d0%bb-%d0%b2%d0%bd%d0%b5%d1%88-%d1%81%d0%bf%d0%b5%d1%86%d0%b8%d0%b0%d0%bb%d0%b8-9/
END:VEVENT
BEGIN:VEVENT
DTSTART;TZID=Europe/Moscow:20250401T140000
DTEND;TZID=Europe/Moscow:20250401T170000
DTSTAMP:20260421T032223
CREATED:20250327T115241Z
LAST-MODIFIED:20250327T115241Z
UID:33415-1743516000-1743526800@miac.zdrav76.ru
SUMMARY:1С Поликлиника. Показ функционала
DESCRIPTION:
URL:https://miac.zdrav76.ru/event/1%d0%a1-%d0%9f%d0%be%d0%bb%d0%b8%d0%ba%d0%bb%d0%b8%d0%bd%d0%b8%d0%ba%d0%b0-%d0%9f%d0%be%d0%ba%d0%b0%d0%b7-%d1%84%d1%83%d0%bd%d0%ba%d1%86%d0%b8%d0%be%d0%bd%d0%b0%d0%bb%d0%b0-11/
END:VEVENT
BEGIN:VEVENT
DTSTART;TZID=Europe/Moscow:20250401T150000
DTEND;TZID=Europe/Moscow:20250401T163000
DTSTAMP:20260421T032223
CREATED:20250327T115531Z
LAST-MODIFIED:20250327T115531Z
UID:33425-1743519600-1743525000@miac.zdrav76.ru
SUMMARY:1С. Текущие проекты
DESCRIPTION:
URL:https://miac.zdrav76.ru/event/1%d0%a1-%d0%a2%d0%b5%d0%ba%d1%83%d1%89%d0%b8%d0%b5-%d0%bf%d1%80%d0%be%d0%b5%d0%ba%d1%82%d1%8b-14/
END:VEVENT
BEGIN:VEVENT
DTSTART;TZID=Europe/Moscow:20250402T090000
DTEND;TZID=Europe/Moscow:20250402T093000
DTSTAMP:20260421T032223
CREATED:20250327T114917Z
LAST-MODIFIED:20250327T114917Z
UID:33407-1743584400-1743586200@miac.zdrav76.ru
SUMMARY:Сдача дежурств за предыдущий день в стационаре
DESCRIPTION:
URL:https://miac.zdrav76.ru/event/%d0%a1%d0%b4%d0%b0%d1%87%d0%b0-%d0%b4%d0%b5%d0%b6%d1%83%d1%80%d1%81%d1%82%d0%b2-%d0%b7%d0%b0-%d0%bf%d1%80%d0%b5%d0%b4%d1%8b%d0%b4%d1%83%d1%89%d0%b8%d0%b9-%d0%b4%d0%b5%d0%bd%d1%8c-%d0%b2-%d1%81-176/
END:VEVENT
BEGIN:VEVENT
DTSTART;TZID=Europe/Moscow:20250402T110000
DTEND;TZID=Europe/Moscow:20250402T123000
DTSTAMP:20260421T032223
CREATED:20250401T140715Z
LAST-MODIFIED:20250401T140715Z
UID:33526-1743591600-1743597000@miac.zdrav76.ru
SUMMARY:Комиссия ГИБП
DESCRIPTION:
URL:https://miac.zdrav76.ru/event/%d0%9a%d0%be%d0%bc%d0%b8%d1%81%d1%81%d0%b8%d1%8f-%d0%93%d0%98%d0%91%d0%9f-2/
END:VEVENT
BEGIN:VEVENT
DTSTART;TZID=Europe/Moscow:20250402T130000
DTEND;TZID=Europe/Moscow:20250402T140000
DTSTAMP:20260421T032223
CREATED:20250402T105148Z
LAST-MODIFIED:20250402T105148Z
UID:33569-1743598800-1743602400@miac.zdrav76.ru
SUMMARY:ЛЛО. Загрузка льготников
DESCRIPTION:
URL:https://miac.zdrav76.ru/event/%d0%9b%d0%9b%d0%9e-%d0%97%d0%b0%d0%b3%d1%80%d1%83%d0%b7%d0%ba%d0%b0-%d0%bb%d1%8c%d0%b3%d0%be%d1%82%d0%bd%d0%b8%d0%ba%d0%be%d0%b2/
END:VEVENT
BEGIN:VEVENT
DTSTART;TZID=Europe/Moscow:20250402T140000
DTEND;TZID=Europe/Moscow:20250402T170000
DTSTAMP:20260421T032223
CREATED:20250327T115300Z
LAST-MODIFIED:20250327T115300Z
UID:33417-1743602400-1743613200@miac.zdrav76.ru
SUMMARY:1С Поликлиника. Показ функционала
DESCRIPTION:
URL:https://miac.zdrav76.ru/event/1%d0%a1-%d0%9f%d0%be%d0%bb%d0%b8%d0%ba%d0%bb%d0%b8%d0%bd%d0%b8%d0%ba%d0%b0-%d0%9f%d0%be%d0%ba%d0%b0%d0%b7-%d1%84%d1%83%d0%bd%d0%ba%d1%86%d0%b8%d0%be%d0%bd%d0%b0%d0%bb%d0%b0-12/
END:VEVENT
BEGIN:VEVENT
DTSTART;TZID=Europe/Moscow:20250402T150000
DTEND;TZID=Europe/Moscow:20250402T163000
DTSTAMP:20260421T032223
CREATED:20250401T140811Z
LAST-MODIFIED:20250401T140811Z
UID:33528-1743606000-1743611400@miac.zdrav76.ru
SUMMARY:Открытие лаборатории ВИЧ в РГБ-2
DESCRIPTION:
URL:https://miac.zdrav76.ru/event/%d0%9e%d1%82%d0%ba%d1%80%d1%8b%d1%82%d0%b8%d0%b5-%d0%bb%d0%b0%d0%b1%d0%be%d1%80%d0%b0%d1%82%d0%be%d1%80%d0%b8%d0%b8-%d0%92%d0%98%d0%a7-%d0%b2-%d0%a0%d0%93%d0%91-2/
END:VEVENT
BEGIN:VEVENT
DTSTART;TZID=Europe/Moscow:20250402T160000
DTEND;TZID=Europe/Moscow:20250402T170000
DTSTAMP:20260421T032223
CREATED:20250402T131110Z
LAST-MODIFIED:20250402T131110Z
UID:33585-1743609600-1743613200@miac.zdrav76.ru
SUMMARY:ЦТ. Организационные вопросы
DESCRIPTION:
URL:https://miac.zdrav76.ru/event/%d0%a6%d0%a2-%d0%9e%d1%80%d0%b3%d0%b0%d0%bd%d0%b8%d0%b7%d0%b0%d1%86%d0%b8%d0%be%d0%bd%d0%bd%d1%8b%d0%b5-%d0%b2%d0%be%d0%bf%d1%80%d0%be%d1%81%d1%8b-14/
END:VEVENT
BEGIN:VEVENT
DTSTART;TZID=Europe/Moscow:20250403T090000
DTEND;TZID=Europe/Moscow:20250403T093000
DTSTAMP:20260421T032223
CREATED:20250327T114938Z
LAST-MODIFIED:20250327T114938Z
UID:33409-1743670800-1743672600@miac.zdrav76.ru
SUMMARY:Сдача дежурств за предыдущий день в стационаре
DESCRIPTION:
URL:https://miac.zdrav76.ru/event/%d0%a1%d0%b4%d0%b0%d1%87%d0%b0-%d0%b4%d0%b5%d0%b6%d1%83%d1%80%d1%81%d1%82%d0%b2-%d0%b7%d0%b0-%d0%bf%d1%80%d0%b5%d0%b4%d1%8b%d0%b4%d1%83%d1%89%d0%b8%d0%b9-%d0%b4%d0%b5%d0%bd%d1%8c-%d0%b2-%d1%81-177/
END:VEVENT
BEGIN:VEVENT
DTSTART;TZID=Europe/Moscow:20250403T133000
DTEND;TZID=Europe/Moscow:20250403T150000
DTSTAMP:20260421T032223
CREATED:20250327T115622Z
LAST-MODIFIED:20250327T115622Z
UID:33427-1743687000-1743692400@miac.zdrav76.ru
SUMMARY:Разговор гл. внеш. спец-ов МЗ ЯО с терапевтами МР ЯО
DESCRIPTION:
URL:https://miac.zdrav76.ru/event/%d0%a0%d0%b0%d0%b7%d0%b3%d0%be%d0%b2%d0%be%d1%80-%d0%b3%d0%bb-%d0%b2%d0%bd%d0%b5%d1%88-%d1%81%d0%bf%d0%b5%d1%86-%d0%be%d0%b2-%d0%9c%d0%97-%d0%af%d0%9e-%d1%81-%d1%82%d0%b5%d1%80%d0%b0%d0%bf%d0%b5-8/
END:VEVENT
BEGIN:VEVENT
DTSTART;TZID=Europe/Moscow:20250403T140000
DTEND;TZID=Europe/Moscow:20250403T170000
DTSTAMP:20260421T032223
CREATED:20250327T115324Z
LAST-MODIFIED:20250327T115324Z
UID:33419-1743688800-1743699600@miac.zdrav76.ru
SUMMARY:1С Поликлиника. Показ функционала
DESCRIPTION:
URL:https://miac.zdrav76.ru/event/1%d0%a1-%d0%9f%d0%be%d0%bb%d0%b8%d0%ba%d0%bb%d0%b8%d0%bd%d0%b8%d0%ba%d0%b0-%d0%9f%d0%be%d0%ba%d0%b0%d0%b7-%d1%84%d1%83%d0%bd%d0%ba%d1%86%d0%b8%d0%be%d0%bd%d0%b0%d0%bb%d0%b0-13/
END:VEVENT
BEGIN:VEVENT
DTSTART;TZID=Europe/Moscow:20250403T150000
DTEND;TZID=Europe/Moscow:20250403T160000
DTSTAMP:20260421T032223
CREATED:20250327T115702Z
LAST-MODIFIED:20250327T115702Z
UID:33429-1743692400-1743696000@miac.zdrav76.ru
SUMMARY:РТК. РИС/ЦАМИ\, СМП
DESCRIPTION:
URL:https://miac.zdrav76.ru/event/%d0%a0%d0%a2%d0%9a-%d0%a0%d0%98%d0%a1-%d0%a6%d0%90%d0%9c%d0%98-%d0%a1%d0%9c%d0%9f-35/
END:VEVENT
BEGIN:VEVENT
DTSTART;TZID=Europe/Moscow:20250404T090000
DTEND;TZID=Europe/Moscow:20250404T093000
DTSTAMP:20260421T032223
CREATED:20250327T115012Z
LAST-MODIFIED:20250327T115012Z
UID:33411-1743757200-1743759000@miac.zdrav76.ru
SUMMARY:Сдача дежурств за предыдущий день в стационаре
DESCRIPTION:
URL:https://miac.zdrav76.ru/event/%d0%a1%d0%b4%d0%b0%d1%87%d0%b0-%d0%b4%d0%b5%d0%b6%d1%83%d1%80%d1%81%d1%82%d0%b2-%d0%b7%d0%b0-%d0%bf%d1%80%d0%b5%d0%b4%d1%8b%d0%b4%d1%83%d1%89%d0%b8%d0%b9-%d0%b4%d0%b5%d0%bd%d1%8c-%d0%b2-%d1%81-178/
END:VEVENT
BEGIN:VEVENT
DTSTART;TZID=Europe/Moscow:20250404T140000
DTEND;TZID=Europe/Moscow:20250404T170000
DTSTAMP:20260421T032223
CREATED:20250327T115355Z
LAST-MODIFIED:20250327T115355Z
UID:33421-1743775200-1743786000@miac.zdrav76.ru
SUMMARY:1С Поликлиника. Показ функционала
DESCRIPTION:
URL:https://miac.zdrav76.ru/event/1%d0%a1-%d0%9f%d0%be%d0%bb%d0%b8%d0%ba%d0%bb%d0%b8%d0%bd%d0%b8%d0%ba%d0%b0-%d0%9f%d0%be%d0%ba%d0%b0%d0%b7-%d1%84%d1%83%d0%bd%d0%ba%d1%86%d0%b8%d0%be%d0%bd%d0%b0%d0%bb%d0%b0-14/
END:VEVENT
END:VCALENDAR