BEGIN:VCALENDAR
VERSION:2.0
PRODID:-//ГБУЗ ЯО &quot;Медицинский информационно-аналитический центр&quot; - ECPv6.15.17.1//NONSGML v1.0//EN
CALSCALE:GREGORIAN
METHOD:PUBLISH
X-WR-CALNAME:ГБУЗ ЯО &quot;Медицинский информационно-аналитический центр&quot;
X-ORIGINAL-URL:https://miac.zdrav76.ru
X-WR-CALDESC:Мероприятия для ГБУЗ ЯО &quot;Медицинский информационно-аналитический центр&quot;
REFRESH-INTERVAL;VALUE=DURATION:PT1H
X-Robots-Tag:noindex
X-PUBLISHED-TTL:PT1H
BEGIN:VTIMEZONE
TZID:Europe/Moscow
BEGIN:STANDARD
TZOFFSETFROM:+0300
TZOFFSETTO:+0300
TZNAME:MSK
DTSTART:20240101T000000
END:STANDARD
END:VTIMEZONE
BEGIN:VEVENT
DTSTART;TZID=Europe/Moscow:20250317T090000
DTEND;TZID=Europe/Moscow:20250317T093000
DTSTAMP:20260421T051729
CREATED:20250313T095528Z
LAST-MODIFIED:20250313T095528Z
UID:33051-1742202000-1742203800@miac.zdrav76.ru
SUMMARY:Сдача дежурств за предыдущий день в стационаре
DESCRIPTION:
URL:https://miac.zdrav76.ru/event/%d0%a1%d0%b4%d0%b0%d1%87%d0%b0-%d0%b4%d0%b5%d0%b6%d1%83%d1%80%d1%81%d1%82%d0%b2-%d0%b7%d0%b0-%d0%bf%d1%80%d0%b5%d0%b4%d1%8b%d0%b4%d1%83%d1%89%d0%b8%d0%b9-%d0%b4%d0%b5%d0%bd%d1%8c-%d0%b2-%d1%81-164/
END:VEVENT
BEGIN:VEVENT
DTSTART;TZID=Europe/Moscow:20250317T110000
DTEND;TZID=Europe/Moscow:20250317T120000
DTSTAMP:20260421T051729
CREATED:20250312T054304Z
LAST-MODIFIED:20250312T054304Z
UID:32983-1742209200-1742212800@miac.zdrav76.ru
SUMMARY:1С. ТП
DESCRIPTION:
URL:https://miac.zdrav76.ru/event/1%d0%a1-%d0%a2%d0%9f/
END:VEVENT
BEGIN:VEVENT
DTSTART;TZID=Europe/Moscow:20250317T160000
DTEND;TZID=Europe/Moscow:20250317T173000
DTSTAMP:20260421T051729
CREATED:20250314T124017Z
LAST-MODIFIED:20250314T124017Z
UID:33107-1742227200-1742232600@miac.zdrav76.ru
SUMMARY:«Борьба с сахарным диабетом». Обеспечение беременных СНМГ.
DESCRIPTION:
URL:https://miac.zdrav76.ru/event/%d0%91%d0%be%d1%80%d1%8c%d0%b1%d0%b0-%d1%81-%d1%81%d0%b0%d1%85%d0%b0%d1%80%d0%bd%d1%8b%d0%bc-%d0%b4%d0%b8%d0%b0%d0%b1%d0%b5%d1%82%d0%be%d0%bc-%d0%9e%d0%b1%d0%b5%d1%81%d0%bf%d0%b5%d1%87/
END:VEVENT
BEGIN:VEVENT
DTSTART;TZID=Europe/Moscow:20250318T090000
DTEND;TZID=Europe/Moscow:20250318T093000
DTSTAMP:20260421T051729
CREATED:20250313T095553Z
LAST-MODIFIED:20250313T095553Z
UID:33053-1742288400-1742290200@miac.zdrav76.ru
SUMMARY:Сдача дежурств за предыдущий день в стационаре
DESCRIPTION:
URL:https://miac.zdrav76.ru/event/%d0%a1%d0%b4%d0%b0%d1%87%d0%b0-%d0%b4%d0%b5%d0%b6%d1%83%d1%80%d1%81%d1%82%d0%b2-%d0%b7%d0%b0-%d0%bf%d1%80%d0%b5%d0%b4%d1%8b%d0%b4%d1%83%d1%89%d0%b8%d0%b9-%d0%b4%d0%b5%d0%bd%d1%8c-%d0%b2-%d1%81-165/
END:VEVENT
BEGIN:VEVENT
DTSTART;TZID=Europe/Moscow:20250318T130000
DTEND;TZID=Europe/Moscow:20250318T143000
DTSTAMP:20260421T051729
CREATED:20250313T095816Z
LAST-MODIFIED:20250313T095816Z
UID:33061-1742302800-1742308200@miac.zdrav76.ru
SUMMARY:“Наставничество” с гл. внеш. специалистами МЗ ЯО
DESCRIPTION:
URL:https://miac.zdrav76.ru/event/%d0%9d%d0%b0%d1%81%d1%82%d0%b0%d0%b2%d0%bd%d0%b8%d1%87%d0%b5%d1%81%d1%82%d0%b2%d0%be-%d1%81-%d0%b3%d0%bb-%d0%b2%d0%bd%d0%b5%d1%88-%d1%81%d0%bf%d0%b5%d1%86%d0%b8%d0%b0%d0%bb%d0%b8-7/
END:VEVENT
BEGIN:VEVENT
DTSTART;TZID=Europe/Moscow:20250318T150000
DTEND;TZID=Europe/Moscow:20250318T163000
DTSTAMP:20260421T051729
CREATED:20250313T095913Z
LAST-MODIFIED:20250313T095913Z
UID:33063-1742310000-1742315400@miac.zdrav76.ru
SUMMARY:1С. Текущие проекты
DESCRIPTION:
URL:https://miac.zdrav76.ru/event/1%d0%a1-%d0%a2%d0%b5%d0%ba%d1%83%d1%89%d0%b8%d0%b5-%d0%bf%d1%80%d0%be%d0%b5%d0%ba%d1%82%d1%8b-12/
END:VEVENT
BEGIN:VEVENT
DTSTART;TZID=Europe/Moscow:20250319T090000
DTEND;TZID=Europe/Moscow:20250319T093000
DTSTAMP:20260421T051729
CREATED:20250313T095632Z
LAST-MODIFIED:20250313T095632Z
UID:33055-1742374800-1742376600@miac.zdrav76.ru
SUMMARY:Сдача дежурств за предыдущий день в стационаре
DESCRIPTION:
URL:https://miac.zdrav76.ru/event/%d0%a1%d0%b4%d0%b0%d1%87%d0%b0-%d0%b4%d0%b5%d0%b6%d1%83%d1%80%d1%81%d1%82%d0%b2-%d0%b7%d0%b0-%d0%bf%d1%80%d0%b5%d0%b4%d1%8b%d0%b4%d1%83%d1%89%d0%b8%d0%b9-%d0%b4%d0%b5%d0%bd%d1%8c-%d0%b2-%d1%81-166/
END:VEVENT
BEGIN:VEVENT
DTSTART;TZID=Europe/Moscow:20250319T100000
DTEND;TZID=Europe/Moscow:20250319T120000
DTSTAMP:20260421T051729
CREATED:20250311T125822Z
LAST-MODIFIED:20250311T125822Z
UID:32972-1742378400-1742385600@miac.zdrav76.ru
SUMMARY:Стоматологический прием
DESCRIPTION:
URL:https://miac.zdrav76.ru/event/%d0%a1%d1%82%d0%be%d0%bc%d0%b0%d1%82%d0%be%d0%bb%d0%be%d0%b3%d0%b8%d1%87%d0%b5%d1%81%d0%ba%d0%b8%d0%b9-%d0%bf%d1%80%d0%b8%d0%b5%d0%bc/
END:VEVENT
BEGIN:VEVENT
DTSTART;TZID=Europe/Moscow:20250319T110000
DTEND;TZID=Europe/Moscow:20250319T123000
DTSTAMP:20260421T051729
CREATED:20250319T071714Z
LAST-MODIFIED:20250319T071901Z
UID:33165-1742382000-1742387400@miac.zdrav76.ru
SUMMARY:ЛЛО загрузка льготников
DESCRIPTION:
URL:https://miac.zdrav76.ru/event/%d0%9b%d0%9b%d0%9e-%d0%b7%d0%b0%d0%b3%d1%80%d1%83%d0%b7%d0%ba%d0%b0-%d0%bb%d1%8c%d0%b3%d0%be%d1%82%d0%bd%d0%b8%d0%ba%d0%be%d0%b2/
END:VEVENT
BEGIN:VEVENT
DTSTART;TZID=Europe/Moscow:20250320T084200
DTEND;TZID=Europe/Moscow:20250320T093000
DTSTAMP:20260421T051729
CREATED:20250320T055920Z
LAST-MODIFIED:20250320T055920Z
UID:33232-1742460120-1742463000@miac.zdrav76.ru
SUMMARY:ЦТ. Организационные вопросы
DESCRIPTION:
URL:https://miac.zdrav76.ru/event/%d0%a6%d0%a2-%d0%9e%d1%80%d0%b3%d0%b0%d0%bd%d0%b8%d0%b7%d0%b0%d1%86%d0%b8%d0%be%d0%bd%d0%bd%d1%8b%d0%b5-%d0%b2%d0%be%d0%bf%d1%80%d0%be%d1%81%d1%8b-13/
END:VEVENT
BEGIN:VEVENT
DTSTART;TZID=Europe/Moscow:20250320T090000
DTEND;TZID=Europe/Moscow:20250320T093000
DTSTAMP:20260421T051729
CREATED:20250313T095657Z
LAST-MODIFIED:20250313T095657Z
UID:33057-1742461200-1742463000@miac.zdrav76.ru
SUMMARY:Сдача дежурств за предыдущий день в стационаре
DESCRIPTION:
URL:https://miac.zdrav76.ru/event/%d0%a1%d0%b4%d0%b0%d1%87%d0%b0-%d0%b4%d0%b5%d0%b6%d1%83%d1%80%d1%81%d1%82%d0%b2-%d0%b7%d0%b0-%d0%bf%d1%80%d0%b5%d0%b4%d1%8b%d0%b4%d1%83%d1%89%d0%b8%d0%b9-%d0%b4%d0%b5%d0%bd%d1%8c-%d0%b2-%d1%81-167/
END:VEVENT
BEGIN:VEVENT
DTSTART;TZID=Europe/Moscow:20250320T110000
DTEND;TZID=Europe/Moscow:20250320T120000
DTSTAMP:20260421T051729
CREATED:20250319T072123Z
LAST-MODIFIED:20250319T072123Z
UID:33169-1742468400-1742472000@miac.zdrav76.ru
SUMMARY:Приведение в соответствие учета ЛП для лечения COVID-19
DESCRIPTION:
URL:https://miac.zdrav76.ru/event/%d0%9f%d1%80%d0%b8%d0%b2%d0%b5%d0%b4%d0%b5%d0%bd%d0%b8%d0%b5-%d0%b2-%d1%81%d0%be%d0%be%d1%82%d0%b2%d0%b5%d1%82%d1%81%d1%82%d0%b2%d0%b8%d0%b5-%d1%83%d1%87%d0%b5%d1%82%d0%b0-%d0%9b%d0%9f-%d0%b4%d0%bb/
END:VEVENT
BEGIN:VEVENT
DTSTART;TZID=Europe/Moscow:20250320T130000
DTEND;TZID=Europe/Moscow:20250320T140000
DTSTAMP:20260421T051729
CREATED:20250313T100048Z
LAST-MODIFIED:20250320T060312Z
UID:33067-1742475600-1742479200@miac.zdrav76.ru
SUMMARY:РТК. РИС/ЦАМИ\, СМП
DESCRIPTION:
URL:https://miac.zdrav76.ru/event/%d0%a0%d0%a2%d0%9a-%d0%a0%d0%98%d0%a1-%d0%a6%d0%90%d0%9c%d0%98-%d0%a1%d0%9c%d0%9f-33/
END:VEVENT
BEGIN:VEVENT
DTSTART;TZID=Europe/Moscow:20250320T133000
DTEND;TZID=Europe/Moscow:20250320T150000
DTSTAMP:20260421T051729
CREATED:20250313T100003Z
LAST-MODIFIED:20250313T100003Z
UID:33065-1742477400-1742482800@miac.zdrav76.ru
SUMMARY:Разговор гл. внеш. спец-ов МЗ ЯО с терапевтами МР ЯО
DESCRIPTION:
URL:https://miac.zdrav76.ru/event/%d0%a0%d0%b0%d0%b7%d0%b3%d0%be%d0%b2%d0%be%d1%80-%d0%b3%d0%bb-%d0%b2%d0%bd%d0%b5%d1%88-%d1%81%d0%bf%d0%b5%d1%86-%d0%be%d0%b2-%d0%9c%d0%97-%d0%af%d0%9e-%d1%81-%d1%82%d0%b5%d1%80%d0%b0%d0%bf%d0%b5-6/
END:VEVENT
BEGIN:VEVENT
DTSTART;TZID=Europe/Moscow:20250321T090000
DTEND;TZID=Europe/Moscow:20250321T093000
DTSTAMP:20260421T051729
CREATED:20250313T095722Z
LAST-MODIFIED:20250313T095722Z
UID:33059-1742547600-1742549400@miac.zdrav76.ru
SUMMARY:Сдача дежурств за предыдущий день в стационаре
DESCRIPTION:
URL:https://miac.zdrav76.ru/event/%d0%a1%d0%b4%d0%b0%d1%87%d0%b0-%d0%b4%d0%b5%d0%b6%d1%83%d1%80%d1%81%d1%82%d0%b2-%d0%b7%d0%b0-%d0%bf%d1%80%d0%b5%d0%b4%d1%8b%d0%b4%d1%83%d1%89%d0%b8%d0%b9-%d0%b4%d0%b5%d0%bd%d1%8c-%d0%b2-%d1%81-168/
END:VEVENT
BEGIN:VEVENT
DTSTART;TZID=Europe/Moscow:20250321T120000
DTEND;TZID=Europe/Moscow:20250321T133000
DTSTAMP:20260421T051729
CREATED:20250319T133608Z
LAST-MODIFIED:20250319T133608Z
UID:33229-1742558400-1742563800@miac.zdrav76.ru
SUMMARY:Анализ разбора запущенных случаев в Ростовском МР
DESCRIPTION:
URL:https://miac.zdrav76.ru/event/%d0%90%d0%bd%d0%b0%d0%bb%d0%b8%d0%b7-%d1%80%d0%b0%d0%b7%d0%b1%d0%be%d1%80%d0%b0-%d0%b7%d0%b0%d0%bf%d1%83%d1%89%d0%b5%d0%bd%d0%bd%d1%8b%d1%85-%d1%81%d0%bb%d1%83%d1%87%d0%b0%d0%b5%d0%b2-%d0%b2-%d0%a0/
END:VEVENT
BEGIN:VEVENT
DTSTART;TZID=Europe/Moscow:20250321T130000
DTEND;TZID=Europe/Moscow:20250321T143000
DTSTAMP:20260421T051729
CREATED:20250319T081836Z
LAST-MODIFIED:20250319T081836Z
UID:33176-1742562000-1742567400@miac.zdrav76.ru
SUMMARY:Обучение СНМГ TouchCare для детей 4-17 лет
DESCRIPTION:
URL:https://miac.zdrav76.ru/event/%d0%9e%d0%b1%d1%83%d1%87%d0%b5%d0%bd%d0%b8%d0%b5-%d0%a1%d0%9d%d0%9c%d0%93-touchcare-%d0%b4%d0%bb%d1%8f-%d0%b4%d0%b5%d1%82%d0%b5%d0%b9-4-17-%d0%bb%d0%b5%d1%82/
END:VEVENT
BEGIN:VEVENT
DTSTART;TZID=Europe/Moscow:20250321T140000
DTEND;TZID=Europe/Moscow:20250321T153000
DTSTAMP:20260421T051729
CREATED:20250317T114407Z
LAST-MODIFIED:20250317T114407Z
UID:33137-1742565600-1742571000@miac.zdrav76.ru
SUMMARY:Ведение соц.сетей МО
DESCRIPTION:
URL:https://miac.zdrav76.ru/event/%d0%92%d0%b5%d0%b4%d0%b5%d0%bd%d0%b8%d0%b5-%d1%81%d0%be%d1%86-%d1%81%d0%b5%d1%82%d0%b5%d0%b9-%d0%9c%d0%9e/
END:VEVENT
BEGIN:VEVENT
DTSTART;TZID=Europe/Moscow:20250321T140000
DTEND;TZID=Europe/Moscow:20250321T170000
DTSTAMP:20260421T051729
CREATED:20250324T110442Z
LAST-MODIFIED:20250324T110442Z
UID:33294-1742565600-1742576400@miac.zdrav76.ru
SUMMARY:1С Поликлиника. Показ функционала
DESCRIPTION:
URL:https://miac.zdrav76.ru/event/1%d0%a1-%d0%9f%d0%be%d0%bb%d0%b8%d0%ba%d0%bb%d0%b8%d0%bd%d0%b8%d0%ba%d0%b0-%d0%9f%d0%be%d0%ba%d0%b0%d0%b7-%d1%84%d1%83%d0%bd%d0%ba%d1%86%d0%b8%d0%be%d0%bd%d0%b0%d0%bb%d0%b0-4/
END:VEVENT
BEGIN:VEVENT
DTSTART;TZID=Europe/Moscow:20250324T090000
DTEND;TZID=Europe/Moscow:20250324T093000
DTSTAMP:20260421T051729
CREATED:20250320T121653Z
LAST-MODIFIED:20250320T121653Z
UID:33234-1742806800-1742808600@miac.zdrav76.ru
SUMMARY:Сдача дежурств за предыдущий день в стационаре
DESCRIPTION:
URL:https://miac.zdrav76.ru/event/%d0%a1%d0%b4%d0%b0%d1%87%d0%b0-%d0%b4%d0%b5%d0%b6%d1%83%d1%80%d1%81%d1%82%d0%b2-%d0%b7%d0%b0-%d0%bf%d1%80%d0%b5%d0%b4%d1%8b%d0%b4%d1%83%d1%89%d0%b8%d0%b9-%d0%b4%d0%b5%d0%bd%d1%8c-%d0%b2-%d1%81-169/
END:VEVENT
BEGIN:VEVENT
DTSTART;TZID=Europe/Moscow:20250324T093000
DTEND;TZID=Europe/Moscow:20250324T103000
DTSTAMP:20260421T051729
CREATED:20250324T090955Z
LAST-MODIFIED:20250324T090955Z
UID:33291-1742808600-1742812200@miac.zdrav76.ru
SUMMARY:МЗ ЯО_ЭР_Проблемы 1С
DESCRIPTION:
URL:https://miac.zdrav76.ru/event/%d0%9c%d0%97-%d0%af%d0%9e_%d0%ad%d0%a0_%d0%9f%d1%80%d0%be%d0%b1%d0%bb%d0%b5%d0%bc%d1%8b-1%d0%a1/
END:VEVENT
BEGIN:VEVENT
DTSTART;TZID=Europe/Moscow:20250324T100000
DTEND;TZID=Europe/Moscow:20250324T120000
DTSTAMP:20260421T051729
CREATED:20250304T054158Z
LAST-MODIFIED:20250304T054158Z
UID:32794-1742810400-1742817600@miac.zdrav76.ru
SUMMARY:Эпид. ситуация по туберкулезу в ЯО
DESCRIPTION:
URL:https://miac.zdrav76.ru/event/%d0%ad%d0%bf%d0%b8%d0%b4-%d1%81%d0%b8%d1%82%d1%83%d0%b0%d1%86%d0%b8%d1%8f-%d0%bf%d0%be-%d1%82%d1%83%d0%b1%d0%b5%d1%80%d0%ba%d1%83%d0%bb%d0%b5%d0%b7%d1%83-%d0%b2-%d0%af%d0%9e/
END:VEVENT
BEGIN:VEVENT
DTSTART;TZID=Europe/Moscow:20250324T113000
DTEND;TZID=Europe/Moscow:20250324T130000
DTSTAMP:20260421T051729
CREATED:20250324T090137Z
LAST-MODIFIED:20250324T090137Z
UID:33289-1742815800-1742821200@miac.zdrav76.ru
SUMMARY:1С. Разбор ошибок
DESCRIPTION:
URL:https://miac.zdrav76.ru/event/1%d0%a1-%d0%a0%d0%b0%d0%b7%d0%b1%d0%be%d1%80-%d0%be%d1%88%d0%b8%d0%b1%d0%be%d0%ba/
END:VEVENT
BEGIN:VEVENT
DTSTART;TZID=Europe/Moscow:20250324T140000
DTEND;TZID=Europe/Moscow:20250324T170000
DTSTAMP:20260421T051729
CREATED:20250324T110508Z
LAST-MODIFIED:20250324T110508Z
UID:33296-1742824800-1742835600@miac.zdrav76.ru
SUMMARY:1С Поликлиника. Показ функционала
DESCRIPTION:
URL:https://miac.zdrav76.ru/event/1%d0%a1-%d0%9f%d0%be%d0%bb%d0%b8%d0%ba%d0%bb%d0%b8%d0%bd%d0%b8%d0%ba%d0%b0-%d0%9f%d0%be%d0%ba%d0%b0%d0%b7-%d1%84%d1%83%d0%bd%d0%ba%d1%86%d0%b8%d0%be%d0%bd%d0%b0%d0%bb%d0%b0-5/
END:VEVENT
BEGIN:VEVENT
DTSTART;TZID=Europe/Moscow:20250325T090000
DTEND;TZID=Europe/Moscow:20250325T093000
DTSTAMP:20260421T051729
CREATED:20250320T121722Z
LAST-MODIFIED:20250320T121722Z
UID:33236-1742893200-1742895000@miac.zdrav76.ru
SUMMARY:Сдача дежурств за предыдущий день в стационаре
DESCRIPTION:
URL:https://miac.zdrav76.ru/event/%d0%a1%d0%b4%d0%b0%d1%87%d0%b0-%d0%b4%d0%b5%d0%b6%d1%83%d1%80%d1%81%d1%82%d0%b2-%d0%b7%d0%b0-%d0%bf%d1%80%d0%b5%d0%b4%d1%8b%d0%b4%d1%83%d1%89%d0%b8%d0%b9-%d0%b4%d0%b5%d0%bd%d1%8c-%d0%b2-%d1%81-170/
END:VEVENT
BEGIN:VEVENT
DTSTART;TZID=Europe/Moscow:20250325T100000
DTEND;TZID=Europe/Moscow:20250325T113000
DTSTAMP:20260421T051729
CREATED:20250325T073950Z
LAST-MODIFIED:20250325T073950Z
UID:33328-1742896800-1742902200@miac.zdrav76.ru
SUMMARY:1С. Работы по проекту
DESCRIPTION:
URL:https://miac.zdrav76.ru/event/1%d0%a1-%d0%a0%d0%b0%d0%b1%d0%be%d1%82%d1%8b-%d0%bf%d0%be-%d0%bf%d1%80%d0%be%d0%b5%d0%ba%d1%82%d1%83-5/
END:VEVENT
BEGIN:VEVENT
DTSTART;TZID=Europe/Moscow:20250325T130000
DTEND;TZID=Europe/Moscow:20250325T143000
DTSTAMP:20260421T051729
CREATED:20250320T121931Z
LAST-MODIFIED:20250320T121931Z
UID:33244-1742907600-1742913000@miac.zdrav76.ru
SUMMARY:“Наставничество” с гл. внеш. специалистами МЗ ЯО
DESCRIPTION:
URL:https://miac.zdrav76.ru/event/%d0%9d%d0%b0%d1%81%d1%82%d0%b0%d0%b2%d0%bd%d0%b8%d1%87%d0%b5%d1%81%d1%82%d0%b2%d0%be-%d1%81-%d0%b3%d0%bb-%d0%b2%d0%bd%d0%b5%d1%88-%d1%81%d0%bf%d0%b5%d1%86%d0%b8%d0%b0%d0%bb%d0%b8-8/
END:VEVENT
BEGIN:VEVENT
DTSTART;TZID=Europe/Moscow:20250325T140000
DTEND;TZID=Europe/Moscow:20250325T170000
DTSTAMP:20260421T051729
CREATED:20250324T110749Z
LAST-MODIFIED:20250324T110749Z
UID:33305-1742911200-1742922000@miac.zdrav76.ru
SUMMARY:1С Поликлиника. Показ функционала
DESCRIPTION:
URL:https://miac.zdrav76.ru/event/1%d0%a1-%d0%9f%d0%be%d0%bb%d0%b8%d0%ba%d0%bb%d0%b8%d0%bd%d0%b8%d0%ba%d0%b0-%d0%9f%d0%be%d0%ba%d0%b0%d0%b7-%d1%84%d1%83%d0%bd%d0%ba%d1%86%d0%b8%d0%be%d0%bd%d0%b0%d0%bb%d0%b0-6/
END:VEVENT
BEGIN:VEVENT
DTSTART;TZID=Europe/Moscow:20250325T150000
DTEND;TZID=Europe/Moscow:20250325T163000
DTSTAMP:20260421T051729
CREATED:20250320T122021Z
LAST-MODIFIED:20250320T122021Z
UID:33246-1742914800-1742920200@miac.zdrav76.ru
SUMMARY:1С. Текущие проекты
DESCRIPTION:
URL:https://miac.zdrav76.ru/event/1%d0%a1-%d0%a2%d0%b5%d0%ba%d1%83%d1%89%d0%b8%d0%b5-%d0%bf%d1%80%d0%be%d0%b5%d0%ba%d1%82%d1%8b-13/
END:VEVENT
BEGIN:VEVENT
DTSTART;TZID=Europe/Moscow:20250326T083000
DTEND;TZID=Europe/Moscow:20250326T093000
DTSTAMP:20260421T051729
CREATED:20250326T051543Z
LAST-MODIFIED:20250326T051543Z
UID:33359-1742977800-1742981400@miac.zdrav76.ru
SUMMARY:СМП. Бестройдействие
DESCRIPTION:
URL:https://miac.zdrav76.ru/event/%d0%a1%d0%9c%d0%9f-%d0%91%d0%b5%d1%81%d1%82%d1%80%d0%be%d0%b9%d0%b4%d0%b5%d0%b9%d1%81%d1%82%d0%b2%d0%b8%d0%b5/
END:VEVENT
END:VCALENDAR