BEGIN:VCALENDAR
VERSION:2.0
PRODID:-//ГБУЗ ЯО &quot;Медицинский информационно-аналитический центр&quot; - ECPv6.15.17.1//NONSGML v1.0//EN
CALSCALE:GREGORIAN
METHOD:PUBLISH
X-WR-CALNAME:ГБУЗ ЯО &quot;Медицинский информационно-аналитический центр&quot;
X-ORIGINAL-URL:https://miac.zdrav76.ru
X-WR-CALDESC:Мероприятия для ГБУЗ ЯО &quot;Медицинский информационно-аналитический центр&quot;
REFRESH-INTERVAL;VALUE=DURATION:PT1H
X-Robots-Tag:noindex
X-PUBLISHED-TTL:PT1H
BEGIN:VTIMEZONE
TZID:Europe/Moscow
BEGIN:STANDARD
TZOFFSETFROM:+0300
TZOFFSETTO:+0300
TZNAME:MSK
DTSTART:20250101T000000
END:STANDARD
END:VTIMEZONE
BEGIN:VEVENT
DTSTART;TZID=Europe/Moscow:20260424T090000
DTEND;TZID=Europe/Moscow:20260424T093000
DTSTAMP:20260424T134052
CREATED:20260420T091817Z
LAST-MODIFIED:20260420T091817Z
UID:37941-1777021200-1777023000@miac.zdrav76.ru
SUMMARY:Сдача дежурств за предыдущий день в стационаре
DESCRIPTION:
URL:https://miac.zdrav76.ru/event/%d0%a1%d0%b4%d0%b0%d1%87%d0%b0-%d0%b4%d0%b5%d0%b6%d1%83%d1%80%d1%81%d1%82%d0%b2-%d0%b7%d0%b0-%d0%bf%d1%80%d0%b5%d0%b4%d1%8b%d0%b4%d1%83%d1%89%d0%b8%d0%b9-%d0%b4%d0%b5%d0%bd%d1%8c-%d0%b2-%d1%81-426/
END:VEVENT
BEGIN:VEVENT
DTSTART;TZID=Europe/Moscow:20260427T090000
DTEND;TZID=Europe/Moscow:20260427T093000
DTSTAMP:20260424T134052
CREATED:20260424T092001Z
LAST-MODIFIED:20260424T092001Z
UID:37953-1777280400-1777282200@miac.zdrav76.ru
SUMMARY:Сдача дежурств за предыдущий день в стационаре
DESCRIPTION:
URL:https://miac.zdrav76.ru/event/%d0%a1%d0%b4%d0%b0%d1%87%d0%b0-%d0%b4%d0%b5%d0%b6%d1%83%d1%80%d1%81%d1%82%d0%b2-%d0%b7%d0%b0-%d0%bf%d1%80%d0%b5%d0%b4%d1%8b%d0%b4%d1%83%d1%89%d0%b8%d0%b9-%d0%b4%d0%b5%d0%bd%d1%8c-%d0%b2-%d1%81-427/
END:VEVENT
BEGIN:VEVENT
DTSTART;TZID=Europe/Moscow:20260428T090000
DTEND;TZID=Europe/Moscow:20260428T093000
DTSTAMP:20260424T134052
CREATED:20260424T092022Z
LAST-MODIFIED:20260424T092022Z
UID:37955-1777366800-1777368600@miac.zdrav76.ru
SUMMARY:Сдача дежурств за предыдущий день в стационаре
DESCRIPTION:
URL:https://miac.zdrav76.ru/event/%d0%a1%d0%b4%d0%b0%d1%87%d0%b0-%d0%b4%d0%b5%d0%b6%d1%83%d1%80%d1%81%d1%82%d0%b2-%d0%b7%d0%b0-%d0%bf%d1%80%d0%b5%d0%b4%d1%8b%d0%b4%d1%83%d1%89%d0%b8%d0%b9-%d0%b4%d0%b5%d0%bd%d1%8c-%d0%b2-%d1%81-428/
END:VEVENT
BEGIN:VEVENT
DTSTART;TZID=Europe/Moscow:20260428T150000
DTEND;TZID=Europe/Moscow:20260428T163000
DTSTAMP:20260424T134052
CREATED:20260424T092211Z
LAST-MODIFIED:20260424T092211Z
UID:37961-1777388400-1777393800@miac.zdrav76.ru
SUMMARY:1С. Текущие проекты
DESCRIPTION:
URL:https://miac.zdrav76.ru/event/1%d0%a1-%d0%a2%d0%b5%d0%ba%d1%83%d1%89%d0%b8%d0%b5-%d0%bf%d1%80%d0%be%d0%b5%d0%ba%d1%82%d1%8b-64/
END:VEVENT
BEGIN:VEVENT
DTSTART;TZID=Europe/Moscow:20260429T090000
DTEND;TZID=Europe/Moscow:20260429T093000
DTSTAMP:20260424T134052
CREATED:20260424T092045Z
LAST-MODIFIED:20260424T092045Z
UID:37957-1777453200-1777455000@miac.zdrav76.ru
SUMMARY:Сдача дежурств за предыдущий день в стационаре
DESCRIPTION:
URL:https://miac.zdrav76.ru/event/%d0%a1%d0%b4%d0%b0%d1%87%d0%b0-%d0%b4%d0%b5%d0%b6%d1%83%d1%80%d1%81%d1%82%d0%b2-%d0%b7%d0%b0-%d0%bf%d1%80%d0%b5%d0%b4%d1%8b%d0%b4%d1%83%d1%89%d0%b8%d0%b9-%d0%b4%d0%b5%d0%bd%d1%8c-%d0%b2-%d1%81-429/
END:VEVENT
BEGIN:VEVENT
DTSTART;TZID=Europe/Moscow:20260430T090000
DTEND;TZID=Europe/Moscow:20260430T093000
DTSTAMP:20260424T134052
CREATED:20260424T092105Z
LAST-MODIFIED:20260424T092105Z
UID:37959-1777539600-1777541400@miac.zdrav76.ru
SUMMARY:Сдача дежурств за предыдущий день в стационаре
DESCRIPTION:
URL:https://miac.zdrav76.ru/event/%d0%a1%d0%b4%d0%b0%d1%87%d0%b0-%d0%b4%d0%b5%d0%b6%d1%83%d1%80%d1%81%d1%82%d0%b2-%d0%b7%d0%b0-%d0%bf%d1%80%d0%b5%d0%b4%d1%8b%d0%b4%d1%83%d1%89%d0%b8%d0%b9-%d0%b4%d0%b5%d0%bd%d1%8c-%d0%b2-%d1%81-430/
END:VEVENT
BEGIN:VEVENT
DTSTART;TZID=Europe/Moscow:20260430T150000
DTEND;TZID=Europe/Moscow:20260430T160000
DTSTAMP:20260424T134052
CREATED:20260424T092249Z
LAST-MODIFIED:20260424T092249Z
UID:37963-1777561200-1777564800@miac.zdrav76.ru
SUMMARY:РТК. РИС/ЦАМИ\, СМП
DESCRIPTION:
URL:https://miac.zdrav76.ru/event/%d0%a0%d0%a2%d0%9a-%d0%a0%d0%98%d0%a1-%d0%a6%d0%90%d0%9c%d0%98-%d0%a1%d0%9c%d0%9f-84/
END:VEVENT
END:VCALENDAR