BEGIN:VCALENDAR
VERSION:2.0
PRODID:-//ГБУЗ ЯО &quot;Медицинский информационно-аналитический центр&quot; - ECPv6.15.17.1//NONSGML v1.0//EN
CALSCALE:GREGORIAN
METHOD:PUBLISH
X-ORIGINAL-URL:https://miac.zdrav76.ru
X-WR-CALDESC:Мероприятия для ГБУЗ ЯО &quot;Медицинский информационно-аналитический центр&quot;
REFRESH-INTERVAL;VALUE=DURATION:PT1H
X-Robots-Tag:noindex
X-PUBLISHED-TTL:PT1H
BEGIN:VTIMEZONE
TZID:Europe/Moscow
BEGIN:STANDARD
TZOFFSETFROM:+0300
TZOFFSETTO:+0300
TZNAME:MSK
DTSTART:20240101T000000
END:STANDARD
END:VTIMEZONE
BEGIN:VEVENT
DTSTART;TZID=Europe/Moscow:20250116T133000
DTEND;TZID=Europe/Moscow:20250116T150000
DTSTAMP:20260421T005541
CREATED:20250110T070950Z
LAST-MODIFIED:20250110T070950Z
UID:31736-1737034200-1737039600@miac.zdrav76.ru
SUMMARY:Разговор гл. внештатн. специалистов МЗ ЯО с врачами-терапевтами МР ЯО
DESCRIPTION:
URL:https://miac.zdrav76.ru/event/%d0%a0%d0%b0%d0%b7%d0%b3%d0%be%d0%b2%d0%be%d1%80-%d0%b3%d0%bb-%d0%b2%d0%bd%d0%b5%d1%88%d1%82%d0%b0%d1%82%d0%bd-%d1%81%d0%bf%d0%b5%d1%86%d0%b8%d0%b0%d0%bb%d0%b8%d1%81%d1%82%d0%be%d0%b2-%d0%9c%d0%97-2/
END:VEVENT
BEGIN:VEVENT
DTSTART;TZID=Europe/Moscow:20250116T150000
DTEND;TZID=Europe/Moscow:20250116T160000
DTSTAMP:20260421T005541
CREATED:20250110T071049Z
LAST-MODIFIED:20250110T071049Z
UID:31738-1737039600-1737043200@miac.zdrav76.ru
SUMMARY:РТК. РИС/ЦАМИ\, СМП
DESCRIPTION:
URL:https://miac.zdrav76.ru/event/%d0%a0%d0%a2%d0%9a-%d0%a0%d0%98%d0%a1-%d0%a6%d0%90%d0%9c%d0%98-%d0%a1%d0%9c%d0%9f-24/
END:VEVENT
BEGIN:VEVENT
DTSTART;TZID=Europe/Moscow:20250117T090000
DTEND;TZID=Europe/Moscow:20250117T093000
DTSTAMP:20260421T005541
CREATED:20250110T070854Z
LAST-MODIFIED:20250110T070854Z
UID:31734-1737104400-1737106200@miac.zdrav76.ru
SUMMARY:Сдача дежурств за предыдущий день в стационаре
DESCRIPTION:
URL:https://miac.zdrav76.ru/event/%d0%a1%d0%b4%d0%b0%d1%87%d0%b0-%d0%b4%d0%b5%d0%b6%d1%83%d1%80%d1%81%d1%82%d0%b2-%d0%b7%d0%b0-%d0%bf%d1%80%d0%b5%d0%b4%d1%8b%d0%b4%d1%83%d1%89%d0%b8%d0%b9-%d0%b4%d0%b5%d0%bd%d1%8c-%d0%b2-%d1%81-123/
END:VEVENT
BEGIN:VEVENT
DTSTART;TZID=Europe/Moscow:20250117T120000
DTEND;TZID=Europe/Moscow:20250117T130000
DTSTAMP:20260421T005541
CREATED:20250110T071511Z
LAST-MODIFIED:20250110T071511Z
UID:31742-1737115200-1737118800@miac.zdrav76.ru
SUMMARY:Рабочее совещание с ЦАОП ЯО
DESCRIPTION:
URL:https://miac.zdrav76.ru/event/%d0%a0%d0%b0%d0%b1%d0%be%d1%87%d0%b5%d0%b5-%d1%81%d0%be%d0%b2%d0%b5%d1%89%d0%b0%d0%bd%d0%b8%d0%b5-%d1%81-%d0%a6%d0%90%d0%9e%d0%9f-%d0%af%d0%9e-17/
END:VEVENT
BEGIN:VEVENT
DTSTART;TZID=Europe/Moscow:20250120T090000
DTEND;TZID=Europe/Moscow:20250120T093000
DTSTAMP:20260421T005541
CREATED:20250116T054004Z
LAST-MODIFIED:20250116T054004Z
UID:31806-1737363600-1737365400@miac.zdrav76.ru
SUMMARY:Сдача дежурств за предыдущий день в стационаре
DESCRIPTION:
URL:https://miac.zdrav76.ru/event/%d0%a1%d0%b4%d0%b0%d1%87%d0%b0-%d0%b4%d0%b5%d0%b6%d1%83%d1%80%d1%81%d1%82%d0%b2-%d0%b7%d0%b0-%d0%bf%d1%80%d0%b5%d0%b4%d1%8b%d0%b4%d1%83%d1%89%d0%b8%d0%b9-%d0%b4%d0%b5%d0%bd%d1%8c-%d0%b2-%d1%81-124/
END:VEVENT
BEGIN:VEVENT
DTSTART;TZID=Europe/Moscow:20250120T100000
DTEND;TZID=Europe/Moscow:20250120T113000
DTSTAMP:20260421T005541
CREATED:20250117T085129Z
LAST-MODIFIED:20250117T091456Z
UID:31866-1737367200-1737372600@miac.zdrav76.ru
SUMMARY:Установочное совещание по переходу на Регистратуру 1С Поликлиники
DESCRIPTION:
URL:https://miac.zdrav76.ru/event/%d0%9f%d0%b5%d1%80%d0%b5%d1%85%d0%be%d0%b4-%d0%bd%d0%b0-%d0%a0%d0%b5%d0%b3%d0%b8%d1%81%d1%82%d1%80%d0%b0%d1%82%d1%83%d1%80%d1%83-1%d0%a1-%d0%9f%d0%be%d0%bb%d0%b8%d0%ba%d0%bb%d0%b8%d0%bd%d0%b8%d0%ba/
END:VEVENT
BEGIN:VEVENT
DTSTART;TZID=Europe/Moscow:20250120T110000
DTEND;TZID=Europe/Moscow:20250120T130000
DTSTAMP:20260421T005541
CREATED:20250117T091333Z
LAST-MODIFIED:20250117T091333Z
UID:31874-1737370800-1737378000@miac.zdrav76.ru
SUMMARY:Обучающий вебинар. Регистратура 1С Поликлиники
DESCRIPTION:
URL:https://miac.zdrav76.ru/event/%d0%9e%d0%b1%d1%83%d1%87%d0%b0%d1%8e%d1%89%d0%b8%d0%b9-%d0%b2%d0%b5%d0%b1%d0%b8%d0%bd%d0%b0%d1%80-%d0%a0%d0%b5%d0%b3%d0%b8%d1%81%d1%82%d1%80%d0%b0%d1%82%d1%83%d1%80%d0%b0-1%d0%a1-%d0%9f%d0%be%d0%bb/
END:VEVENT
BEGIN:VEVENT
DTSTART;TZID=Europe/Moscow:20250121T090000
DTEND;TZID=Europe/Moscow:20250121T093000
DTSTAMP:20260421T005541
CREATED:20250116T054030Z
LAST-MODIFIED:20250116T054030Z
UID:31808-1737450000-1737451800@miac.zdrav76.ru
SUMMARY:Сдача дежурств за предыдущий день в стационаре
DESCRIPTION:
URL:https://miac.zdrav76.ru/event/%d0%a1%d0%b4%d0%b0%d1%87%d0%b0-%d0%b4%d0%b5%d0%b6%d1%83%d1%80%d1%81%d1%82%d0%b2-%d0%b7%d0%b0-%d0%bf%d1%80%d0%b5%d0%b4%d1%8b%d0%b4%d1%83%d1%89%d0%b8%d0%b9-%d0%b4%d0%b5%d0%bd%d1%8c-%d0%b2-%d1%81-125/
END:VEVENT
BEGIN:VEVENT
DTSTART;TZID=Europe/Moscow:20250121T130000
DTEND;TZID=Europe/Moscow:20250121T140000
DTSTAMP:20260421T005541
CREATED:20250121T055239Z
LAST-MODIFIED:20250121T055239Z
UID:31920-1737464400-1737468000@miac.zdrav76.ru
SUMMARY:ЭР и МЗ ЯО. Орг.вопросы
DESCRIPTION:
URL:https://miac.zdrav76.ru/event/%d0%ad%d0%a0-%d0%b8-%d0%9c%d0%97-%d0%af%d0%9e-%d0%9e%d1%80%d0%b3-%d0%b2%d0%be%d0%bf%d1%80%d0%be%d1%81%d1%8b/
LOCATION:В режиме ВКС
END:VEVENT
BEGIN:VEVENT
DTSTART;TZID=Europe/Moscow:20250121T130000
DTEND;TZID=Europe/Moscow:20250121T143000
DTSTAMP:20260421T005541
CREATED:20250116T054546Z
LAST-MODIFIED:20250116T054546Z
UID:31820-1737464400-1737469800@miac.zdrav76.ru
SUMMARY:Орг. совещание по проекту “Наставничество” с гл. внеш. специалистами МЗ ЯО
DESCRIPTION:
URL:https://miac.zdrav76.ru/event/%d0%9e%d1%80%d0%b3-%d1%81%d0%be%d0%b2%d0%b5%d1%89%d0%b0%d0%bd%d0%b8%d0%b5-%d0%bf%d0%be-%d0%bf%d1%80%d0%be%d0%b5%d0%ba%d1%82%d1%83-%d0%9d%d0%b0%d1%81%d1%82%d0%b0%d0%b2%d0%bd%d0%b8%d1%87%d0%b5-10/
END:VEVENT
BEGIN:VEVENT
DTSTART;TZID=Europe/Moscow:20250121T150000
DTEND;TZID=Europe/Moscow:20250121T163000
DTSTAMP:20260421T005541
CREATED:20250116T054631Z
LAST-MODIFIED:20250116T054631Z
UID:31822-1737471600-1737477000@miac.zdrav76.ru
SUMMARY:1С. Текущие проекты
DESCRIPTION:
URL:https://miac.zdrav76.ru/event/1%d0%a1-%d0%a2%d0%b5%d0%ba%d1%83%d1%89%d0%b8%d0%b5-%d0%bf%d1%80%d0%be%d0%b5%d0%ba%d1%82%d1%8b-4/
END:VEVENT
BEGIN:VEVENT
DTSTART;TZID=Europe/Moscow:20250122T090000
DTEND;TZID=Europe/Moscow:20250122T093000
DTSTAMP:20260421T005541
CREATED:20250116T054052Z
LAST-MODIFIED:20250116T054052Z
UID:31811-1737536400-1737538200@miac.zdrav76.ru
SUMMARY:Сдача дежурств за предыдущий день в стационаре
DESCRIPTION:
URL:https://miac.zdrav76.ru/event/%d0%a1%d0%b4%d0%b0%d1%87%d0%b0-%d0%b4%d0%b5%d0%b6%d1%83%d1%80%d1%81%d1%82%d0%b2-%d0%b7%d0%b0-%d0%bf%d1%80%d0%b5%d0%b4%d1%8b%d0%b4%d1%83%d1%89%d0%b8%d0%b9-%d0%b4%d0%b5%d0%bd%d1%8c-%d0%b2-%d1%81-126/
END:VEVENT
BEGIN:VEVENT
DTSTART;TZID=Europe/Moscow:20250123T090000
DTEND;TZID=Europe/Moscow:20250123T093000
DTSTAMP:20260421T005541
CREATED:20250116T054131Z
LAST-MODIFIED:20250116T054131Z
UID:31815-1737622800-1737624600@miac.zdrav76.ru
SUMMARY:Сдача дежурств за предыдущий день в стационаре
DESCRIPTION:
URL:https://miac.zdrav76.ru/event/%d0%a1%d0%b4%d0%b0%d1%87%d0%b0-%d0%b4%d0%b5%d0%b6%d1%83%d1%80%d1%81%d1%82%d0%b2-%d0%b7%d0%b0-%d0%bf%d1%80%d0%b5%d0%b4%d1%8b%d0%b4%d1%83%d1%89%d0%b8%d0%b9-%d0%b4%d0%b5%d0%bd%d1%8c-%d0%b2-%d1%81-127/
END:VEVENT
BEGIN:VEVENT
DTSTART;TZID=Europe/Moscow:20250123T120000
DTEND;TZID=Europe/Moscow:20250123T133000
DTSTAMP:20260421T005541
CREATED:20250123T072510Z
LAST-MODIFIED:20250123T072637Z
UID:32010-1737633600-1737639000@miac.zdrav76.ru
SUMMARY:Совещание в МЗ ЯО. Орг. вопросы
DESCRIPTION:
URL:https://miac.zdrav76.ru/event/%d0%a1%d0%be%d0%b2%d0%b5%d1%89%d0%b0%d0%bd%d0%b8%d0%b5-%d0%9c%d0%97-%d0%af%d0%9e-%d0%9e%d1%80%d0%b3-%d0%b2%d0%be%d0%bf%d1%80%d0%be%d1%81%d1%8b/
END:VEVENT
BEGIN:VEVENT
DTSTART;TZID=Europe/Moscow:20250123T133000
DTEND;TZID=Europe/Moscow:20250123T150000
DTSTAMP:20260421T005541
CREATED:20250116T054735Z
LAST-MODIFIED:20250116T054735Z
UID:31824-1737639000-1737644400@miac.zdrav76.ru
SUMMARY:Разговор гл. внеш. спец-ов МЗ ЯО с врачами-терапевтами МР ЯО
DESCRIPTION:
URL:https://miac.zdrav76.ru/event/%d0%a0%d0%b0%d0%b7%d0%b3%d0%be%d0%b2%d0%be%d1%80-%d0%b3%d0%bb-%d0%b2%d0%bd%d0%b5%d1%88-%d1%81%d0%bf%d0%b5%d1%86-%d0%be%d0%b2-%d0%9c%d0%97-%d0%af%d0%9e-%d1%81-%d0%b2%d1%80%d0%b0%d1%87%d0%b0%d0%bc/
END:VEVENT
BEGIN:VEVENT
DTSTART;TZID=Europe/Moscow:20250123T150000
DTEND;TZID=Europe/Moscow:20250123T160000
DTSTAMP:20260421T005541
CREATED:20250116T054820Z
LAST-MODIFIED:20250116T054820Z
UID:31826-1737644400-1737648000@miac.zdrav76.ru
SUMMARY:РТК. РИС/ЦАМИ\, СМП
DESCRIPTION:
URL:https://miac.zdrav76.ru/event/%d0%a0%d0%a2%d0%9a-%d0%a0%d0%98%d0%a1-%d0%a6%d0%90%d0%9c%d0%98-%d0%a1%d0%9c%d0%9f-25/
END:VEVENT
BEGIN:VEVENT
DTSTART;TZID=Europe/Moscow:20250124T090000
DTEND;TZID=Europe/Moscow:20250124T093000
DTSTAMP:20260421T005541
CREATED:20250116T054157Z
LAST-MODIFIED:20250116T054157Z
UID:31817-1737709200-1737711000@miac.zdrav76.ru
SUMMARY:Сдача дежурств за предыдущий день в стационаре
DESCRIPTION:
URL:https://miac.zdrav76.ru/event/%d0%a1%d0%b4%d0%b0%d1%87%d0%b0-%d0%b4%d0%b5%d0%b6%d1%83%d1%80%d1%81%d1%82%d0%b2-%d0%b7%d0%b0-%d0%bf%d1%80%d0%b5%d0%b4%d1%8b%d0%b4%d1%83%d1%89%d0%b8%d0%b9-%d0%b4%d0%b5%d0%bd%d1%8c-%d0%b2-%d1%81-128/
END:VEVENT
BEGIN:VEVENT
DTSTART;TZID=Europe/Moscow:20250124T110000
DTEND;TZID=Europe/Moscow:20250124T130000
DTSTAMP:20260421T005541
CREATED:20250116T054908Z
LAST-MODIFIED:20250124T053019Z
UID:31828-1737716400-1737723600@miac.zdrav76.ru
SUMMARY:Совещание. Внедрение 1С Поликлиники
DESCRIPTION:
URL:https://miac.zdrav76.ru/event/%d0%a0%d0%b0%d0%b1%d0%be%d1%87%d0%b5%d0%b5-%d1%81%d0%be%d0%b2%d0%b5%d1%89%d0%b0%d0%bd%d0%b8%d0%b5-%d1%81-%d0%a6%d0%90%d0%9e%d0%9f-%d0%af%d0%9e-18/
END:VEVENT
BEGIN:VEVENT
DTSTART;TZID=Europe/Moscow:20250127T090000
DTEND;TZID=Europe/Moscow:20250127T093000
DTSTAMP:20260421T005541
CREATED:20250123T051716Z
LAST-MODIFIED:20250123T051716Z
UID:31980-1737968400-1737970200@miac.zdrav76.ru
SUMMARY:Сдача дежурств за предыдущий день в стационаре
DESCRIPTION:
URL:https://miac.zdrav76.ru/event/%d0%a1%d0%b4%d0%b0%d1%87%d0%b0-%d0%b4%d0%b5%d0%b6%d1%83%d1%80%d1%81%d1%82%d0%b2-%d0%b7%d0%b0-%d0%bf%d1%80%d0%b5%d0%b4%d1%8b%d0%b4%d1%83%d1%89%d0%b8%d0%b9-%d0%b4%d0%b5%d0%bd%d1%8c-%d0%b2-%d1%81-129/
END:VEVENT
BEGIN:VEVENT
DTSTART;TZID=Europe/Moscow:20250128T090000
DTEND;TZID=Europe/Moscow:20250128T093000
DTSTAMP:20260421T005541
CREATED:20250123T051743Z
LAST-MODIFIED:20250123T051743Z
UID:31982-1738054800-1738056600@miac.zdrav76.ru
SUMMARY:Сдача дежурств за предыдущий день в стационаре
DESCRIPTION:
URL:https://miac.zdrav76.ru/event/%d0%a1%d0%b4%d0%b0%d1%87%d0%b0-%d0%b4%d0%b5%d0%b6%d1%83%d1%80%d1%81%d1%82%d0%b2-%d0%b7%d0%b0-%d0%bf%d1%80%d0%b5%d0%b4%d1%8b%d0%b4%d1%83%d1%89%d0%b8%d0%b9-%d0%b4%d0%b5%d0%bd%d1%8c-%d0%b2-%d1%81-130/
END:VEVENT
BEGIN:VEVENT
DTSTART;TZID=Europe/Moscow:20250128T130000
DTEND;TZID=Europe/Moscow:20250128T143000
DTSTAMP:20260421T005541
CREATED:20250123T052010Z
LAST-MODIFIED:20250123T052010Z
UID:31990-1738069200-1738074600@miac.zdrav76.ru
SUMMARY:Орг. совещание по проекту “Наставничество” с гл. внеш. специалистами МЗ ЯО
DESCRIPTION:
URL:https://miac.zdrav76.ru/event/%d0%9e%d1%80%d0%b3-%d1%81%d0%be%d0%b2%d0%b5%d1%89%d0%b0%d0%bd%d0%b8%d0%b5-%d0%bf%d0%be-%d0%bf%d1%80%d0%be%d0%b5%d0%ba%d1%82%d1%83-%d0%9d%d0%b0%d1%81%d1%82%d0%b0%d0%b2%d0%bd%d0%b8%d1%87%d0%b5-11/
END:VEVENT
BEGIN:VEVENT
DTSTART;TZID=Europe/Moscow:20250128T150000
DTEND;TZID=Europe/Moscow:20250128T163000
DTSTAMP:20260421T005541
CREATED:20250123T052053Z
LAST-MODIFIED:20250123T052053Z
UID:31992-1738076400-1738081800@miac.zdrav76.ru
SUMMARY:1С. Текущие проекты
DESCRIPTION:
URL:https://miac.zdrav76.ru/event/1%d0%a1-%d0%a2%d0%b5%d0%ba%d1%83%d1%89%d0%b8%d0%b5-%d0%bf%d1%80%d0%be%d0%b5%d0%ba%d1%82%d1%8b-5/
END:VEVENT
BEGIN:VEVENT
DTSTART;TZID=Europe/Moscow:20250129T090000
DTEND;TZID=Europe/Moscow:20250129T093000
DTSTAMP:20260421T005541
CREATED:20250123T051813Z
LAST-MODIFIED:20250123T051813Z
UID:31984-1738141200-1738143000@miac.zdrav76.ru
SUMMARY:Сдача дежурств за предыдущий день в стационаре
DESCRIPTION:
URL:https://miac.zdrav76.ru/event/%d0%a1%d0%b4%d0%b0%d1%87%d0%b0-%d0%b4%d0%b5%d0%b6%d1%83%d1%80%d1%81%d1%82%d0%b2-%d0%b7%d0%b0-%d0%bf%d1%80%d0%b5%d0%b4%d1%8b%d0%b4%d1%83%d1%89%d0%b8%d0%b9-%d0%b4%d0%b5%d0%bd%d1%8c-%d0%b2-%d1%81-131/
END:VEVENT
BEGIN:VEVENT
DTSTART;TZID=Europe/Moscow:20250130T090000
DTEND;TZID=Europe/Moscow:20250130T093000
DTSTAMP:20260421T005541
CREATED:20250123T051853Z
LAST-MODIFIED:20250123T051853Z
UID:31986-1738227600-1738229400@miac.zdrav76.ru
SUMMARY:Сдача дежурств за предыдущий день в стационаре
DESCRIPTION:
URL:https://miac.zdrav76.ru/event/%d0%a1%d0%b4%d0%b0%d1%87%d0%b0-%d0%b4%d0%b5%d0%b6%d1%83%d1%80%d1%81%d1%82%d0%b2-%d0%b7%d0%b0-%d0%bf%d1%80%d0%b5%d0%b4%d1%8b%d0%b4%d1%83%d1%89%d0%b8%d0%b9-%d0%b4%d0%b5%d0%bd%d1%8c-%d0%b2-%d1%81-132/
END:VEVENT
BEGIN:VEVENT
DTSTART;TZID=Europe/Moscow:20250130T130000
DTEND;TZID=Europe/Moscow:20250130T150000
DTSTAMP:20260421T005541
CREATED:20250128T135317Z
LAST-MODIFIED:20250128T135317Z
UID:32147-1738242000-1738249200@miac.zdrav76.ru
SUMMARY:Регистратура 1С Поликлиники
DESCRIPTION:
URL:https://miac.zdrav76.ru/event/%d0%a0%d0%b5%d0%b3%d0%b8%d1%81%d1%82%d1%80%d0%b0%d1%82%d1%83%d1%80%d0%b0-1%d0%a1-%d0%9f%d0%be%d0%bb%d0%b8%d0%ba%d0%bb%d0%b8%d0%bd%d0%b8%d0%ba%d0%b8/
END:VEVENT
BEGIN:VEVENT
DTSTART;TZID=Europe/Moscow:20250130T133000
DTEND;TZID=Europe/Moscow:20250130T150000
DTSTAMP:20260421T005541
CREATED:20250123T052204Z
LAST-MODIFIED:20250123T052204Z
UID:31994-1738243800-1738249200@miac.zdrav76.ru
SUMMARY:Разговор гл. внеш. спец-ов МЗ ЯО с врачами-терапевтами МР ЯО
DESCRIPTION:
URL:https://miac.zdrav76.ru/event/%d0%a0%d0%b0%d0%b7%d0%b3%d0%be%d0%b2%d0%be%d1%80-%d0%b3%d0%bb-%d0%b2%d0%bd%d0%b5%d1%88-%d1%81%d0%bf%d0%b5%d1%86-%d0%be%d0%b2-%d0%9c%d0%97-%d0%af%d0%9e-%d1%81-%d0%b2%d1%80%d0%b0%d1%87%d0%b0%d0%bc-2/
END:VEVENT
BEGIN:VEVENT
DTSTART;TZID=Europe/Moscow:20250130T150000
DTEND;TZID=Europe/Moscow:20250130T160000
DTSTAMP:20260421T005541
CREATED:20250123T052316Z
LAST-MODIFIED:20250123T052316Z
UID:31996-1738249200-1738252800@miac.zdrav76.ru
SUMMARY:РТК. РИС/ЦАМИ\, СМП
DESCRIPTION:
URL:https://miac.zdrav76.ru/event/%d0%a0%d0%a2%d0%9a-%d0%a0%d0%98%d0%a1-%d0%a6%d0%90%d0%9c%d0%98-%d0%a1%d0%9c%d0%9f-26/
END:VEVENT
BEGIN:VEVENT
DTSTART;TZID=Europe/Moscow:20250131T090000
DTEND;TZID=Europe/Moscow:20250131T093000
DTSTAMP:20260421T005541
CREATED:20250123T051917Z
LAST-MODIFIED:20250123T051917Z
UID:31988-1738314000-1738315800@miac.zdrav76.ru
SUMMARY:Сдача дежурств за предыдущий день в стационаре
DESCRIPTION:
URL:https://miac.zdrav76.ru/event/%d0%a1%d0%b4%d0%b0%d1%87%d0%b0-%d0%b4%d0%b5%d0%b6%d1%83%d1%80%d1%81%d1%82%d0%b2-%d0%b7%d0%b0-%d0%bf%d1%80%d0%b5%d0%b4%d1%8b%d0%b4%d1%83%d1%89%d0%b8%d0%b9-%d0%b4%d0%b5%d0%bd%d1%8c-%d0%b2-%d1%81-133/
END:VEVENT
BEGIN:VEVENT
DTSTART;TZID=Europe/Moscow:20250131T120000
DTEND;TZID=Europe/Moscow:20250131T130000
DTSTAMP:20260421T005541
CREATED:20250123T052414Z
LAST-MODIFIED:20250123T052414Z
UID:31998-1738324800-1738328400@miac.zdrav76.ru
SUMMARY:Рабочее совещание с ЦАОП ЯО
DESCRIPTION:
URL:https://miac.zdrav76.ru/event/%d0%a0%d0%b0%d0%b1%d0%be%d1%87%d0%b5%d0%b5-%d1%81%d0%be%d0%b2%d0%b5%d1%89%d0%b0%d0%bd%d0%b8%d0%b5-%d1%81-%d0%a6%d0%90%d0%9e%d0%9f-%d0%af%d0%9e-19/
END:VEVENT
BEGIN:VEVENT
DTSTART;TZID=Europe/Moscow:20250203T090000
DTEND;TZID=Europe/Moscow:20250203T093000
DTSTAMP:20260421T005541
CREATED:20250130T115246Z
LAST-MODIFIED:20250130T115246Z
UID:32155-1738573200-1738575000@miac.zdrav76.ru
SUMMARY:Сдача дежурств за предыдущий день в стационаре
DESCRIPTION:
URL:https://miac.zdrav76.ru/event/%d0%a1%d0%b4%d0%b0%d1%87%d0%b0-%d0%b4%d0%b5%d0%b6%d1%83%d1%80%d1%81%d1%82%d0%b2-%d0%b7%d0%b0-%d0%bf%d1%80%d0%b5%d0%b4%d1%8b%d0%b4%d1%83%d1%89%d0%b8%d0%b9-%d0%b4%d0%b5%d0%bd%d1%8c-%d0%b2-%d1%81-134/
END:VEVENT
END:VCALENDAR