BEGIN:VCALENDAR
VERSION:2.0
PRODID:-//ГБУЗ ЯО &quot;Медицинский информационно-аналитический центр&quot; - ECPv6.15.17.1//NONSGML v1.0//EN
CALSCALE:GREGORIAN
METHOD:PUBLISH
X-WR-CALNAME:ГБУЗ ЯО &quot;Медицинский информационно-аналитический центр&quot;
X-ORIGINAL-URL:https://miac.zdrav76.ru
X-WR-CALDESC:Мероприятия для ГБУЗ ЯО &quot;Медицинский информационно-аналитический центр&quot;
REFRESH-INTERVAL;VALUE=DURATION:PT1H
X-Robots-Tag:noindex
X-PUBLISHED-TTL:PT1H
BEGIN:VTIMEZONE
TZID:Europe/Moscow
BEGIN:STANDARD
TZOFFSETFROM:+0300
TZOFFSETTO:+0300
TZNAME:MSK
DTSTART:20240101T000000
END:STANDARD
END:VTIMEZONE
BEGIN:VEVENT
DTSTART;TZID=Europe/Moscow:20250228T090000
DTEND;TZID=Europe/Moscow:20250228T093000
DTSTAMP:20260420T233322
CREATED:20250220T055037Z
LAST-MODIFIED:20250220T055037Z
UID:32573-1740733200-1740735000@miac.zdrav76.ru
SUMMARY:Сдача дежурств за предыдущий день в стационаре
DESCRIPTION:
URL:https://miac.zdrav76.ru/event/%d0%a1%d0%b4%d0%b0%d1%87%d0%b0-%d0%b4%d0%b5%d0%b6%d1%83%d1%80%d1%81%d1%82%d0%b2-%d0%b7%d0%b0-%d0%bf%d1%80%d0%b5%d0%b4%d1%8b%d0%b4%d1%83%d1%89%d0%b8%d0%b9-%d0%b4%d0%b5%d0%bd%d1%8c-%d0%b2-%d1%81-153/
END:VEVENT
BEGIN:VEVENT
DTSTART;TZID=Europe/Moscow:20250228T100000
DTEND;TZID=Europe/Moscow:20250228T120000
DTSTAMP:20260420T233322
CREATED:20250227T052518Z
LAST-MODIFIED:20250227T052518Z
UID:32694-1740736800-1740744000@miac.zdrav76.ru
SUMMARY:Дополнительные заявки на ЛЛО
DESCRIPTION:
URL:https://miac.zdrav76.ru/event/%d0%94%d0%be%d0%bf%d0%be%d0%bb%d0%bd%d0%b8%d1%82%d0%b5%d0%bb%d1%8c%d0%bd%d1%8b%d0%b5-%d0%b7%d0%b0%d1%8f%d0%b2%d0%ba%d0%b8-%d0%bd%d0%b0-%d0%9b%d0%9b%d0%9e/
END:VEVENT
BEGIN:VEVENT
DTSTART;TZID=Europe/Moscow:20250228T130000
DTEND;TZID=Europe/Moscow:20250228T150000
DTSTAMP:20260420T233322
CREATED:20250227T092237Z
LAST-MODIFIED:20250227T092237Z
UID:32762-1740747600-1740754800@miac.zdrav76.ru
SUMMARY:Внедрение скрининга колоректального рака в МО ЯО
DESCRIPTION:
URL:https://miac.zdrav76.ru/event/%d0%92%d0%bd%d0%b5%d0%b4%d1%80%d0%b5%d0%bd%d0%b8%d0%b5-%d1%81%d0%ba%d1%80%d0%b8%d0%bd%d0%b8%d0%bd%d0%b3%d0%b0-%d0%ba%d0%be%d0%bb%d0%be%d1%80%d0%b5%d0%ba%d1%82%d0%b0%d0%bb%d1%8c%d0%bd%d0%be%d0%b3%d0%be/
END:VEVENT
BEGIN:VEVENT
DTSTART;TZID=Europe/Moscow:20250303T090000
DTEND;TZID=Europe/Moscow:20250303T093000
DTSTAMP:20260420T233322
CREATED:20250227T052651Z
LAST-MODIFIED:20250227T052651Z
UID:32696-1740992400-1740994200@miac.zdrav76.ru
SUMMARY:Сдача дежурств за предыдущий день в стационаре
DESCRIPTION:
URL:https://miac.zdrav76.ru/event/%d0%a1%d0%b4%d0%b0%d1%87%d0%b0-%d0%b4%d0%b5%d0%b6%d1%83%d1%80%d1%81%d1%82%d0%b2-%d0%b7%d0%b0-%d0%bf%d1%80%d0%b5%d0%b4%d1%8b%d0%b4%d1%83%d1%89%d0%b8%d0%b9-%d0%b4%d0%b5%d0%bd%d1%8c-%d0%b2-%d1%81-154/
END:VEVENT
BEGIN:VEVENT
DTSTART;TZID=Europe/Moscow:20250303T180000
DTEND;TZID=Europe/Moscow:20250303T190000
DTSTAMP:20260420T233322
CREATED:20250207T084130Z
LAST-MODIFIED:20250207T084130Z
UID:32325-1741024800-1741028400@miac.zdrav76.ru
SUMMARY:МЗ ЯО_МЦР ЯО
DESCRIPTION:
URL:https://miac.zdrav76.ru/event/%d0%9c%d0%97-%d0%af%d0%9e_%d0%9c%d0%a6%d0%a0-%d0%af%d0%9e-2/
END:VEVENT
BEGIN:VEVENT
DTSTART;TZID=Europe/Moscow:20250304T090000
DTEND;TZID=Europe/Moscow:20250304T093000
DTSTAMP:20260420T233322
CREATED:20250227T052714Z
LAST-MODIFIED:20250227T052714Z
UID:32698-1741078800-1741080600@miac.zdrav76.ru
SUMMARY:Сдача дежурств за предыдущий день в стационаре
DESCRIPTION:
URL:https://miac.zdrav76.ru/event/%d0%a1%d0%b4%d0%b0%d1%87%d0%b0-%d0%b4%d0%b5%d0%b6%d1%83%d1%80%d1%81%d1%82%d0%b2-%d0%b7%d0%b0-%d0%bf%d1%80%d0%b5%d0%b4%d1%8b%d0%b4%d1%83%d1%89%d0%b8%d0%b9-%d0%b4%d0%b5%d0%bd%d1%8c-%d0%b2-%d1%81-155/
END:VEVENT
BEGIN:VEVENT
DTSTART;TZID=Europe/Moscow:20250304T100000
DTEND;TZID=Europe/Moscow:20250304T120000
DTSTAMP:20260420T233322
CREATED:20250303T115617Z
LAST-MODIFIED:20250303T115617Z
UID:32789-1741082400-1741089600@miac.zdrav76.ru
SUMMARY:Подготовка к координационному совету
DESCRIPTION:
URL:https://miac.zdrav76.ru/event/%d0%9f%d0%be%d0%b4%d0%b3%d0%be%d1%82%d0%be%d0%b2%d0%ba%d0%b0-%d0%ba-%d0%ba%d0%be%d0%be%d1%80%d0%b4%d0%b8%d0%bd%d0%b0%d1%86%d0%b8%d0%be%d0%bd%d0%bd%d0%be%d0%bc%d1%83-%d1%81%d0%be%d0%b2%d0%b5%d1%82/
END:VEVENT
BEGIN:VEVENT
DTSTART;TZID=Europe/Moscow:20250304T130000
DTEND;TZID=Europe/Moscow:20250304T143000
DTSTAMP:20260420T233322
CREATED:20250304T062408Z
LAST-MODIFIED:20250304T062408Z
UID:32796-1741093200-1741098600@miac.zdrav76.ru
SUMMARY:“Наставничество” с гл. внеш. специалистами МЗ ЯО
DESCRIPTION:
URL:https://miac.zdrav76.ru/event/%d0%9d%d0%b0%d1%81%d1%82%d0%b0%d0%b2%d0%bd%d0%b8%d1%87%d0%b5%d1%81%d1%82%d0%b2%d0%be-%d1%81-%d0%b3%d0%bb-%d0%b2%d0%bd%d0%b5%d1%88-%d1%81%d0%bf%d0%b5%d1%86%d0%b8%d0%b0%d0%bb%d0%b8-5/
END:VEVENT
BEGIN:VEVENT
DTSTART;TZID=Europe/Moscow:20250304T150000
DTEND;TZID=Europe/Moscow:20250304T163000
DTSTAMP:20260420T233322
CREATED:20250227T052936Z
LAST-MODIFIED:20250227T052936Z
UID:32706-1741100400-1741105800@miac.zdrav76.ru
SUMMARY:1С. Текущие проекты
DESCRIPTION:
URL:https://miac.zdrav76.ru/event/1%d0%a1-%d0%a2%d0%b5%d0%ba%d1%83%d1%89%d0%b8%d0%b5-%d0%bf%d1%80%d0%be%d0%b5%d0%ba%d1%82%d1%8b-10/
END:VEVENT
BEGIN:VEVENT
DTSTART;TZID=Europe/Moscow:20250305T090000
DTEND;TZID=Europe/Moscow:20250305T093000
DTSTAMP:20260420T233322
CREATED:20250227T052735Z
LAST-MODIFIED:20250227T052735Z
UID:32700-1741165200-1741167000@miac.zdrav76.ru
SUMMARY:Сдача дежурств за предыдущий день в стационаре
DESCRIPTION:
URL:https://miac.zdrav76.ru/event/%d0%a1%d0%b4%d0%b0%d1%87%d0%b0-%d0%b4%d0%b5%d0%b6%d1%83%d1%80%d1%81%d1%82%d0%b2-%d0%b7%d0%b0-%d0%bf%d1%80%d0%b5%d0%b4%d1%8b%d0%b4%d1%83%d1%89%d0%b8%d0%b9-%d0%b4%d0%b5%d0%bd%d1%8c-%d0%b2-%d1%81-156/
END:VEVENT
BEGIN:VEVENT
DTSTART;TZID=Europe/Moscow:20250305T100000
DTEND;TZID=Europe/Moscow:20250305T120000
DTSTAMP:20260420T233322
CREATED:20250303T132758Z
LAST-MODIFIED:20250303T132758Z
UID:32792-1741168800-1741176000@miac.zdrav76.ru
SUMMARY:Комиссия ГИБП
DESCRIPTION:
URL:https://miac.zdrav76.ru/event/%d0%9a%d0%be%d0%bc%d0%b8%d1%81%d1%81%d0%b8%d1%8f-%d0%93%d0%98%d0%91%d0%9f/
END:VEVENT
BEGIN:VEVENT
DTSTART;TZID=Europe/Moscow:20250306T090000
DTEND;TZID=Europe/Moscow:20250306T093000
DTSTAMP:20260420T233322
CREATED:20250227T052801Z
LAST-MODIFIED:20250227T052801Z
UID:32702-1741251600-1741253400@miac.zdrav76.ru
SUMMARY:Сдача дежурств за предыдущий день в стационаре
DESCRIPTION:
URL:https://miac.zdrav76.ru/event/%d0%a1%d0%b4%d0%b0%d1%87%d0%b0-%d0%b4%d0%b5%d0%b6%d1%83%d1%80%d1%81%d1%82%d0%b2-%d0%b7%d0%b0-%d0%bf%d1%80%d0%b5%d0%b4%d1%8b%d0%b4%d1%83%d1%89%d0%b8%d0%b9-%d0%b4%d0%b5%d0%bd%d1%8c-%d0%b2-%d1%81-157/
END:VEVENT
BEGIN:VEVENT
DTSTART;TZID=Europe/Moscow:20250306T133000
DTEND;TZID=Europe/Moscow:20250306T150000
DTSTAMP:20260420T233322
CREATED:20250227T053023Z
LAST-MODIFIED:20250227T053023Z
UID:32708-1741267800-1741273200@miac.zdrav76.ru
SUMMARY:Разговор гл. внеш. спец-ов МЗ ЯО с терапевтами МР ЯО
DESCRIPTION:
URL:https://miac.zdrav76.ru/event/%d0%a0%d0%b0%d0%b7%d0%b3%d0%be%d0%b2%d0%be%d1%80-%d0%b3%d0%bb-%d0%b2%d0%bd%d0%b5%d1%88-%d1%81%d0%bf%d0%b5%d1%86-%d0%be%d0%b2-%d0%9c%d0%97-%d0%af%d0%9e-%d1%81-%d1%82%d0%b5%d1%80%d0%b0%d0%bf%d0%b5-4/
END:VEVENT
BEGIN:VEVENT
DTSTART;TZID=Europe/Moscow:20250306T140000
DTEND;TZID=Europe/Moscow:20250306T150000
DTSTAMP:20260420T233322
CREATED:20250305T080445Z
LAST-MODIFIED:20250305T080445Z
UID:32850-1741269600-1741273200@miac.zdrav76.ru
SUMMARY:1С Поликлиника. Показ функционала (Акушерство)
DESCRIPTION:
URL:https://miac.zdrav76.ru/event/1%d0%a1-%d0%9f%d0%be%d0%bb%d0%b8%d0%ba%d0%bb%d0%b8%d0%bd%d0%b8%d0%ba%d0%b0-%d0%9f%d0%be%d0%ba%d0%b0%d0%b7-%d1%84%d1%83%d0%bd%d0%ba%d1%86%d0%b8%d0%be%d0%bd%d0%b0%d0%bb%d0%b0-%d0%90%d0%ba%d1%83%d1%88/
END:VEVENT
BEGIN:VEVENT
DTSTART;TZID=Europe/Moscow:20250306T150000
DTEND;TZID=Europe/Moscow:20250306T160000
DTSTAMP:20260420T233322
CREATED:20250227T053104Z
LAST-MODIFIED:20250227T053104Z
UID:32710-1741273200-1741276800@miac.zdrav76.ru
SUMMARY:РТК. РИС/ЦАМИ\, СМП
DESCRIPTION:
URL:https://miac.zdrav76.ru/event/%d0%a0%d0%a2%d0%9a-%d0%a0%d0%98%d0%a1-%d0%a6%d0%90%d0%9c%d0%98-%d0%a1%d0%9c%d0%9f-31/
END:VEVENT
BEGIN:VEVENT
DTSTART;TZID=Europe/Moscow:20250307T090000
DTEND;TZID=Europe/Moscow:20250307T093000
DTSTAMP:20260420T233322
CREATED:20250227T052819Z
LAST-MODIFIED:20250227T052819Z
UID:32704-1741338000-1741339800@miac.zdrav76.ru
SUMMARY:Сдача дежурств за предыдущий день в стационаре
DESCRIPTION:
URL:https://miac.zdrav76.ru/event/%d0%a1%d0%b4%d0%b0%d1%87%d0%b0-%d0%b4%d0%b5%d0%b6%d1%83%d1%80%d1%81%d1%82%d0%b2-%d0%b7%d0%b0-%d0%bf%d1%80%d0%b5%d0%b4%d1%8b%d0%b4%d1%83%d1%89%d0%b8%d0%b9-%d0%b4%d0%b5%d0%bd%d1%8c-%d0%b2-%d1%81-158/
END:VEVENT
BEGIN:VEVENT
DTSTART;TZID=Europe/Moscow:20250307T120000
DTEND;TZID=Europe/Moscow:20250307T130000
DTSTAMP:20260420T233322
CREATED:20250227T053147Z
LAST-MODIFIED:20250227T053147Z
UID:32713-1741348800-1741352400@miac.zdrav76.ru
SUMMARY:Рабочее совещание с ЦАОП ЯО
DESCRIPTION:
URL:https://miac.zdrav76.ru/event/%d0%a0%d0%b0%d0%b1%d0%be%d1%87%d0%b5%d0%b5-%d1%81%d0%be%d0%b2%d0%b5%d1%89%d0%b0%d0%bd%d0%b8%d0%b5-%d1%81-%d0%a6%d0%90%d0%9e%d0%9f-%d0%af%d0%9e-24/
END:VEVENT
BEGIN:VEVENT
DTSTART;TZID=Europe/Moscow:20250310T090000
DTEND;TZID=Europe/Moscow:20250310T093000
DTSTAMP:20260420T233322
CREATED:20250306T130430Z
LAST-MODIFIED:20250306T130430Z
UID:32880-1741597200-1741599000@miac.zdrav76.ru
SUMMARY:Сдача дежурств за предыдущий день в стационаре
DESCRIPTION:
URL:https://miac.zdrav76.ru/event/%d0%a1%d0%b4%d0%b0%d1%87%d0%b0-%d0%b4%d0%b5%d0%b6%d1%83%d1%80%d1%81%d1%82%d0%b2-%d0%b7%d0%b0-%d0%bf%d1%80%d0%b5%d0%b4%d1%8b%d0%b4%d1%83%d1%89%d0%b8%d0%b9-%d0%b4%d0%b5%d0%bd%d1%8c-%d0%b2-%d1%81-159/
END:VEVENT
BEGIN:VEVENT
DTSTART;TZID=Europe/Moscow:20250310T120000
DTEND;TZID=Europe/Moscow:20250310T130000
DTSTAMP:20260420T233322
CREATED:20250310T120135Z
LAST-MODIFIED:20250310T120135Z
UID:32955-1741608000-1741611600@miac.zdrav76.ru
SUMMARY:ЦТ. Организационные вопросы
DESCRIPTION:
URL:https://miac.zdrav76.ru/event/%d0%a6%d0%a2-%d0%9e%d1%80%d0%b3%d0%b0%d0%bd%d0%b8%d0%b7%d0%b0%d1%86%d0%b8%d0%be%d0%bd%d0%bd%d1%8b%d0%b5-%d0%b2%d0%be%d0%bf%d1%80%d0%be%d1%81%d1%8b-12/
END:VEVENT
BEGIN:VEVENT
DTSTART;TZID=Europe/Moscow:20250311T090000
DTEND;TZID=Europe/Moscow:20250311T093000
DTSTAMP:20260420T233322
CREATED:20250306T130449Z
LAST-MODIFIED:20250306T130449Z
UID:32883-1741683600-1741685400@miac.zdrav76.ru
SUMMARY:Сдача дежурств за предыдущий день в стационаре
DESCRIPTION:
URL:https://miac.zdrav76.ru/event/%d0%a1%d0%b4%d0%b0%d1%87%d0%b0-%d0%b4%d0%b5%d0%b6%d1%83%d1%80%d1%81%d1%82%d0%b2-%d0%b7%d0%b0-%d0%bf%d1%80%d0%b5%d0%b4%d1%8b%d0%b4%d1%83%d1%89%d0%b8%d0%b9-%d0%b4%d0%b5%d0%bd%d1%8c-%d0%b2-%d1%81-160/
END:VEVENT
BEGIN:VEVENT
DTSTART;TZID=Europe/Moscow:20250311T130000
DTEND;TZID=Europe/Moscow:20250311T143000
DTSTAMP:20260420T233322
CREATED:20250306T130627Z
LAST-MODIFIED:20250306T130627Z
UID:32892-1741698000-1741703400@miac.zdrav76.ru
SUMMARY:“Наставничество” с гл. внеш. специалистами МЗ ЯО
DESCRIPTION:
URL:https://miac.zdrav76.ru/event/%d0%9d%d0%b0%d1%81%d1%82%d0%b0%d0%b2%d0%bd%d0%b8%d1%87%d0%b5%d1%81%d1%82%d0%b2%d0%be-%d1%81-%d0%b3%d0%bb-%d0%b2%d0%bd%d0%b5%d1%88-%d1%81%d0%bf%d0%b5%d1%86%d0%b8%d0%b0%d0%bb%d0%b8-6/
END:VEVENT
BEGIN:VEVENT
DTSTART;TZID=Europe/Moscow:20250311T150000
DTEND;TZID=Europe/Moscow:20250311T163000
DTSTAMP:20260420T233322
CREATED:20250306T130740Z
LAST-MODIFIED:20250306T130740Z
UID:32894-1741705200-1741710600@miac.zdrav76.ru
SUMMARY:1С. Текущие проекты
DESCRIPTION:
URL:https://miac.zdrav76.ru/event/1%d0%a1-%d0%a2%d0%b5%d0%ba%d1%83%d1%89%d0%b8%d0%b5-%d0%bf%d1%80%d0%be%d0%b5%d0%ba%d1%82%d1%8b-11/
END:VEVENT
BEGIN:VEVENT
DTSTART;TZID=Europe/Moscow:20250311T160000
DTEND;TZID=Europe/Moscow:20250311T180000
DTSTAMP:20260420T233322
CREATED:20250306T060236Z
LAST-MODIFIED:20250306T060236Z
UID:32859-1741708800-1741716000@miac.zdrav76.ru
SUMMARY:Результаты выездного мероприятия НМИЦ кардиологии
DESCRIPTION:
URL:https://miac.zdrav76.ru/event/%d0%a0%d0%b5%d0%b7%d1%83%d0%bb%d1%8c%d1%82%d0%b0%d1%82%d1%8b-%d0%b2%d1%8b%d0%b5%d0%b7%d0%b4%d0%bd%d0%be%d0%b3%d0%be-%d0%bc%d0%b5%d1%80%d0%be%d0%bf%d1%80%d0%b8%d1%8f%d1%82%d0%b8%d1%8f-%d0%9d%d0%9c/
END:VEVENT
BEGIN:VEVENT
DTSTART;TZID=Europe/Moscow:20250312T090000
DTEND;TZID=Europe/Moscow:20250312T093000
DTSTAMP:20260420T233322
CREATED:20250306T130505Z
LAST-MODIFIED:20250306T130505Z
UID:32885-1741770000-1741771800@miac.zdrav76.ru
SUMMARY:Сдача дежурств за предыдущий день в стационаре
DESCRIPTION:
URL:https://miac.zdrav76.ru/event/%d0%a1%d0%b4%d0%b0%d1%87%d0%b0-%d0%b4%d0%b5%d0%b6%d1%83%d1%80%d1%81%d1%82%d0%b2-%d0%b7%d0%b0-%d0%bf%d1%80%d0%b5%d0%b4%d1%8b%d0%b4%d1%83%d1%89%d0%b8%d0%b9-%d0%b4%d0%b5%d0%bd%d1%8c-%d0%b2-%d1%81-161/
END:VEVENT
BEGIN:VEVENT
DTSTART;TZID=Europe/Moscow:20250312T100000
DTEND;TZID=Europe/Moscow:20250312T110000
DTSTAMP:20260420T233322
CREATED:20250312T054226Z
LAST-MODIFIED:20250312T054226Z
UID:32981-1741773600-1741777200@miac.zdrav76.ru
SUMMARY:Сверка участков (ТФОМС_ФРМО)
DESCRIPTION:
URL:https://miac.zdrav76.ru/event/%d0%a1%d0%b2%d0%b5%d1%80%d0%ba%d0%b0-%d1%83%d1%87%d0%b0%d1%81%d1%82%d0%ba%d0%be%d0%b2-%d0%a2%d0%a4%d0%9e%d0%9c%d0%a1_%d0%a4%d0%a0%d0%9c%d0%9e/
END:VEVENT
BEGIN:VEVENT
DTSTART;TZID=Europe/Moscow:20250312T110000
DTEND;TZID=Europe/Moscow:20250312T120000
DTSTAMP:20260420T233322
CREATED:20250312T054140Z
LAST-MODIFIED:20250312T054140Z
UID:32979-1741777200-1741780800@miac.zdrav76.ru
SUMMARY:ИКБ. Интеграция Акрросс и 1С
DESCRIPTION:
URL:https://miac.zdrav76.ru/event/%d0%98%d0%9a%d0%91-%d0%98%d0%bd%d1%82%d0%b5%d0%b3%d1%80%d0%b0%d1%86%d0%b8%d1%8f-%d0%90%d0%ba%d1%80%d1%80%d0%be%d1%81%d1%81-%d0%b8-1%d0%a1/
END:VEVENT
BEGIN:VEVENT
DTSTART;TZID=Europe/Moscow:20250312T130000
DTEND;TZID=Europe/Moscow:20250312T143000
DTSTAMP:20260420T233322
CREATED:20250312T052955Z
LAST-MODIFIED:20250312T053117Z
UID:32975-1741784400-1741789800@miac.zdrav76.ru
SUMMARY:1С Поликлиника. Направление на МСЭ
DESCRIPTION:
URL:https://miac.zdrav76.ru/event/1%d0%a1-%d0%9f%d0%be%d0%bb%d0%b8%d0%ba%d0%bb%d0%b8%d0%bd%d0%b8%d0%ba%d0%b0-%d0%9d%d0%b0%d0%bf%d1%80%d0%b0%d0%b2%d0%bb%d0%b5%d0%bd%d0%b8%d0%b5-%d0%bd%d0%b0-%d0%9c%d0%a1%d0%ad/
END:VEVENT
BEGIN:VEVENT
DTSTART;TZID=Europe/Moscow:20250313T090000
DTEND;TZID=Europe/Moscow:20250313T093000
DTSTAMP:20260420T233322
CREATED:20250306T130522Z
LAST-MODIFIED:20250306T130522Z
UID:32887-1741856400-1741858200@miac.zdrav76.ru
SUMMARY:Сдача дежурств за предыдущий день в стационаре
DESCRIPTION:
URL:https://miac.zdrav76.ru/event/%d0%a1%d0%b4%d0%b0%d1%87%d0%b0-%d0%b4%d0%b5%d0%b6%d1%83%d1%80%d1%81%d1%82%d0%b2-%d0%b7%d0%b0-%d0%bf%d1%80%d0%b5%d0%b4%d1%8b%d0%b4%d1%83%d1%89%d0%b8%d0%b9-%d0%b4%d0%b5%d0%bd%d1%8c-%d0%b2-%d1%81-162/
END:VEVENT
BEGIN:VEVENT
DTSTART;TZID=Europe/Moscow:20250313T100000
DTEND;TZID=Europe/Moscow:20250313T120000
DTSTAMP:20260420T233322
CREATED:20250313T091111Z
LAST-MODIFIED:20250313T091111Z
UID:33049-1741860000-1741867200@miac.zdrav76.ru
SUMMARY:Сверка участков (ТФОМС_ФРМО)
DESCRIPTION:
URL:https://miac.zdrav76.ru/event/%d0%a1%d0%b2%d0%b5%d1%80%d0%ba%d0%b0-%d1%83%d1%87%d0%b0%d1%81%d1%82%d0%ba%d0%be%d0%b2-%d0%a2%d0%a4%d0%9e%d0%9c%d0%a1_%d0%a4%d0%a0%d0%9c%d0%9e-3/
END:VEVENT
BEGIN:VEVENT
DTSTART;TZID=Europe/Moscow:20250313T130000
DTEND;TZID=Europe/Moscow:20250313T143000
DTSTAMP:20260420T233322
CREATED:20250312T053041Z
LAST-MODIFIED:20250312T053041Z
UID:32977-1741870800-1741876200@miac.zdrav76.ru
SUMMARY:1С Поликлиника. Диспансеризация
DESCRIPTION:
URL:https://miac.zdrav76.ru/event/1%d0%a1-%d0%9f%d0%be%d0%bb%d0%b8%d0%ba%d0%bb%d0%b8%d0%bd%d0%b8%d0%ba%d0%b0-%d0%94%d0%b8%d1%81%d0%bf%d0%b0%d0%bd%d1%81%d0%b5%d1%80%d0%b8%d0%b7%d0%b0%d1%86%d0%b8%d1%8f/
END:VEVENT
END:VCALENDAR