BEGIN:VCALENDAR
VERSION:2.0
PRODID:-//ГБУЗ ЯО &quot;Медицинский информационно-аналитический центр&quot; - ECPv6.15.17.1//NONSGML v1.0//EN
CALSCALE:GREGORIAN
METHOD:PUBLISH
X-WR-CALNAME:ГБУЗ ЯО &quot;Медицинский информационно-аналитический центр&quot;
X-ORIGINAL-URL:https://miac.zdrav76.ru
X-WR-CALDESC:Мероприятия для ГБУЗ ЯО &quot;Медицинский информационно-аналитический центр&quot;
REFRESH-INTERVAL;VALUE=DURATION:PT1H
X-Robots-Tag:noindex
X-PUBLISHED-TTL:PT1H
BEGIN:VTIMEZONE
TZID:Europe/Moscow
BEGIN:STANDARD
TZOFFSETFROM:+0300
TZOFFSETTO:+0300
TZNAME:MSK
DTSTART:20230101T000000
END:STANDARD
END:VTIMEZONE
BEGIN:VEVENT
DTSTART;TZID=Europe/Moscow:20240717T090000
DTEND;TZID=Europe/Moscow:20240717T100000
DTSTAMP:20260425T194901
CREATED:20240712T052143Z
LAST-MODIFIED:20240712T052143Z
UID:28337-1721206800-1721210400@miac.zdrav76.ru
SUMMARY:Сдача дежурств за предыдущий день в стационаре
DESCRIPTION:
URL:https://miac.zdrav76.ru/event/%d1%81%d0%b4%d0%b0%d1%87%d0%b0-%d0%b4%d0%b5%d0%b6%d1%83%d1%80%d1%81%d1%82%d0%b2-%d0%b7%d0%b0-%d0%bf%d1%80%d0%b5%d0%b4%d1%8b%d0%b4%d1%83%d1%89%d0%b8%d0%b9-%d0%b4%d0%b5%d0%bd%d1%8c-%d0%b2-%d1%81-41/
LOCATION:В режиме ВКС
END:VEVENT
BEGIN:VEVENT
DTSTART;TZID=Europe/Moscow:20240716T150000
DTEND;TZID=Europe/Moscow:20240716T170000
DTSTAMP:20260425T194901
CREATED:20240710T073147Z
LAST-MODIFIED:20240710T073147Z
UID:28284-1721142000-1721149200@miac.zdrav76.ru
SUMMARY:Самара. Текущие проекты
DESCRIPTION:
URL:https://miac.zdrav76.ru/event/%d1%81%d0%b0%d0%bc%d0%b0%d1%80%d0%b0-%d1%82%d0%b5%d0%ba%d1%83%d1%89%d0%b8%d0%b5-%d0%bf%d1%80%d0%be%d0%b5%d0%ba%d1%82%d1%8b-27/
LOCATION:В режиме ВКС
END:VEVENT
BEGIN:VEVENT
DTSTART;TZID=Europe/Moscow:20240716T090000
DTEND;TZID=Europe/Moscow:20240716T100000
DTSTAMP:20260425T194901
CREATED:20240712T052123Z
LAST-MODIFIED:20240712T052123Z
UID:28335-1721120400-1721124000@miac.zdrav76.ru
SUMMARY:Сдача дежурств за предыдущий день в стационаре
DESCRIPTION:
URL:https://miac.zdrav76.ru/event/%d1%81%d0%b4%d0%b0%d1%87%d0%b0-%d0%b4%d0%b5%d0%b6%d1%83%d1%80%d1%81%d1%82%d0%b2-%d0%b7%d0%b0-%d0%bf%d1%80%d0%b5%d0%b4%d1%8b%d0%b4%d1%83%d1%89%d0%b8%d0%b9-%d0%b4%d0%b5%d0%bd%d1%8c-%d0%b2-%d1%81-40/
LOCATION:В режиме ВКС
END:VEVENT
BEGIN:VEVENT
DTSTART;TZID=Europe/Moscow:20240715T090000
DTEND;TZID=Europe/Moscow:20240715T100000
DTSTAMP:20260425T194901
CREATED:20240712T052101Z
LAST-MODIFIED:20240712T052101Z
UID:28333-1721034000-1721037600@miac.zdrav76.ru
SUMMARY:Сдача дежурств за предыдущий день в стационаре
DESCRIPTION:
URL:https://miac.zdrav76.ru/event/%d1%81%d0%b4%d0%b0%d1%87%d0%b0-%d0%b4%d0%b5%d0%b6%d1%83%d1%80%d1%81%d1%82%d0%b2-%d0%b7%d0%b0-%d0%bf%d1%80%d0%b5%d0%b4%d1%8b%d0%b4%d1%83%d1%89%d0%b8%d0%b9-%d0%b4%d0%b5%d0%bd%d1%8c-%d0%b2-%d1%81-39/
LOCATION:В режиме ВКС
END:VEVENT
BEGIN:VEVENT
DTSTART;TZID=Europe/Moscow:20240712T140000
DTEND;TZID=Europe/Moscow:20240712T160000
DTSTAMP:20260425T194901
CREATED:20240712T051953Z
LAST-MODIFIED:20240712T051953Z
UID:28329-1720792800-1720800000@miac.zdrav76.ru
SUMMARY:Организация процесса взаимодействия РИС с 1С \, КС
DESCRIPTION:
URL:https://miac.zdrav76.ru/event/%d0%be%d1%80%d0%b3%d0%b0%d0%bd%d0%b8%d0%b7%d0%b0%d1%86%d0%b8%d1%8f-%d0%bf%d1%80%d0%be%d1%86%d0%b5%d1%81%d1%81%d0%b0-%d0%b2%d0%b7%d0%b0%d0%b8%d0%bc%d0%be%d0%b4%d0%b5%d0%b9%d1%81%d1%82%d0%b2%d0%b8%d1%8f/
LOCATION:В режиме ВКС
END:VEVENT
BEGIN:VEVENT
DTSTART;TZID=Europe/Moscow:20240712T120000
DTEND;TZID=Europe/Moscow:20240712T140000
DTSTAMP:20260425T194901
CREATED:20240712T051925Z
LAST-MODIFIED:20240712T051925Z
UID:28327-1720785600-1720792800@miac.zdrav76.ru
SUMMARY:Регистрация СЭМД в РЭМД
DESCRIPTION:
URL:https://miac.zdrav76.ru/event/%d1%80%d0%b5%d0%b3%d0%b8%d1%81%d1%82%d1%80%d0%b0%d1%86%d0%b8%d1%8f-%d1%81%d1%8d%d0%bc%d0%b4-%d0%b2-%d1%80%d1%8d%d0%bc%d0%b4/
LOCATION:В режиме ВКС
END:VEVENT
BEGIN:VEVENT
DTSTART;TZID=Europe/Moscow:20240712T090000
DTEND;TZID=Europe/Moscow:20240712T100000
DTSTAMP:20260425T194901
CREATED:20240705T101925Z
LAST-MODIFIED:20240705T101925Z
UID:28200-1720774800-1720778400@miac.zdrav76.ru
SUMMARY:Сдача дежурств за предыдущий день в стационаре
DESCRIPTION:
URL:https://miac.zdrav76.ru/event/%d1%81%d0%b4%d0%b0%d1%87%d0%b0-%d0%b4%d0%b5%d0%b6%d1%83%d1%80%d1%81%d1%82%d0%b2-%d0%b7%d0%b0-%d0%bf%d1%80%d0%b5%d0%b4%d1%8b%d0%b4%d1%83%d1%89%d0%b8%d0%b9-%d0%b4%d0%b5%d0%bd%d1%8c-%d0%b2-%d1%81-38/
LOCATION:В режиме ВКС
END:VEVENT
BEGIN:VEVENT
DTSTART;TZID=Europe/Moscow:20240711T140000
DTEND;TZID=Europe/Moscow:20240711T170000
DTSTAMP:20260425T194901
CREATED:20240710T073120Z
LAST-MODIFIED:20240710T073120Z
UID:28282-1720706400-1720717200@miac.zdrav76.ru
SUMMARY:РТК. РИС/ЦАМИ\, СМП
DESCRIPTION:
URL:https://miac.zdrav76.ru/event/%d1%80%d1%82%d0%ba-%d1%80%d0%b8%d1%81-%d1%86%d0%b0%d0%bc%d0%b8-%d1%81%d0%bc%d0%bf/
LOCATION:В режиме ВКС
END:VEVENT
BEGIN:VEVENT
DTSTART;TZID=Europe/Moscow:20240711T090000
DTEND;TZID=Europe/Moscow:20240711T100000
DTSTAMP:20260425T194901
CREATED:20240705T101901Z
LAST-MODIFIED:20240705T101901Z
UID:28198-1720688400-1720692000@miac.zdrav76.ru
SUMMARY:Сдача дежурств за предыдущий день в стационаре
DESCRIPTION:
URL:https://miac.zdrav76.ru/event/%d1%81%d0%b4%d0%b0%d1%87%d0%b0-%d0%b4%d0%b5%d0%b6%d1%83%d1%80%d1%81%d1%82%d0%b2-%d0%b7%d0%b0-%d0%bf%d1%80%d0%b5%d0%b4%d1%8b%d0%b4%d1%83%d1%89%d0%b8%d0%b9-%d0%b4%d0%b5%d0%bd%d1%8c-%d0%b2-%d1%81-37/
LOCATION:В режиме ВКС
END:VEVENT
BEGIN:VEVENT
DTSTART;TZID=Europe/Moscow:20240710T140000
DTEND;TZID=Europe/Moscow:20240710T170000
DTSTAMP:20260425T194901
CREATED:20240710T073016Z
LAST-MODIFIED:20240710T073016Z
UID:28278-1720620000-1720630800@miac.zdrav76.ru
SUMMARY:ВИМИС
DESCRIPTION:
URL:https://miac.zdrav76.ru/event/%d0%b2%d0%b8%d0%bc%d0%b8%d1%81-5/
LOCATION:В режиме ВКС
END:VEVENT
BEGIN:VEVENT
DTSTART;TZID=Europe/Moscow:20240710T100000
DTEND;TZID=Europe/Moscow:20240710T130000
DTSTAMP:20260425T194901
CREATED:20240710T073044Z
LAST-MODIFIED:20240710T073044Z
UID:28280-1720605600-1720616400@miac.zdrav76.ru
SUMMARY:ЦТ. Организационные вопросы
DESCRIPTION:
URL:https://miac.zdrav76.ru/event/%d1%86%d1%82-%d0%be%d1%80%d0%b3%d0%b0%d0%bd%d0%b8%d0%b7%d0%b0%d1%86%d0%b8%d0%be%d0%bd%d0%bd%d1%8b%d0%b5-%d0%b2%d0%be%d0%bf%d1%80%d0%be%d1%81%d1%8b-59/
LOCATION:В режиме ВКС
END:VEVENT
BEGIN:VEVENT
DTSTART;TZID=Europe/Moscow:20240710T090000
DTEND;TZID=Europe/Moscow:20240710T100000
DTSTAMP:20260425T194901
CREATED:20240705T101836Z
LAST-MODIFIED:20240705T101836Z
UID:28196-1720602000-1720605600@miac.zdrav76.ru
SUMMARY:Сдача дежурств за предыдущий день в стационаре
DESCRIPTION:
URL:https://miac.zdrav76.ru/event/%d1%81%d0%b4%d0%b0%d1%87%d0%b0-%d0%b4%d0%b5%d0%b6%d1%83%d1%80%d1%81%d1%82%d0%b2-%d0%b7%d0%b0-%d0%bf%d1%80%d0%b5%d0%b4%d1%8b%d0%b4%d1%83%d1%89%d0%b8%d0%b9-%d0%b4%d0%b5%d0%bd%d1%8c-%d0%b2-%d1%81-36/
LOCATION:В режиме ВКС
END:VEVENT
BEGIN:VEVENT
DTSTART;TZID=Europe/Moscow:20240709T150000
DTEND;TZID=Europe/Moscow:20240709T170000
DTSTAMP:20260425T194901
CREATED:20240703T121044Z
LAST-MODIFIED:20240703T121044Z
UID:28118-1720537200-1720544400@miac.zdrav76.ru
SUMMARY:Самара. Текущие проекты
DESCRIPTION:
URL:https://miac.zdrav76.ru/event/%d1%81%d0%b0%d0%bc%d0%b0%d1%80%d0%b0-%d1%82%d0%b5%d0%ba%d1%83%d1%89%d0%b8%d0%b5-%d0%bf%d1%80%d0%be%d0%b5%d0%ba%d1%82%d1%8b-26/
LOCATION:В режиме ВКС
END:VEVENT
BEGIN:VEVENT
DTSTART;TZID=Europe/Moscow:20240709T090000
DTEND;TZID=Europe/Moscow:20240709T100000
DTSTAMP:20260425T194901
CREATED:20240705T101811Z
LAST-MODIFIED:20240705T101811Z
UID:28194-1720515600-1720519200@miac.zdrav76.ru
SUMMARY:Сдача дежурств за предыдущий день в стационаре
DESCRIPTION:
URL:https://miac.zdrav76.ru/event/%d1%81%d0%b4%d0%b0%d1%87%d0%b0-%d0%b4%d0%b5%d0%b6%d1%83%d1%80%d1%81%d1%82%d0%b2-%d0%b7%d0%b0-%d0%bf%d1%80%d0%b5%d0%b4%d1%8b%d0%b4%d1%83%d1%89%d0%b8%d0%b9-%d0%b4%d0%b5%d0%bd%d1%8c-%d0%b2-%d1%81-35/
LOCATION:В режиме ВКС
END:VEVENT
BEGIN:VEVENT
DTSTART;TZID=Europe/Moscow:20240708T090000
DTEND;TZID=Europe/Moscow:20240708T100000
DTSTAMP:20260425T194901
CREATED:20240705T101715Z
LAST-MODIFIED:20240705T101715Z
UID:28192-1720429200-1720432800@miac.zdrav76.ru
SUMMARY:Сдача дежурств за предыдущий день в стационаре
DESCRIPTION:
URL:https://miac.zdrav76.ru/event/%d1%81%d0%b4%d0%b0%d1%87%d0%b0-%d0%b4%d0%b5%d0%b6%d1%83%d1%80%d1%81%d1%82%d0%b2-%d0%b7%d0%b0-%d0%bf%d1%80%d0%b5%d0%b4%d1%8b%d0%b4%d1%83%d1%89%d0%b8%d0%b9-%d0%b4%d0%b5%d0%bd%d1%8c-%d0%b2-%d1%81-34/
LOCATION:В режиме ВКС
END:VEVENT
BEGIN:VEVENT
DTSTART;TZID=Europe/Moscow:20240705T130000
DTEND;TZID=Europe/Moscow:20240705T150000
DTSTAMP:20260425T194901
CREATED:20240705T101627Z
LAST-MODIFIED:20240705T101627Z
UID:28190-1720184400-1720191600@miac.zdrav76.ru
SUMMARY:Приезд НМИЦ Терапии
DESCRIPTION:
URL:https://miac.zdrav76.ru/event/%d0%bf%d1%80%d0%b8%d0%b5%d0%b7%d0%b4-%d0%bd%d0%bc%d0%b8%d1%86-%d1%82%d0%b5%d1%80%d0%b0%d0%bf%d0%b8%d0%b8/
LOCATION:В режиме ВКС
END:VEVENT
BEGIN:VEVENT
DTSTART;TZID=Europe/Moscow:20240705T090000
DTEND;TZID=Europe/Moscow:20240705T093000
DTSTAMP:20260425T194901
CREATED:20240628T093408Z
LAST-MODIFIED:20240628T093408Z
UID:28020-1720170000-1720171800@miac.zdrav76.ru
SUMMARY:Сдача дежурств за предыдущий день в стационаре
DESCRIPTION:
URL:https://miac.zdrav76.ru/event/%d1%81%d0%b4%d0%b0%d1%87%d0%b0-%d0%b4%d0%b5%d0%b6%d1%83%d1%80%d1%81%d1%82%d0%b2-%d0%b7%d0%b0-%d0%bf%d1%80%d0%b5%d0%b4%d1%8b%d0%b4%d1%83%d1%89%d0%b8%d0%b9-%d0%b4%d0%b5%d0%bd%d1%8c-%d0%b2-%d1%81-33/
LOCATION:В режиме ВКС
END:VEVENT
BEGIN:VEVENT
DTSTART;TZID=Europe/Moscow:20240704T140000
DTEND;TZID=Europe/Moscow:20240704T170000
DTSTAMP:20260425T194901
CREATED:20240628T093524Z
LAST-MODIFIED:20240628T093524Z
UID:28024-1720101600-1720112400@miac.zdrav76.ru
SUMMARY:РТК. РИС/ЦАМИ
DESCRIPTION:
URL:https://miac.zdrav76.ru/event/%d1%80%d1%82%d0%ba-%d1%80%d0%b8%d1%81-%d1%86%d0%b0%d0%bc%d0%b8-14/
LOCATION:В режиме ВКС
END:VEVENT
BEGIN:VEVENT
DTSTART;TZID=Europe/Moscow:20240704T090000
DTEND;TZID=Europe/Moscow:20240704T093000
DTSTAMP:20260425T194901
CREATED:20240628T093343Z
LAST-MODIFIED:20240628T093343Z
UID:28018-1720083600-1720085400@miac.zdrav76.ru
SUMMARY:Сдача дежурств за предыдущий день в стационаре
DESCRIPTION:
URL:https://miac.zdrav76.ru/event/%d1%81%d0%b4%d0%b0%d1%87%d0%b0-%d0%b4%d0%b5%d0%b6%d1%83%d1%80%d1%81%d1%82%d0%b2-%d0%b7%d0%b0-%d0%bf%d1%80%d0%b5%d0%b4%d1%8b%d0%b4%d1%83%d1%89%d0%b8%d0%b9-%d0%b4%d0%b5%d0%bd%d1%8c-%d0%b2-%d1%81-32/
LOCATION:В режиме ВКС
END:VEVENT
BEGIN:VEVENT
DTSTART;TZID=Europe/Moscow:20240703T143000
DTEND;TZID=Europe/Moscow:20240703T170000
DTSTAMP:20260425T194901
CREATED:20240703T120902Z
LAST-MODIFIED:20240703T120902Z
UID:28116-1720017000-1720026000@miac.zdrav76.ru
SUMMARY:Эластография
DESCRIPTION:
URL:https://miac.zdrav76.ru/event/%d1%8d%d0%bb%d0%b0%d1%81%d1%82%d0%be%d0%b3%d1%80%d0%b0%d1%84%d0%b8%d1%8f/
LOCATION:В режиме ВКС
END:VEVENT
BEGIN:VEVENT
DTSTART;TZID=Europe/Moscow:20240703T090000
DTEND;TZID=Europe/Moscow:20240703T093000
DTSTAMP:20260425T194901
CREATED:20240628T093253Z
LAST-MODIFIED:20240628T093253Z
UID:28016-1719997200-1719999000@miac.zdrav76.ru
SUMMARY:Сдача дежурств за предыдущий день в стационаре
DESCRIPTION:
URL:https://miac.zdrav76.ru/event/%d1%81%d0%b4%d0%b0%d1%87%d0%b0-%d0%b4%d0%b5%d0%b6%d1%83%d1%80%d1%81%d1%82%d0%b2-%d0%b7%d0%b0-%d0%bf%d1%80%d0%b5%d0%b4%d1%8b%d0%b4%d1%83%d1%89%d0%b8%d0%b9-%d0%b4%d0%b5%d0%bd%d1%8c-%d0%b2-%d1%81-31/
LOCATION:В режиме ВКС
END:VEVENT
BEGIN:VEVENT
DTSTART;TZID=Europe/Moscow:20240702T150000
DTEND;TZID=Europe/Moscow:20240702T170000
DTSTAMP:20260425T194901
CREATED:20240628T093434Z
LAST-MODIFIED:20240628T093441Z
UID:28022-1719932400-1719939600@miac.zdrav76.ru
SUMMARY:Самара. Текущие проекты
DESCRIPTION:
URL:https://miac.zdrav76.ru/event/%d1%81%d0%b0%d0%bc%d0%b0%d1%80%d0%b0-%d1%82%d0%b5%d0%ba%d1%83%d1%89%d0%b8%d0%b5-%d0%bf%d1%80%d0%be%d0%b5%d0%ba%d1%82%d1%8b-25/
LOCATION:В режиме ВКС
END:VEVENT
BEGIN:VEVENT
DTSTART;TZID=Europe/Moscow:20240702T090000
DTEND;TZID=Europe/Moscow:20240702T093000
DTSTAMP:20260425T194901
CREATED:20240628T093231Z
LAST-MODIFIED:20240628T093231Z
UID:28014-1719910800-1719912600@miac.zdrav76.ru
SUMMARY:Сдача дежурств за предыдущий день в стационаре
DESCRIPTION:
URL:https://miac.zdrav76.ru/event/%d1%81%d0%b4%d0%b0%d1%87%d0%b0-%d0%b4%d0%b5%d0%b6%d1%83%d1%80%d1%81%d1%82%d0%b2-%d0%b7%d0%b0-%d0%bf%d1%80%d0%b5%d0%b4%d1%8b%d0%b4%d1%83%d1%89%d0%b8%d0%b9-%d0%b4%d0%b5%d0%bd%d1%8c-%d0%b2-%d1%81-30/
LOCATION:В режиме ВКС
END:VEVENT
BEGIN:VEVENT
DTSTART;TZID=Europe/Moscow:20240701T130000
DTEND;TZID=Europe/Moscow:20240701T140000
DTSTAMP:20260425T194901
CREATED:20240701T104851Z
LAST-MODIFIED:20240701T104851Z
UID:28072-1719838800-1719842400@miac.zdrav76.ru
SUMMARY:Приезд НМИЦ по Терапии
DESCRIPTION:
URL:https://miac.zdrav76.ru/event/%d0%bf%d1%80%d0%b8%d0%b5%d0%b7%d0%b4-%d0%bd%d0%bc%d0%b8%d1%86-%d0%bf%d0%be-%d1%82%d0%b5%d1%80%d0%b0%d0%bf%d0%b8%d0%b8/
LOCATION:В режиме ВКС
END:VEVENT
BEGIN:VEVENT
DTSTART;TZID=Europe/Moscow:20240701T110000
DTEND;TZID=Europe/Moscow:20240701T130000
DTSTAMP:20260425T194901
CREATED:20240701T104819Z
LAST-MODIFIED:20240701T104819Z
UID:28070-1719831600-1719838800@miac.zdrav76.ru
SUMMARY:Новая линейка нацпроектов
DESCRIPTION:
URL:https://miac.zdrav76.ru/event/%d0%bd%d0%be%d0%b2%d0%b0%d1%8f-%d0%bb%d0%b8%d0%bd%d0%b5%d0%b9%d0%ba%d0%b0-%d0%bd%d0%b0%d1%86%d0%bf%d1%80%d0%be%d0%b5%d0%ba%d1%82%d0%be%d0%b2/
LOCATION:В режиме ВКС
END:VEVENT
BEGIN:VEVENT
DTSTART;TZID=Europe/Moscow:20240701T090000
DTEND;TZID=Europe/Moscow:20240701T093000
DTSTAMP:20260425T194901
CREATED:20240628T093209Z
LAST-MODIFIED:20240628T093209Z
UID:28012-1719824400-1719826200@miac.zdrav76.ru
SUMMARY:Сдача дежурств за предыдущий день в стационаре
DESCRIPTION:
URL:https://miac.zdrav76.ru/event/%d1%81%d0%b4%d0%b0%d1%87%d0%b0-%d0%b4%d0%b5%d0%b6%d1%83%d1%80%d1%81%d1%82%d0%b2-%d0%b7%d0%b0-%d0%bf%d1%80%d0%b5%d0%b4%d1%8b%d0%b4%d1%83%d1%89%d0%b8%d0%b9-%d0%b4%d0%b5%d0%bd%d1%8c-%d0%b2-%d1%81-29/
LOCATION:В режиме ВКС
END:VEVENT
BEGIN:VEVENT
DTSTART;TZID=Europe/Moscow:20240628T143000
DTEND;TZID=Europe/Moscow:20240628T170000
DTSTAMP:20260425T194901
CREATED:20240628T061116Z
LAST-MODIFIED:20240628T061159Z
UID:28004-1719585000-1719594000@miac.zdrav76.ru
SUMMARY:Централизованные бак исследования. Исполнение Приказа МЗ ЯО от 10.06.2024 №743
DESCRIPTION:⚡️🔺 28.06.2024 (ПЯТНИЦА) в 14-30 🔺⚡️ состоится совещание под руководством Худоян З.Г. с ответственными исполнителями в режиме видеоконференцсвязи Trueconf.\n✅ Тема: Централизованные микробиологические(бактериологические) исследования. Исполнение Приказа МЗ ЯО от 10.06.2024 №743\n✅ Участники: Все лечебные МО\, указанные в Приказе\n✅ Перед началом ВКС проверить звук и работу камер.\n‼️ ‼️ ‼️ МО не подключающие камеры будет зафиксированы как не явившиеся на ВКС.\n✅ Техническая поддержка: (4852)20-54-09\, support@zdrav.yar.ru.\n✅ Календарь всех проводимых видеоконференций размещен на сайте ГБУЗ ЯО «ЦОЗиМП» https://ocmp.zdrav76.ru/events/
URL:https://miac.zdrav76.ru/event/%d1%86%d0%b5%d0%bd%d1%82%d1%80%d0%b0%d0%bb%d0%b8%d0%b7%d0%be%d0%b2%d0%b0%d0%bd%d0%bd%d1%8b%d0%b5-%d0%bc%d0%b8%d0%ba%d1%80%d0%be%d0%b1%d0%b8%d0%be%d0%bb%d0%be%d0%b3%d0%b8%d1%87%d0%b5%d1%81%d0%ba%d0%b8/
LOCATION:В режиме ВКС
END:VEVENT
BEGIN:VEVENT
DTSTART;TZID=Europe/Moscow:20240628T090000
DTEND;TZID=Europe/Moscow:20240628T120000
DTSTAMP:20260425T194901
CREATED:20240626T062051Z
LAST-MODIFIED:20240626T062101Z
UID:27939-1719565200-1719576000@miac.zdrav76.ru
SUMMARY:ЛЛО. Показ нового функционала
DESCRIPTION:
URL:https://miac.zdrav76.ru/event/%d0%bb%d0%bb%d0%be-%d0%bf%d0%be%d0%ba%d0%b0%d0%b7-%d0%bd%d0%be%d0%b2%d0%be%d0%b3%d0%be-%d1%84%d1%83%d0%bd%d0%ba%d1%86%d0%b8%d0%be%d0%bd%d0%b0%d0%bb%d0%b0/
LOCATION:В режиме ВКС
END:VEVENT
BEGIN:VEVENT
DTSTART;TZID=Europe/Moscow:20240628T090000
DTEND;TZID=Europe/Moscow:20240628T093000
DTSTAMP:20260425T194901
CREATED:20240624T114021Z
LAST-MODIFIED:20240624T114021Z
UID:27864-1719565200-1719567000@miac.zdrav76.ru
SUMMARY:Сдача дежурств за предыдущий день в стационаре
DESCRIPTION:
URL:https://miac.zdrav76.ru/event/%d1%81%d0%b4%d0%b0%d1%87%d0%b0-%d0%b4%d0%b5%d0%b6%d1%83%d1%80%d1%81%d1%82%d0%b2-%d0%b7%d0%b0-%d0%bf%d1%80%d0%b5%d0%b4%d1%8b%d0%b4%d1%83%d1%89%d0%b8%d0%b9-%d0%b4%d0%b5%d0%bd%d1%8c-%d0%b2-%d1%81-27/
LOCATION:В режиме ВКС
END:VEVENT
BEGIN:VEVENT
DTSTART;TZID=Europe/Moscow:20240627T153000
DTEND;TZID=Europe/Moscow:20240627T170000
DTSTAMP:20260425T194901
CREATED:20240627T120944Z
LAST-MODIFIED:20240627T120944Z
UID:27962-1719502200-1719507600@miac.zdrav76.ru
SUMMARY:Демографическая отчетность
DESCRIPTION:
URL:https://miac.zdrav76.ru/event/%d0%b4%d0%b5%d0%bc%d0%be%d0%b3%d1%80%d0%b0%d1%84%d0%b8%d1%87%d0%b5%d1%81%d0%ba%d0%b0%d1%8f-%d0%be%d1%82%d1%87%d0%b5%d1%82%d0%bd%d0%be%d1%81%d1%82%d1%8c/
LOCATION:В режиме ВКС
END:VEVENT
END:VCALENDAR